{"text_format":"1","workbook":"xlsx","n_sheets":8,"sheets":["Данные","Прибыль","Баланс","Кэш-фло","Анализ","Графики","SENS","Расчеты"],"not_rendered":{"charts":3,"images":0,"macros":1,"external_links":0,"defined_names":26,"comments":0,"pivot_tables":0},"unopened":[],"bounds":{"document_bytes":16777216,"sheet_cells":100000,"rows_first":2000,"rows_last":500,"rows_between":2000,"halvings":0,"cell_chars":16384,"cell_head_chars":4096},"cells_cut":0,"cells_raw":0,"read":"whole","date_system":"1900"}

{"sheet":"Данные","index":0,"n_rows":259,"n_cols":26,"rows_kept":259,"cut":false,"hidden":false,"merged":[]}
[]
["ПАРАМЕТРЫ ПРОЕКТА"]
[]
["Название проекта:"]
["Без названия"]
[]
["Дата начала проекта"]
["Число периодов"]
["Длительность периода"]
["-------------------------------------------------------------------------------------------------"]
["Число продуктов в проекте"]
["Наименования продуктов:","Ед. изм."]
["Продукт 1","шт."]
["Продукт 2","шт."]
["Продукт 3","шт."]
["Продукт 4","шт."]
["Продукт 5","шт."]
["Продукт 6","шт."]
["Продукт 7","шт."]
["Продукт 8","шт."]
["Продукт 9","шт."]
["Продукт 10","шт."]
["Продукт 11","шт."]
["Продукт 12","шт."]
["Продукт 13","шт."]
["Продукт 14","шт."]
["Продукт 15","шт."]
["Продукт 16","шт."]
["Продукт 17","шт."]
["Продукт 18","шт."]
["Продукт 19","шт."]
["Продукт 20","шт."]
["-------------------------------------------------------------------------------------------------"]
["Ставка дисконтирования",0]
["Язык финансовых отчетов:"]
[]
[]
["ПРОДАЖИ И ПРЯМЫЕ ИЗДЕРЖКИ"]
[]
["Объем продаж (в единицах продукции)","ед.",{"$f":"Расчеты!H4","v":"1 кв./2019"},{"$f":"Расчеты!H5","v":"2 кв./2019"},{"$f":"Расчеты!H6","v":"3 кв./2019"},{"$f":"Расчеты!H7","v":"4 кв./2019"},{"$f":"Расчеты!H8","v":"1 кв./2020"},{"$f":"Расчеты!H9","v":"2 кв./2020"},{"$f":"Расчеты!H10","v":"3 кв./2020"},{"$f":"Расчеты!H11","v":"4 кв./2020"},{"$f":"Расчеты!H12","v":"1 кв./2021"},{"$f":"Расчеты!H13","v":"2 кв./2021"},{"$f":"Расчеты!H14","v":"3 кв./2021"},{"$f":"Расчеты!$H$15","v":"4 кв./2021"},{"$f":"Расчеты!$H$16","v":"1 кв./2022"},{"$f":"Расчеты!$H$17","v":"2 кв./2022"},{"$f":"Расчеты!$H$18","v":"3 кв./2022"},{"$f":"Расчеты!$H$19","v":"4 кв./2022"},{"$f":"Расчеты!$H$20","v":"1 кв./2023"},{"$f":"Расчеты!$H$21","v":"2 кв./2023"},{"$f":"Расчеты!$H$22","v":"3 кв./2023"},{"$f":"Расчеты!$H$23","v":"4 кв./2023"},{"$f":"Расчеты!$H$24","v":"1 кв./2024"},{"$f":"Расчеты!$H$25","v":"2 кв./2024"},{"$f":"Расчеты!$H$26","v":"3 кв./2024"},{"$f":"Расчеты!$H$27","v":"4 кв./2024"}]
[{"$f":"A13","v":"Продукт 1"},{"$f":"\"в \" & B13","v":"в шт."},0,0,0,0,0,0,0,0,0,0,0,0,0,0,0,0,0,0,0,0,0,0,0,0]
[{"$f":"A14","v":"Продукт 2"},{"$f":"\"в \" & B14","v":"в шт."},0,0,0,0,0,0,0,0,0,0,0,0,0,0,0,0,0,0,0,0,0,0,0,0]
[{"$f":"A15","v":"Продукт 3"},{"$f":"\"в \" & B15","v":"в шт."},0,0,0,0,0,0,0,0,0,0,0,0,0,0,0,0,0,0,0,0,0,0,0,0]
[{"$f":"A16","v":"Продукт 4"},"в шт.",0,0,0,0,0,0,0,0,0,0,0,0,0,0,0,0,0,0,0,0,0,0,0,0]
[{"$f":"A17","v":"Продукт 5"},"в шт.",0,0,0,0,0,0,0,0,0,0,0,0,0,0,0,0,0,0,0,0,0,0,0,0]
["Продукт 6","в шт.",0,0,0,0,0,0,0,0,0,0,0,0,0,0,0,0,0,0,0,0,0,0,0,0]
["Продукт 7","в шт.",0,0,0,0,0,0,0,0,0,0,0,0,0,0,0,0,0,0,0,0,0,0,0,0]
["Продукт 8","в шт.",0,0,0,0,0,0,0,0,0,0,0,0,0,0,0,0,0,0,0,0,0,0,0,0]
["Продукт 9","в шт.",0,0,0,0,0,0,0,0,0,0,0,0,0,0,0,0,0,0,0,0,0,0,0,0]
["Продукт 10","в шт.",0,0,0,0,0,0,0,0,0,0,0,0,0,0,0,0,0,0,0,0,0,0,0,0]
["Продукт 11","в шт.",0,0,0,0,0,0,0,0,0,0,0,0,0,0,0,0,0,0,0,0,0,0,0,0]
["Продукт 12","в шт.",0,0,0,0,0,0,0,0,0,0,0,0,0,0,0,0,0,0,0,0,0,0,0,0]
["Продукт 13","в шт.",0,0,0,0,0,0,0,0,0,0,0,0,0,0,0,0,0,0,0,0,0,0,0,0]
["Продукт 14","в шт.",0,0,0,0,0,0,0,0,0,0,0,0,0,0,0,0,0,0,0,0,0,0,0,0]
["Продукт 15","в шт.",0,0,0,0,0,0,0,0,0,0,0,0,0,0,0,0,0,0,0,0,0,0,0,0]
["Продукт 16","в шт.",0,0,0,0,0,0,0,0,0,0,0,0,0,0,0,0,0,0,0,0,0,0,0,0]
["Продукт 17","в шт.",0,0,0,0,0,0,0,0,0,0,0,0,0,0,0,0,0,0,0,0,0,0,0,0]
["Продукт 18","в шт.",0,0,0,0,0,0,0,0,0,0,0,0,0,0,0,0,0,0,0,0,0,0,0,0]
["Продукт 19","в шт.",0,0,0,0,0,0,0,0,0,0,0,0,0,0,0,0,0,0,0,0,0,0,0,0]
["Продукт 20","в шт.",0,0,0,0,0,0,0,0,0,0,0,0,0,0,0,0,0,0,0,0,0,0,0,0]
[]
["Цена продажи (за единицу продукции)","$",{"$f":"C40","v":"1 кв./2019"},"2 кв./2019","3 кв./2019","4 кв./2019","1 кв./2020","2 кв./2020","3 кв./2020","4 кв./2020","1 кв./2021","2 кв./2021","3 кв./2021","4 кв./2021",{"$f":"O40","v":"1 кв./2022"},"2 кв./2022","3 кв./2022","4 кв./2022","1 кв./2023","2 кв./2023","3 кв./2023","4 кв./2023","1 кв./2024","2 кв./2024","3 кв./2024","4 кв./2024"]
[{"$f":"A13","v":"Продукт 1"},{"$f":"\"за 1 \" & B13","v":"за 1 шт."},0,0,0,0,0,0,0,0,0,0,0,0,0,0,0,0,0,0,0,0,0,0,0,0]
[{"$f":"A14","v":"Продукт 2"},{"$f":"\"за 1 \" & B14","v":"за 1 шт."},0,0,0,0,0,0,0,0,0,0,0,0,0,0,0,0,0,0,0,0,0,0,0,0]
[{"$f":"A15","v":"Продукт 3"},{"$f":"\"за 1 \" & B15","v":"за 1 шт."},0,0,0,0,0,0,0,0,0,0,0,0,0,0,0,0,0,0,0,0,0,0,0,0]
[{"$f":"A16","v":"Продукт 4"},"за 1 шт.",0,0,0,0,0,0,0,0,0,0,0,0,0,0,0,0,0,0,0,0,0,0,0,0]
[{"$f":"A17","v":"Продукт 5"},"за 1 шт.",0,0,0,0,0,0,0,0,0,0,0,0,0,0,0,0,0,0,0,0,0,0,0,0]
["Продукт 6","за 1 шт.",0,0,0,0,0,0,0,0,0,0,0,0,0,0,0,0,0,0,0,0,0,0,0,0]
["Продукт 7","за 1 шт.",0,0,0,0,0,0,0,0,0,0,0,0,0,0,0,0,0,0,0,0,0,0,0,0]
["Продукт 8","за 1 шт.",0,0,0,0,0,0,0,0,0,0,0,0,0,0,0,0,0,0,0,0,0,0,0,0]
["Продукт 9","за 1 шт.",0,0,0,0,0,0,0,0,0,0,0,0,0,0,0,0,0,0,0,0,0,0,0,0]
["Продукт 10","за 1 шт.",0,0,0,0,0,0,0,0,0,0,0,0,0,0,0,0,0,0,0,0,0,0,0,0]
["Продукт 11","за 1 шт.",0,0,0,0,0,0,0,0,0,0,0,0,0,0,0,0,0,0,0,0,0,0,0,0]
["Продукт 12","за 1 шт.",0,0,0,0,0,0,0,0,0,0,0,0,0,0,0,0,0,0,0,0,0,0,0,0]
["Продукт 13","за 1 шт.",0,0,0,0,0,0,0,0,0,0,0,0,0,0,0,0,0,0,0,0,0,0,0,0]
["Продукт 14","за 1 шт.",0,0,0,0,0,0,0,0,0,0,0,0,0,0,0,0,0,0,0,0,0,0,0,0]
["Продукт 15","за 1 шт.",0,0,0,0,0,0,0,0,0,0,0,0,0,0,0,0,0,0,0,0,0,0,0,0]
["Продукт 16","за 1 шт.",0,0,0,0,0,0,0,0,0,0,0,0,0,0,0,0,0,0,0,0,0,0,0,0]
["Продукт 17","за 1 шт.",0,0,0,0,0,0,0,0,0,0,0,0,0,0,0,0,0,0,0,0,0,0,0,0]
["Продукт 18","за 1 шт.",0,0,0,0,0,0,0,0,0,0,0,0,0,0,0,0,0,0,0,0,0,0,0,0]
["Продукт 19","за 1 шт.",0,0,0,0,0,0,0,0,0,0,0,0,0,0,0,0,0,0,0,0,0,0,0,0]
["Продукт 20","за 1 шт.",0,0,0,0,0,0,0,0,0,0,0,0,0,0,0,0,0,0,0,0,0,0,0,0]
[]
["Стоимость материалов (за ед. продукции)","$",{"$f":"C40","v":"1 кв./2019"},"2 кв./2019","3 кв./2019","4 кв./2019","1 кв./2020","2 кв./2020","3 кв./2020","4 кв./2020","1 кв./2021","2 кв./2021","3 кв./2021","4 кв./2021",{"$f":"O40","v":"1 кв./2022"},"2 кв./2022","3 кв./2022","4 кв./2022","1 кв./2023","2 кв./2023","3 кв./2023","4 кв./2023","1 кв./2024","2 кв./2024","3 кв./2024","4 кв./2024"]
[{"$f":"A13","v":"Продукт 1"},{"$f":"\"за 1 \" & B13","v":"за 1 шт."},0,0,60,0,0,0,0,0,0,0,0,0,0,0,0,0,0,0,0,0,0,0,0,0]
[{"$f":"A14","v":"Продукт 2"},{"$f":"\"за 1 \" & B14","v":"за 1 шт."},0,0,0,0,0,0,0,0,0,0,0,0,0,0,0,0,0,0,0,0,0,0,0,0]
[{"$f":"A15","v":"Продукт 3"},"за 1 шт.",0,0,0,0,0,0,0,0,0,0,0,0,0,0,0,0,0,0,0,0,0,0,0,0]
[{"$f":"A16","v":"Продукт 4"},"за 1 шт.",0,0,0,0,0,0,0,0,0,0,0,0,0,0,0,0,0,0,0,0,0,0,0,0]
[{"$f":"A17","v":"Продукт 5"},"за 1 шт.",0,0,0,0,0,0,0,0,0,0,0,0,0,0,0,0,0,0,0,0,0,0,0,0]
["Продукт 6","за 1 шт.",0,0,0,0,0,0,0,0,0,0,0,0,0,0,0,0,0,0,0,0,0,0,0,0]
["Продукт 7","за 1 шт.",0,0,0,0,0,0,0,0,0,0,0,0,0,0,0,0,0,0,0,0,0,0,0,0]
["Продукт 8","за 1 шт.",0,0,0,0,0,0,0,0,0,0,0,0,0,0,0,0,0,0,0,0,0,0,0,0]
["Продукт 9","за 1 шт.",0,0,0,0,0,0,0,0,0,0,0,0,0,0,0,0,0,0,0,0,0,0,0,0]
["Продукт 10","за 1 шт.",0,0,0,0,0,0,0,0,0,0,0,0,0,0,0,0,0,0,0,0,0,0,0,0]
["Продукт 11","за 1 шт.",0,0,0,0,0,0,0,0,0,0,0,0,0,0,0,0,0,0,0,0,0,0,0,0]
["Продукт 12","за 1 шт.",0,0,0,0,0,0,0,0,0,0,0,0,0,0,0,0,0,0,0,0,0,0,0,0]
["Продукт 13","за 1 шт.",0,0,0,0,0,0,0,0,0,0,0,0,0,0,0,0,0,0,0,0,0,0,0,0]
["Продукт 14","за 1 шт.",0,0,0,0,0,0,0,0,0,0,0,0,0,0,0,0,0,0,0,0,0,0,0,0]
["Продукт 15","за 1 шт.",0,0,0,0,0,0,0,0,0,0,0,0,0,0,0,0,0,0,0,0,0,0,0,0]
["Продукт 16","за 1 шт.",0,0,0,0,0,0,0,0,0,0,0,0,0,0,0,0,0,0,0,0,0,0,0,0]
["Продукт 17","за 1 шт.",0,0,0,0,0,0,0,0,0,0,0,0,0,0,0,0,0,0,0,0,0,0,0,0]
["Продукт 18","за 1 шт.",0,0,0,0,0,0,0,0,0,0,0,0,0,0,0,0,0,0,0,0,0,0,0,0]
["Продукт 19","за 1 шт.",0,0,0,0,0,0,0,0,0,0,0,0,0,0,0,0,0,0,0,0,0,0,0,0]
["Продукт 20","за 1 шт.",0,0,0,0,0,0,0,0,0,0,0,0,0,0,0,0,0,0,0,0,0,0,0,0]
[]
["Сдельная зарплата (за ед. продукции)","$",{"$f":"C40","v":"1 кв./2019"},{"$f":"D40","v":"2 кв./2019"},"3 кв./2019","4 кв./2019","1 кв./2020","2 кв./2020","3 кв./2020","4 кв./2020","1 кв./2021","2 кв./2021","3 кв./2021","4 кв./2021",{"$f":"O40","v":"1 кв./2022"},"2 кв./2022","3 кв./2022","4 кв./2022","1 кв./2023","2 кв./2023","3 кв./2023","4 кв./2023","1 кв./2024","2 кв./2024","3 кв./2024","4 кв./2024"]
[{"$f":"A13","v":"Продукт 1"},{"$f":"\"за 1 \" & B13","v":"за 1 шт."},0,0,0,0,0,0,0,0,0,0,0,0,0,0,0,0,0,0,0,0,0,0,0,0]
[{"$f":"A14","v":"Продукт 2"},{"$f":"\"за 1 \" & B14","v":"за 1 шт."},0,0,0,0,0,0,0,0,0,0,0,0,0,0,0,0,0,0,0,0,0,0,0,0]
["Продукт 3","за 1 шт.",0,0,0,0,0,0,0,0,0,0,0,0,0,0,0,0,0,0,0,0,0,0,0,0]
["Продукт 4","за 1 шт.",0,0,0,0,0,0,0,0,0,0,0,0,0,0,0,0,0,0,0,0,0,0,0,0]
["Продукт 5","за 1 шт.",0,0,0,0,0,0,0,0,0,0,0,0,0,0,0,0,0,0,0,0,0,0,0,0]
["Продукт 6","за 1 шт.",0,0,0,0,0,0,0,0,0,0,0,0,0,0,0,0,0,0,0,0,0,0,0,0]
["Продукт 7","за 1 шт.",0,0,0,0,0,0,0,0,0,0,0,0,0,0,0,0,0,0,0,0,0,0,0,0]
["Продукт 8","за 1 шт.",0,0,0,0,0,0,0,0,0,0,0,0,0,0,0,0,0,0,0,0,0,0,0,0]
["Продукт 9","за 1 шт.",0,0,0,0,0,0,0,0,0,0,0,0,0,0,0,0,0,0,0,0,0,0,0,0]
["Продукт 10","за 1 шт.",0,0,0,0,0,0,0,0,0,0,0,0,0,0,0,0,0,0,0,0,0,0,0,0]
["Продукт 11","за 1 шт.",0,0,0,0,0,0,0,0,0,0,0,0,0,0,0,0,0,0,0,0,0,0,0,0]
["Продукт 12","за 1 шт.",0,0,0,0,0,0,0,0,0,0,0,0,0,0,0,0,0,0,0,0,0,0,0,0]
["Продукт 13","за 1 шт.",0,0,0,0,0,0,0,0,0,0,0,0,0,0,0,0,0,0,0,0,0,0,0,0]
["Продукт 14","за 1 шт.",0,0,0,0,0,0,0,0,0,0,0,0,0,0,0,0,0,0,0,0,0,0,0,0]
["Продукт 15","за 1 шт.",0,0,0,0,0,0,0,0,0,0,0,0,0,0,0,0,0,0,0,0,0,0,0,0]
["Продукт 16","за 1 шт.",0,0,0,0,0,0,0,0,0,0,0,0,0,0,0,0,0,0,0,0,0,0,0,0]
["Продукт 17","за 1 шт.",0,0,0,0,0,0,0,0,0,0,0,0,0,0,0,0,0,0,0,0,0,0,0,0]
["Продукт 18","за 1 шт.",0,0,0,0,0,0,0,0,0,0,0,0,0,0,0,0,0,0,0,0,0,0,0,0]
["Продукт 19","за 1 шт.",0,0,0,0,0,0,0,0,0,0,0,0,0,0,0,0,0,0,0,0,0,0,0,0]
["Продукт 20","за 1 шт.",0,0,0,0,0,0,0,0,0,0,0,0,0,0,0,0,0,0,0,0,0,0,0,0]
[]
["ОБЩИЕ ИЗДЕРЖКИ"]
[]
["Параметры производства и продаж","в днях"]
["Оборачиваемость запасов",0]
["Оборачиваемость дебиторской задолженности",0]
["Оборачиваемость кредиторской задолженности",0]
[]
["Постоянные издержки","$",{"$f":"C40","v":"1 кв./2019"},"2 кв./2019","3 кв./2019","4 кв./2019","1 кв./2020","2 кв./2020","3 кв./2020","4 кв./2020","1 кв./2021","2 кв./2021","3 кв./2021","4 кв./2021",{"$f":"O40","v":"1 кв./2022"},"2 кв./2022","3 кв./2022","4 кв./2022","1 кв./2023","2 кв./2023","3 кв./2023","4 кв./2023","1 кв./2024","2 кв./2024","3 кв./2024","4 кв./2024"]
["Заработная плата",null,0,0,0,0,0,0,0,0,0,0,0,0,0,0,0,0,0,0,0,0,0,0,0,0]
["Премиальные от оборота","%",0,0,0,0,0,0,0,0,0,0,0,0,0,0,0,0,0,0,0,0,0,0,0,0]
["Производственные издержки",null,0,0,0,0,0,0,0,0,0,0,0,0,0,0,0,0,0,0,0,0,0,0,0,0]
["Административные и офисные издержки",null,0,0,0,0,0,0,0,0,0,0,0,0,0,0,0,0,0,0,0,0,0,0,0,0]
["Маркетинговые издержки",null,0,0,0,0,0,0,0,0,0,0,0,0,0,0,0,0,0,0,0,0,0,0,0,0]
["Прочие расходы",null,0,0,0,0,0,0,0,0,0,0,0,0,0,0,0,0,0,0,0,0,0,0,0,0]
[]
["НАЛОГИ И ОТЧИСЛЕНИЯ"]
[]
["Налоги","в %"]
["Налог на прибыль",0.24]
["Налог на добавленную стоимость",0.2]
["Налог на имущество",0]
["Налоги с оборота",0]
["Социальные отчисления с зарплаты",0.23]
[]
["Годовые нормы амортизации","%"]
["здания и сооружения ",0.05]
["оборудование",0.33]
["транспортные средства",0.1]
["оргтехника",0.2]
["прочие ОС",0.2]
[]
["НАЧАЛЬНЫЙ БАЛАНС"]
[]
["Курс доллара на момент начала проекта",65,"руб. за 1$"]
[]
["Внеоборотные активы","руб.","$"]
["Основные средства",{"$f":"SUM(B165:B169)","v":0},{"$f":"SUM(C165:C169)","v":0}]
["    здания и сооружения ",0,{"$f":"B165/B161","v":0}]
["    оборудование",0,{"$f":"B166/B161","v":0}]
["    транспортные средства",0,{"$f":"B167/B161","v":0}]
["    оргтехника",0,{"$f":"B168/B161","v":0}]
["    прочие ОС",0,{"$f":"B169/B161","v":0}]
["Незавершенное строительство",0,{"$f":"B170/B161","v":0}]
["Прочие активы ",0,{"$f":"B171/B161","v":0}]
["ИТОГО",{"$f":"B164+B170+B171","v":0},{"$f":"C164+C170+C171","v":0}]
["Оборотные Активы"]
["Запасы сырья",0,{"$f":"B174/B161","v":0}]
["Дебиторы",0,{"$f":"B175/B161","v":0}]
["Денежные средства",0,{"$f":"B176/B161","v":0}]
["Прочие оборотные активы",0,{"$f":"B177/B161","v":0}]
["Убытки отчетного года",0,{"$f":"B178/B161","v":0}]
["Убытки прошлых лет",0,{"$f":"B179/B161","v":0}]
["ИТОГО",{"$f":"SUM(B174:B179)","v":0},{"$f":"SUM(C174:C179)","v":0}]
[]
["СУММАРНЫЕ АКТИВЫ",{"$f":"B172+B180","v":0},{"$f":"C172+C180","v":0}]
[]
["Краткосрочные обязательства"]
["Кредиторская задолженность",0,{"$f":"B185/B161","v":0}]
["Долгосрочные обязательства"]
["Кредит 1",0,{"$f":"B187/B161","v":0}]
["Кредит 2",0,{"$f":"B188/B161","v":0}]
["Кредит 3",0,{"$f":"B189/B161","v":0}]
["ИТОГО",{"$f":"SUM(B187:B189)","v":0},{"$f":"SUM(C187:C189)","v":0}]
["Капитал"]
["Уставной капитал",0,{"$f":"B192/B161","v":0}]
["Резервы",0,{"$f":"B193/B161","v":0}]
["Прибыль отчетного периода",0,{"$f":"B194/B161","v":0}]
["Нераспределенная прибыль",0,{"$f":"B195/B161","v":0}]
["ИТОГО",{"$f":"SUM(B192:B195)","v":0},{"$f":"SUM(C192:C195)","v":0}]
[]
["СУММАРНЫЕ ОБЯЗАТЕЛЬСТВА И КАПИТАЛ",{"$f":"B185+B190+B196","v":0},{"$f":"C185+C190+C196","v":0}]
[]
["КАПИТАЛЬНЫЕ ВЛОЖЕНИЯ"]
[]
["Приобретение основных средств","$",{"$f":"C40","v":"1 кв./2019"},"2 кв./2019","3 кв./2019","4 кв./2019","1 кв./2020","2 кв./2020","3 кв./2020","4 кв./2020","1 кв./2021","2 кв./2021","3 кв./2021","4 кв./2021",{"$f":"O40","v":"1 кв./2022"},"2 кв./2022","3 кв./2022","4 кв./2022","1 кв./2023","2 кв./2023","3 кв./2023","4 кв./2023","1 кв./2024","2 кв./2024","3 кв./2024","4 кв./2024"]
["Здания и сооружения",null,0,0,0,0,0,0,0,0,0,0,0,0,0,0,0,0,0,0,0,0,0,0,0,0]
["Оборудование",null,0,0,0,0,0,0,0,0,0,0,0,0,0,0,0,0,0,0,0,0,0,0,0,0]
["Транспортные средства",null,0,0,0,0,0,0,0,0,0,0,0,0,0,0,0,0,0,0,0,0,0,0,0,0]
["Оргтехника",null,0,0,0,0,0,0,0,0,0,0,0,0,0,0,0,0,0,0,0,0,0,0,0,0]
["Прочие основные средства",null,0,0,0,0,0,0,0,0,0,0,0,0,0,0,0,0,0,0,0,0,0,0,0,0]
["Всего приобретение ОС",null,{"$f":"SUM(C203:C207)","v":0},0,0,0,0,0,0,0,0,0,0,0,{"$f":"SUM(O203:O207)","v":0},0,0,0,0,0,0,0,0,0,0,0]
[]
["Строительство","$",{"$f":"C40","v":"1 кв./2019"},"2 кв./2019","3 кв./2019","4 кв./2019","1 кв./2020","2 кв./2020","3 кв./2020","4 кв./2020","1 кв./2021","2 кв./2021","3 кв./2021","4 кв./2021",{"$f":"O40","v":"1 кв./2022"},"2 кв./2022","3 кв./2022","4 кв./2022","1 кв./2023","2 кв./2023","3 кв./2023","4 кв./2023","1 кв./2024","2 кв./2024","3 кв./2024","4 кв./2024"]
["Строительные работы",null,0,0,0,0,0,0,0,0,0,0,0,0,0,0,0,0,0,0,0,0,0,0,0,0]
["Прочие расходы",null,0,0,0,0,0,0,0,0,0,0,0,0,0,0,0,0,0,0,0,0,0,0,0,0]
["Ввод в эксплуатацию",null,0,0,0,0,0,0,0,0,0,0,0,0,0,0,0,0,0,0,0,0,0,0,0,0]
[]
["Итого строительство",null,{"$f":"SUM(C211:C212)","v":0},0,0,0,0,0,0,0,0,0,0,0,{"$f":"SUM(O211:O212)","v":0},0,0,0,0,0,0,0,0,0,0,0]
["Незавершенное строительство",{"$f":"C170","v":0},{"$f":"B216+C215-C213","v":0},0,0,0,0,0,0,0,0,0,0,0,{"$f":"N216+O215-O213","v":0},0,0,0,0,0,0,0,0,0,0,0]
[]
["Прочие капиталовложения",null,0,0,0,0,0,0,0,0,0,0,0,0,0,0,0,0,0,0,0,0,0,0,0,0]
[]
["ФИНАНСИРОВАНИЕ"]
[]
["Текущая потребность в капитале:",{"$f":"IF(CASH_DEFICIT<0,-CASH_DEFICIT,\"нет\")","v":"нет"},{"$f":"IF(MIN('Кэш-фло'!C23:N23)<0,\"USD\",\" \")","v":" "}]
[]
["График погашения долгов","$",{"$f":"C40","v":"1 кв./2019"},"2 кв./2019","3 кв./2019","4 кв./2019","1 кв./2020","2 кв./2020","3 кв./2020","4 кв./2020","1 кв./2021","2 кв./2021","3 кв./2021","4 кв./2021",{"$f":"O40","v":"1 кв./2022"},"2 кв./2022","3 кв./2022","4 кв./2022","1 кв./2023","2 кв./2023","3 кв./2023","4 кв./2023","1 кв./2024","2 кв./2024","3 кв./2024","4 кв./2024"]
[{"$f":"A187","v":"Кредит 1"}]
["Непогашенная сумма кредита",{"$f":"C187","v":0},{"$f":"B226+C227-C228","v":0},{"$f":"C226-D228+D227","v":0},{"$f":"D226-E228+E227","v":0},0,0,0,0,0,0,0,0,0,{"$f":"N226-O228+O227","v":0},0,0,0,0,0,0,0,0,0,0,0]
["Поступление ",null,0,0,0,0,0,0,0,0,0,0,0,0,0,0,0,0,0,0,0,0,0,0,0,0]
["Выплата основного долга",null,0,0,0,0,0,0,0,0,0,0,0,0,0,0,0,0,0,0,0,0,0,0,0,0]
["Годовая процентная ставка ",0,{"$f":"$B$229/12*Расчеты!B9","v":0},{"$f":"C229","v":0},0,0,0,0,0,0,0,0,0,0,{"$f":"N229","v":0},0,0,0,0,0,0,0,0,0,0,0]
["Сумма по процентам",null,{"$f":"C226*C229","v":0},0,0,0,0,0,0,0,0,0,0,0,{"$f":"O226*O229","v":0},0,0,0,0,0,0,0,0,0,0,0]
[{"$f":"A188","v":"Кредит 2"}]
["Непогашенная сумма кредита",{"$f":"C188","v":0},{"$f":"B232+C233-C234","v":0},{"$f":"C232+D233-D234","v":0},{"$f":"D232+E233-E234","v":0},0,0,0,0,0,0,0,0,0,{"$f":"N232+O233-O234","v":0},0,0,0,0,0,0,0,0,0,0,0]
["Поступление ",null,0,0,0,0,0,0,0,0,0,0,0,0,0,0,0,0,0,0,0,0,0,0,0,0]
["Выплата основного долга",null,0,0,0,0,0,0,0,0,0,0,0,0,0,0,0,0,0,0,0,0,0,0,0,0]
["Годовая процентная ставка ",0,{"$f":"B235/12*Расчеты!B9","v":0},{"$f":"C235","v":0},0,0,0,0,0,0,0,0,0,0,{"$f":"N235","v":0},0,0,0,0,0,0,0,0,0,0,0]
["Сумма по процентам",null,{"$f":"C235*C232","v":0},0,0,0,0,0,0,0,0,0,0,0,{"$f":"O235*O232","v":0},0,0,0,0,0,0,0,0,0,0,0]
[{"$f":"A189","v":"Кредит 3"}]
["Непогашенная сумма кредита",{"$f":"C189","v":0},{"$f":"B238+C239-C240","v":0},{"$f":"C238-D240+D239","v":0},{"$f":"D238-E240+E239","v":0},0,0,0,0,0,0,0,0,0,{"$f":"N238-O240+O239","v":0},0,0,0,0,0,0,0,0,0,0,0]
["Поступление ",null,0,0,0,0,0,0,0,0,0,0,0,0,0,0,0,0,0,0,0,0,0,0,0,0]
["Выплата основного долга",null,0,0,0,0,0,0,0,0,0,0,0,0,0,0,0,0,0,0,0,0,0,0,0,0]
["Годовая процентная ставка ",0,{"$f":"B241/12*Расчеты!B9","v":0},{"$f":"C241","v":0},0,0,0,0,0,0,0,0,0,0,{"$f":"N241","v":0},0,0,0,0,0,0,0,0,0,0,0]
["Сумма по процентам",null,{"$f":"C238*C241","v":0},0,0,0,0,0,0,0,0,0,0,0,{"$f":"O238*O241","v":0},0,0,0,0,0,0,0,0,0,0,0]
[]
["Итого Сумма по процентам",null,{"$f":"C230+C236+C242","v":0},0,0,0,0,0,0,0,0,0,0,0,{"$f":"O230+O236+O242","v":0},0,0,0,0,0,0,0,0,0,0,0]
["Итого Поступления",null,{"$f":"C227+C233+C239","v":0},0,0,0,0,0,0,0,0,0,0,0,{"$f":"O227+O233+O239","v":0},0,0,0,0,0,0,0,0,0,0,0]
["Итого Выплата основного долга",null,{"$f":"C228+C234+C240","v":0},0,0,0,0,0,0,0,0,0,0,0,{"$f":"O228+O234+O240","v":0},0,0,0,0,0,0,0,0,0,0,0]
["Итого Непогашенная сумма по займам",null,{"$f":"C226+C232+C238","v":0},0,0,0,0,0,0,0,0,0,0,0,{"$f":"O226+O232+O238","v":0},0,0,0,0,0,0,0,0,0,0,0]
[]
["Акционерный капитал","$"]
["Акционер 1",0]
["Акционер 2",0]
["Акционер 3",0]
["Акционер 4",0]
["Акционер 5",0]
[]
["ДОПОЛНИТЕЛЬНАЯ ИНФОРМАЦИЯ"]
[]
["Здесь Вы можете разместить свои собственные таблицы,"]
["детализирующие или уточняющие стандартный набор исходных данных"]

{"sheet":"Прибыль","index":1,"n_rows":28,"n_cols":26,"rows_kept":28,"cut":false,"hidden":false,"merged":[]}
["ОТЧЕТ О ПРИБЫЛЯХ И УБЫТКАХ","INCOME STATEMENT",{"$f":"Данные!C40","v":"1 кв./2019"},{"$f":"Данные!D40","v":"2 кв./2019"},{"$f":"Данные!E40","v":"3 кв./2019"},{"$f":"Данные!F40","v":"4 кв./2019"},{"$f":"Данные!G40","v":"1 кв./2020"},{"$f":"Данные!H40","v":"2 кв./2020"},{"$f":"Данные!I40","v":"3 кв./2020"},{"$f":"Данные!J40","v":"4 кв./2020"},{"$f":"Данные!K40","v":"1 кв./2021"},{"$f":"Данные!L40","v":"2 кв./2021"},{"$f":"Данные!M40","v":"3 кв./2021"},{"$f":"Данные!N40","v":"4 кв./2021"},{"$f":"Данные!O40","v":"1 кв./2022"},{"$f":"Данные!P40","v":"2 кв./2022"},{"$f":"Данные!Q40","v":"3 кв./2022"},{"$f":"Данные!R40","v":"4 кв./2022"},{"$f":"Данные!S40","v":"1 кв./2023"},{"$f":"Данные!T40","v":"2 кв./2023"},{"$f":"Данные!U40","v":"3 кв./2023"},{"$f":"Данные!V40","v":"4 кв./2023"},{"$f":"Данные!W40","v":"1 кв./2024"},{"$f":"Данные!X40","v":"2 кв./2024"},{"$f":"Данные!Y40","v":"3 кв./2024"},{"$f":"Данные!Z40","v":"4 кв./2024"}]
["Выручка (без НДС)","Net Sales",{"$f":"Анализ!B44/(1+VAT)","v":0},{"$f":"Анализ!C44/(1+VAT)","v":0},{"$f":"Анализ!D44/(1+VAT)","v":0},{"$f":"Анализ!E44/(1+VAT)","v":0},{"$f":"Анализ!F44/(1+VAT)","v":0},{"$f":"Анализ!G44/(1+VAT)","v":0},{"$f":"Анализ!H44/(1+VAT)","v":0},{"$f":"Анализ!I44/(1+VAT)","v":0},{"$f":"Анализ!J44/(1+VAT)","v":0},{"$f":"Анализ!K44/(1+VAT)","v":0},{"$f":"Анализ!L44/(1+VAT)","v":0},{"$f":"Анализ!M44/(1+VAT)","v":0},{"$f":"Анализ!N44/(1+VAT)","v":0},{"$f":"Анализ!O44/(1+VAT)","v":0},{"$f":"Анализ!P44/(1+VAT)","v":0},{"$f":"Анализ!Q44/(1+VAT)","v":0},{"$f":"Анализ!R44/(1+VAT)","v":0},{"$f":"Анализ!S44/(1+VAT)","v":0},{"$f":"Анализ!T44/(1+VAT)","v":0},{"$f":"Анализ!U44/(1+VAT)","v":0},{"$f":"Анализ!V44/(1+VAT)","v":0},{"$f":"Анализ!W44/(1+VAT)","v":0},{"$f":"Анализ!X44/(1+VAT)","v":0},{"$f":"Анализ!Y44/(1+VAT)","v":0}]
["Себестоимость продукции","Cost of Sales",{"$f":"SUM(C4,C5)","v":0},{"$f":"SUM(D4,D5)","v":0},0,0,0,0,0,0,0,0,0,0,{"$f":"SUM(O4,O5)","v":0},0,0,0,0,0,0,0,0,0,0,0]
["    материалы, комплектующие, товары","    Raw Materials and Components",{"$f":"Анализ!B65/(1+VAT)","v":0},{"$f":"Анализ!C65/(1+VAT)","v":0},{"$f":"Анализ!D65/(1+VAT)","v":0},{"$f":"Анализ!E65/(1+VAT)","v":0},{"$f":"Анализ!F65/(1+VAT)","v":0},{"$f":"Анализ!G65/(1+VAT)","v":0},{"$f":"Анализ!H65/(1+VAT)","v":0},{"$f":"Анализ!I65/(1+VAT)","v":0},{"$f":"Анализ!J65/(1+VAT)","v":0},{"$f":"Анализ!K65/(1+VAT)","v":0},{"$f":"Анализ!L65/(1+VAT)","v":0},{"$f":"Анализ!M65/(1+VAT)","v":0},{"$f":"Анализ!N65/(1+VAT)","v":0},{"$f":"Анализ!O65/(1+VAT)","v":0},{"$f":"Анализ!P65/(1+VAT)","v":0},{"$f":"Анализ!Q65/(1+VAT)","v":0},{"$f":"Анализ!R65/(1+VAT)","v":0},{"$f":"Анализ!S65/(1+VAT)","v":0},{"$f":"Анализ!T65/(1+VAT)","v":0},{"$f":"Анализ!U65/(1+VAT)","v":0},{"$f":"Анализ!V65/(1+VAT)","v":0},{"$f":"Анализ!W65/(1+VAT)","v":0},{"$f":"Анализ!X65/(1+VAT)","v":0},{"$f":"Анализ!Y65/(1+VAT)","v":0}]
["    сдельная оплата труда","    Direct Labor Costs",{"$f":"Анализ!B86*(1+Данные!$B$150)","v":0},{"$f":"Анализ!C86*(1+Данные!$B$150)","v":0},{"$f":"Анализ!D86*(1+Данные!$B$150)","v":0},{"$f":"Анализ!E86*(1+Данные!$B$150)","v":0},{"$f":"Анализ!F86*(1+Данные!$B$150)","v":0},{"$f":"Анализ!G86*(1+Данные!$B$150)","v":0},{"$f":"Анализ!H86*(1+Данные!$B$150)","v":0},{"$f":"Анализ!I86*(1+Данные!$B$150)","v":0},{"$f":"Анализ!J86*(1+Данные!$B$150)","v":0},{"$f":"Анализ!K86*(1+Данные!$B$150)","v":0},{"$f":"Анализ!L86*(1+Данные!$B$150)","v":0},{"$f":"Анализ!M86*(1+Данные!$B$150)","v":0},{"$f":"Анализ!N86*(1+Данные!$B$150)","v":0},{"$f":"Анализ!O86*(1+Данные!$B$150)","v":0},{"$f":"Анализ!P86*(1+Данные!$B$150)","v":0},{"$f":"Анализ!Q86*(1+Данные!$B$150)","v":0},{"$f":"Анализ!R86*(1+Данные!$B$150)","v":0},{"$f":"Анализ!S86*(1+Данные!$B$150)","v":0},{"$f":"Анализ!T86*(1+Данные!$B$150)","v":0},{"$f":"Анализ!U86*(1+Данные!$B$150)","v":0},{"$f":"Анализ!V86*(1+Данные!$B$150)","v":0},{"$f":"Анализ!W86*(1+Данные!$B$150)","v":0},{"$f":"Анализ!X86*(1+Данные!$B$150)","v":0},{"$f":"Анализ!Y86*(1+Данные!$B$150)","v":0}]
["Налоги с продаж","Taxes on Sales",{"$f":"Данные!$B$149*Прибыль!C2","v":0},{"$f":"Данные!$B$149*Прибыль!D2","v":0},{"$f":"Данные!$B$149*Прибыль!E2","v":0},{"$f":"Данные!$B$149*Прибыль!F2","v":0},{"$f":"Данные!$B$149*Прибыль!G2","v":0},{"$f":"Данные!$B$149*Прибыль!H2","v":0},{"$f":"Данные!$B$149*Прибыль!I2","v":0},{"$f":"Данные!$B$149*Прибыль!J2","v":0},{"$f":"Данные!$B$149*Прибыль!K2","v":0},{"$f":"Данные!$B$149*Прибыль!L2","v":0},{"$f":"Данные!$B$149*Прибыль!M2","v":0},{"$f":"Данные!$B$149*Прибыль!N2","v":0},{"$f":"Данные!$B$149*Прибыль!O2","v":0},{"$f":"Данные!$B$149*Прибыль!P2","v":0},{"$f":"Данные!$B$149*Прибыль!Q2","v":0},{"$f":"Данные!$B$149*Прибыль!R2","v":0},{"$f":"Данные!$B$149*Прибыль!S2","v":0},{"$f":"Данные!$B$149*Прибыль!T2","v":0},{"$f":"Данные!$B$149*Прибыль!U2","v":0},{"$f":"Данные!$B$149*Прибыль!V2","v":0},{"$f":"Данные!$B$149*Прибыль!W2","v":0},{"$f":"Данные!$B$149*Прибыль!X2","v":0},{"$f":"Данные!$B$149*Прибыль!Y2","v":0},{"$f":"Данные!$B$149*Прибыль!Z2","v":0}]
["ВАЛОВАЯ ПРИБЫЛЬ","GROSS PROFIT",{"$f":"C2-C3-C6","v":0},{"$f":"D2-D3-D6","v":0},0,0,0,0,0,0,0,0,0,0,{"$f":"O2-O3-O6","v":0},0,0,0,0,0,0,0,0,0,0,0]
["Налог на имущество","Tax on Property",{"$f":"Баланс!C7*Данные!$B$148/12*Расчеты!$B$9","v":0},{"$f":"Баланс!D7*Данные!$B$148/12*Расчеты!$B$9","v":0},{"$f":"Баланс!E7*Данные!$B$148/12*Расчеты!$B$9","v":0},{"$f":"Баланс!F7*Данные!$B$148/12*Расчеты!$B$9","v":0},{"$f":"Баланс!G7*Данные!$B$148/12*Расчеты!$B$9","v":0},{"$f":"Баланс!H7*Данные!$B$148/12*Расчеты!$B$9","v":0},{"$f":"Баланс!I7*Данные!$B$148/12*Расчеты!$B$9","v":0},{"$f":"Баланс!J7*Данные!$B$148/12*Расчеты!$B$9","v":0},{"$f":"Баланс!K7*Данные!$B$148/12*Расчеты!$B$9","v":0},{"$f":"Баланс!L7*Данные!$B$148/12*Расчеты!$B$9","v":0},{"$f":"Баланс!M7*Данные!$B$148/12*Расчеты!$B$9","v":0},{"$f":"Баланс!N7*Данные!$B$148/12*Расчеты!$B$9","v":0},{"$f":"Баланс!O7*Данные!$B$148/12*Расчеты!$B$9","v":0},{"$f":"Баланс!P7*Данные!$B$148/12*Расчеты!$B$9","v":0},{"$f":"Баланс!Q7*Данные!$B$148/12*Расчеты!$B$9","v":0},{"$f":"Баланс!R7*Данные!$B$148/12*Расчеты!$B$9","v":0},{"$f":"Баланс!S7*Данные!$B$148/12*Расчеты!$B$9","v":0},{"$f":"Баланс!T7*Данные!$B$148/12*Расчеты!$B$9","v":0},{"$f":"Баланс!U7*Данные!$B$148/12*Расчеты!$B$9","v":0},{"$f":"Баланс!V7*Данные!$B$148/12*Расчеты!$B$9","v":0},{"$f":"Баланс!W7*Данные!$B$148/12*Расчеты!$B$9","v":0},{"$f":"Баланс!X7*Данные!$B$148/12*Расчеты!$B$9","v":0},{"$f":"Баланс!Y7*Данные!$B$148/12*Расчеты!$B$9","v":0},{"$f":"Баланс!Z7*Данные!$B$148/12*Расчеты!$B$9","v":0}]
["Зарплата","Salary",{"$f":"SUM(C10:C12)","v":0},{"$f":"SUM(D10:D12)","v":0},0,0,0,0,0,0,0,0,0,0,{"$f":"SUM(O10:O12)","v":0},0,0,0,0,0,0,0,0,0,0,0]
["    фиксированная зарплата","    fixed salary",{"$f":"Данные!C136","v":0},{"$f":"Данные!D136","v":0},{"$f":"Данные!E136","v":0},{"$f":"Данные!F136","v":0},{"$f":"Данные!G136","v":0},{"$f":"Данные!H136","v":0},{"$f":"Данные!I136","v":0},{"$f":"Данные!J136","v":0},{"$f":"Данные!K136","v":0},{"$f":"Данные!L136","v":0},{"$f":"Данные!M136","v":0},{"$f":"Данные!N136","v":0},{"$f":"Данные!O136","v":0},{"$f":"Данные!P136","v":0},{"$f":"Данные!Q136","v":0},{"$f":"Данные!R136","v":0},{"$f":"Данные!S136","v":0},{"$f":"Данные!T136","v":0},{"$f":"Данные!U136","v":0},{"$f":"Данные!V136","v":0},{"$f":"Данные!W136","v":0},{"$f":"Данные!X136","v":0},{"$f":"Данные!Y136","v":0},{"$f":"Данные!Z136","v":0}]
["    премии","    premium",{"$f":"Данные!C137*C2","v":0},{"$f":"Данные!D137*D2","v":0},{"$f":"Данные!E137*E2","v":0},{"$f":"Данные!F137*F2","v":0},{"$f":"Данные!G137*G2","v":0},{"$f":"Данные!H137*H2","v":0},{"$f":"Данные!I137*I2","v":0},{"$f":"Данные!J137*J2","v":0},{"$f":"Данные!K137*K2","v":0},{"$f":"Данные!L137*L2","v":0},{"$f":"Данные!M137*M2","v":0},{"$f":"Данные!N137*N2","v":0},{"$f":"Данные!O137*O2","v":0},{"$f":"Данные!P137*P2","v":0},{"$f":"Данные!Q137*Q2","v":0},{"$f":"Данные!R137*R2","v":0},{"$f":"Данные!S137*S2","v":0},{"$f":"Данные!T137*T2","v":0},{"$f":"Данные!U137*U2","v":0},{"$f":"Данные!V137*V2","v":0},{"$f":"Данные!W137*W2","v":0},{"$f":"Данные!X137*X2","v":0},{"$f":"Данные!Y137*Y2","v":0},{"$f":"Данные!Z137*Z2","v":0}]
["    соц. начисления","    social insurance tax",{"$f":"Данные!$B$150*(C10+C11)","v":0},{"$f":"Данные!$B$150*(D10+D11)","v":0},{"$f":"Данные!$B$150*(E10+E11)","v":0},{"$f":"Данные!$B$150*(F10+F11)","v":0},{"$f":"Данные!$B$150*(G10+G11)","v":0},{"$f":"Данные!$B$150*(H10+H11)","v":0},{"$f":"Данные!$B$150*(I10+I11)","v":0},{"$f":"Данные!$B$150*(J10+J11)","v":0},{"$f":"Данные!$B$150*(K10+K11)","v":0},{"$f":"Данные!$B$150*(L10+L11)","v":0},{"$f":"Данные!$B$150*(M10+M11)","v":0},{"$f":"Данные!$B$150*(N10+N11)","v":0},{"$f":"Данные!$B$150*(O10+O11)","v":0},{"$f":"Данные!$B$150*(P10+P11)","v":0},{"$f":"Данные!$B$150*(Q10+Q11)","v":0},{"$f":"Данные!$B$150*(R10+R11)","v":0},{"$f":"Данные!$B$150*(S10+S11)","v":0},{"$f":"Данные!$B$150*(T10+T11)","v":0},{"$f":"Данные!$B$150*(U10+U11)","v":0},{"$f":"Данные!$B$150*(V10+V11)","v":0},{"$f":"Данные!$B$150*(W10+W11)","v":0},{"$f":"Данные!$B$150*(X10+X11)","v":0},{"$f":"Данные!$B$150*(Y10+Y11)","v":0},{"$f":"Данные!$B$150*(Z10+Z11)","v":0}]
["Общие издержки:","Operating Expenses:",{"$f":"SUM(C14:C17)","v":0},0,0,0,0,0,0,0,0,0,0,0,0,0,0,0,0,0,0,0,0,0,0,0]
["    производственные издержки","    production expenses",{"$f":"Данные!C138/(1+VAT)","v":0},{"$f":"Данные!D138/(1+VAT)","v":0},{"$f":"Данные!E138/(1+VAT)","v":0},{"$f":"Данные!F138/(1+VAT)","v":0},{"$f":"Данные!G138/(1+VAT)","v":0},{"$f":"Данные!H138/(1+VAT)","v":0},{"$f":"Данные!I138/(1+VAT)","v":0},{"$f":"Данные!J138/(1+VAT)","v":0},{"$f":"Данные!K138/(1+VAT)","v":0},{"$f":"Данные!L138/(1+VAT)","v":0},{"$f":"Данные!M138/(1+VAT)","v":0},{"$f":"Данные!N138/(1+VAT)","v":0},{"$f":"Данные!O138/(1+VAT)","v":0},{"$f":"Данные!P138/(1+VAT)","v":0},{"$f":"Данные!Q138/(1+VAT)","v":0},{"$f":"Данные!R138/(1+VAT)","v":0},{"$f":"Данные!S138/(1+VAT)","v":0},{"$f":"Данные!T138/(1+VAT)","v":0},{"$f":"Данные!U138/(1+VAT)","v":0},{"$f":"Данные!V138/(1+VAT)","v":0},{"$f":"Данные!W138/(1+VAT)","v":0},{"$f":"Данные!X138/(1+VAT)","v":0},{"$f":"Данные!Y138/(1+VAT)","v":0},{"$f":"Данные!Z138/(1+VAT)","v":0}]
["    административные и офисные издержки","    administrative & office expenses",{"$f":"Данные!C139/(1+VAT)","v":0},{"$f":"Данные!D139/(1+VAT)","v":0},{"$f":"Данные!E139/(1+VAT)","v":0},{"$f":"Данные!F139/(1+VAT)","v":0},{"$f":"Данные!G139/(1+VAT)","v":0},{"$f":"Данные!H139/(1+VAT)","v":0},{"$f":"Данные!I139/(1+VAT)","v":0},{"$f":"Данные!J139/(1+VAT)","v":0},{"$f":"Данные!K139/(1+VAT)","v":0},{"$f":"Данные!L139/(1+VAT)","v":0},{"$f":"Данные!M139/(1+VAT)","v":0},{"$f":"Данные!N139/(1+VAT)","v":0},{"$f":"Данные!O139/(1+VAT)","v":0},{"$f":"Данные!P139/(1+VAT)","v":0},{"$f":"Данные!Q139/(1+VAT)","v":0},{"$f":"Данные!R139/(1+VAT)","v":0},{"$f":"Данные!S139/(1+VAT)","v":0},{"$f":"Данные!T139/(1+VAT)","v":0},{"$f":"Данные!U139/(1+VAT)","v":0},{"$f":"Данные!V139/(1+VAT)","v":0},{"$f":"Данные!W139/(1+VAT)","v":0},{"$f":"Данные!X139/(1+VAT)","v":0},{"$f":"Данные!Y139/(1+VAT)","v":0},{"$f":"Данные!Z139/(1+VAT)","v":0}]
["    маркетинговые издержки","    marketing expenses",{"$f":"Данные!C140/(1+VAT)","v":0},{"$f":"Данные!D140/(1+VAT)","v":0},{"$f":"Данные!E140/(1+VAT)","v":0},{"$f":"Данные!F140/(1+VAT)","v":0},{"$f":"Данные!G140/(1+VAT)","v":0},{"$f":"Данные!H140/(1+VAT)","v":0},{"$f":"Данные!I140/(1+VAT)","v":0},{"$f":"Данные!J140/(1+VAT)","v":0},{"$f":"Данные!K140/(1+VAT)","v":0},{"$f":"Данные!L140/(1+VAT)","v":0},{"$f":"Данные!M140/(1+VAT)","v":0},{"$f":"Данные!N140/(1+VAT)","v":0},{"$f":"Данные!O140/(1+VAT)","v":0},{"$f":"Данные!P140/(1+VAT)","v":0},{"$f":"Данные!Q140/(1+VAT)","v":0},{"$f":"Данные!R140/(1+VAT)","v":0},{"$f":"Данные!S140/(1+VAT)","v":0},{"$f":"Данные!T140/(1+VAT)","v":0},{"$f":"Данные!U140/(1+VAT)","v":0},{"$f":"Данные!V140/(1+VAT)","v":0},{"$f":"Данные!W140/(1+VAT)","v":0},{"$f":"Данные!X140/(1+VAT)","v":0},{"$f":"Данные!Y140/(1+VAT)","v":0},{"$f":"Данные!Z140/(1+VAT)","v":0}]
["    прочие расходы","    other expenses",{"$f":"Данные!C141/(1+VAT)","v":0},{"$f":"Данные!D141/(1+VAT)","v":0},{"$f":"Данные!E141/(1+VAT)","v":0},{"$f":"Данные!F141/(1+VAT)","v":0},{"$f":"Данные!G141/(1+VAT)","v":0},{"$f":"Данные!H141/(1+VAT)","v":0},{"$f":"Данные!I141/(1+VAT)","v":0},{"$f":"Данные!J141/(1+VAT)","v":0},{"$f":"Данные!K141/(1+VAT)","v":0},{"$f":"Данные!L141/(1+VAT)","v":0},{"$f":"Данные!M141/(1+VAT)","v":0},{"$f":"Данные!N141/(1+VAT)","v":0},{"$f":"Данные!O141/(1+VAT)","v":0},{"$f":"Данные!P141/(1+VAT)","v":0},{"$f":"Данные!Q141/(1+VAT)","v":0},{"$f":"Данные!R141/(1+VAT)","v":0},{"$f":"Данные!S141/(1+VAT)","v":0},{"$f":"Данные!T141/(1+VAT)","v":0},{"$f":"Данные!U141/(1+VAT)","v":0},{"$f":"Данные!V141/(1+VAT)","v":0},{"$f":"Данные!W141/(1+VAT)","v":0},{"$f":"Данные!X141/(1+VAT)","v":0},{"$f":"Данные!Y141/(1+VAT)","v":0},{"$f":"Данные!Z141/(1+VAT)","v":0}]
["ОПЕРАЦИОННАЯ ПРИБЫЛЬ","OPERATING PROFIT (EBIT)",{"$f":"C7-C8-C9-C13","v":0},{"$f":"D7-D8-D9-D13","v":0},0,0,0,0,0,0,0,0,0,0,{"$f":"O7-O8-O9-O13","v":0},0,0,0,0,0,0,0,0,0,0,0]
["Амортизация","Depretiation",{"$f":"SUM(C20:C24)","v":0},0,0,0,0,0,0,0,0,0,0,0,{"$f":"SUM(O20:O24)","v":0},0,0,0,0,0,0,0,0,0,0,0]
["    здания  и сооружения","    buildings",{"$f":"MIN(Данные!$B$153/12*Расчеты!B33*Расчеты!$B$9,Расчеты!B33)","v":0},{"$f":"MIN(Данные!$B$153/12*Расчеты!C33*Расчеты!$B$9,Расчеты!C33)","v":0},{"$f":"MIN(Данные!$B$153/12*Расчеты!D33*Расчеты!$B$9,Расчеты!D33)","v":0},{"$f":"MIN(Данные!$B$153/12*Расчеты!E33*Расчеты!$B$9,Расчеты!E33)","v":0},{"$f":"MIN(Данные!$B$153/12*Расчеты!F33*Расчеты!$B$9,Расчеты!F33)","v":0},{"$f":"MIN(Данные!$B$153/12*Расчеты!G33*Расчеты!$B$9,Расчеты!G33)","v":0},{"$f":"MIN(Данные!$B$153/12*Расчеты!H33*Расчеты!$B$9,Расчеты!H33)","v":0},{"$f":"MIN(Данные!$B$153/12*Расчеты!I33*Расчеты!$B$9,Расчеты!I33)","v":0},{"$f":"MIN(Данные!$B$153/12*Расчеты!J33*Расчеты!$B$9,Расчеты!J33)","v":0},{"$f":"MIN(Данные!$B$153/12*Расчеты!K33*Расчеты!$B$9,Расчеты!K33)","v":0},{"$f":"MIN(Данные!$B$153/12*Расчеты!L33*Расчеты!$B$9,Расчеты!L33)","v":0},{"$f":"MIN(Данные!$B$153/12*Расчеты!M33*Расчеты!$B$9,Расчеты!M33)","v":0},{"$f":"MIN(Данные!$B$153/12*Расчеты!N33*Расчеты!$B$9,Расчеты!N33)","v":0},{"$f":"MIN(Данные!$B$153/12*Расчеты!O33*Расчеты!$B$9,Расчеты!O33)","v":0},{"$f":"MIN(Данные!$B$153/12*Расчеты!P33*Расчеты!$B$9,Расчеты!P33)","v":0},{"$f":"MIN(Данные!$B$153/12*Расчеты!Q33*Расчеты!$B$9,Расчеты!Q33)","v":0},{"$f":"MIN(Данные!$B$153/12*Расчеты!R33*Расчеты!$B$9,Расчеты!R33)","v":0},{"$f":"MIN(Данные!$B$153/12*Расчеты!S33*Расчеты!$B$9,Расчеты!S33)","v":0},{"$f":"MIN(Данные!$B$153/12*Расчеты!T33*Расчеты!$B$9,Расчеты!T33)","v":0},{"$f":"MIN(Данные!$B$153/12*Расчеты!U33*Расчеты!$B$9,Расчеты!U33)","v":0},{"$f":"MIN(Данные!$B$153/12*Расчеты!V33*Расчеты!$B$9,Расчеты!V33)","v":0},{"$f":"MIN(Данные!$B$153/12*Расчеты!W33*Расчеты!$B$9,Расчеты!W33)","v":0},{"$f":"MIN(Данные!$B$153/12*Расчеты!X33*Расчеты!$B$9,Расчеты!X33)","v":0},{"$f":"MIN(Данные!$B$153/12*Расчеты!Y33*Расчеты!$B$9,Расчеты!Y33)","v":0}]
["    оборудование","    equipment",{"$f":"MIN(Данные!$B$154/12*Расчеты!B34*Расчеты!$B$9,Расчеты!B34)","v":0},{"$f":"MIN(Данные!$B$154/12*Расчеты!C34*Расчеты!$B$9,Расчеты!C34-Расчеты!B40)","v":0},{"$f":"MIN(Данные!$B$154/12*Расчеты!D34*Расчеты!$B$9,Расчеты!D34-Расчеты!C40)","v":0},{"$f":"MIN(Данные!$B$154/12*Расчеты!E34*Расчеты!$B$9,Расчеты!E34-Расчеты!D40)","v":0},{"$f":"MIN(Данные!$B$154/12*Расчеты!F34*Расчеты!$B$9,Расчеты!F34-Расчеты!E40)","v":0},{"$f":"MIN(Данные!$B$154/12*Расчеты!G34*Расчеты!$B$9,Расчеты!G34-Расчеты!F40)","v":0},{"$f":"MIN(Данные!$B$154/12*Расчеты!H34*Расчеты!$B$9,Расчеты!H34-Расчеты!G40)","v":0},{"$f":"MIN(Данные!$B$154/12*Расчеты!I34*Расчеты!$B$9,Расчеты!I34-Расчеты!H40)","v":0},{"$f":"MIN(Данные!$B$154/12*Расчеты!J34*Расчеты!$B$9,Расчеты!J34-Расчеты!I40)","v":0},{"$f":"MIN(Данные!$B$154/12*Расчеты!K34*Расчеты!$B$9,Расчеты!K34-Расчеты!J40)","v":0},{"$f":"MIN(Данные!$B$154/12*Расчеты!L34*Расчеты!$B$9,Расчеты!L34-Расчеты!K40)","v":0},{"$f":"MIN(Данные!$B$154/12*Расчеты!M34*Расчеты!$B$9,Расчеты!M34-Расчеты!L40)","v":0},{"$f":"MIN(Данные!$B$154/12*Расчеты!N34*Расчеты!$B$9,Расчеты!N34-Расчеты!M40)","v":0},{"$f":"MIN(Данные!$B$154/12*Расчеты!O34*Расчеты!$B$9,Расчеты!O34-Расчеты!N40)","v":0},{"$f":"MIN(Данные!$B$154/12*Расчеты!P34*Расчеты!$B$9,Расчеты!P34-Расчеты!O40)","v":0},{"$f":"MIN(Данные!$B$154/12*Расчеты!Q34*Расчеты!$B$9,Расчеты!Q34-Расчеты!P40)","v":0},{"$f":"MIN(Данные!$B$154/12*Расчеты!R34*Расчеты!$B$9,Расчеты!R34-Расчеты!Q40)","v":0},{"$f":"MIN(Данные!$B$154/12*Расчеты!S34*Расчеты!$B$9,Расчеты!S34-Расчеты!R40)","v":0},{"$f":"MIN(Данные!$B$154/12*Расчеты!T34*Расчеты!$B$9,Расчеты!T34-Расчеты!S40)","v":0},{"$f":"MIN(Данные!$B$154/12*Расчеты!U34*Расчеты!$B$9,Расчеты!U34-Расчеты!T40)","v":0},{"$f":"MIN(Данные!$B$154/12*Расчеты!V34*Расчеты!$B$9,Расчеты!V34-Расчеты!U40)","v":0},{"$f":"MIN(Данные!$B$154/12*Расчеты!W34*Расчеты!$B$9,Расчеты!W34-Расчеты!V40)","v":0},{"$f":"MIN(Данные!$B$154/12*Расчеты!X34*Расчеты!$B$9,Расчеты!X34-Расчеты!W40)","v":0},{"$f":"MIN(Данные!$B$154/12*Расчеты!Y34*Расчеты!$B$9,Расчеты!Y34-Расчеты!X40)","v":0}]
["    транспортные средства","    cars",{"$f":"MIN(Данные!$B$155/12*Расчеты!B35*Расчеты!$B$9,Расчеты!B35)","v":0},{"$f":"MIN(Данные!$B$155/12*Расчеты!C35*Расчеты!$B$9,Расчеты!C35-Расчеты!B41)","v":0},{"$f":"MIN(Данные!$B$155/12*Расчеты!D35*Расчеты!$B$9,Расчеты!D35-Расчеты!C41)","v":0},{"$f":"MIN(Данные!$B$155/12*Расчеты!E35*Расчеты!$B$9,Расчеты!E35-Расчеты!D41)","v":0},{"$f":"MIN(Данные!$B$155/12*Расчеты!F35*Расчеты!$B$9,Расчеты!F35-Расчеты!E41)","v":0},{"$f":"MIN(Данные!$B$155/12*Расчеты!G35*Расчеты!$B$9,Расчеты!G35-Расчеты!F41)","v":0},{"$f":"MIN(Данные!$B$155/12*Расчеты!H35*Расчеты!$B$9,Расчеты!H35-Расчеты!G41)","v":0},{"$f":"MIN(Данные!$B$155/12*Расчеты!I35*Расчеты!$B$9,Расчеты!I35-Расчеты!H41)","v":0},{"$f":"MIN(Данные!$B$155/12*Расчеты!J35*Расчеты!$B$9,Расчеты!J35-Расчеты!I41)","v":0},{"$f":"MIN(Данные!$B$155/12*Расчеты!K35*Расчеты!$B$9,Расчеты!K35-Расчеты!J41)","v":0},{"$f":"MIN(Данные!$B$155/12*Расчеты!L35*Расчеты!$B$9,Расчеты!L35-Расчеты!K41)","v":0},{"$f":"MIN(Данные!$B$155/12*Расчеты!M35*Расчеты!$B$9,Расчеты!M35-Расчеты!L41)","v":0},{"$f":"MIN(Данные!$B$155/12*Расчеты!N35*Расчеты!$B$9,Расчеты!N35-Расчеты!M41)","v":0},{"$f":"MIN(Данные!$B$155/12*Расчеты!O35*Расчеты!$B$9,Расчеты!O35-Расчеты!N41)","v":0},{"$f":"MIN(Данные!$B$155/12*Расчеты!P35*Расчеты!$B$9,Расчеты!P35-Расчеты!O41)","v":0},{"$f":"MIN(Данные!$B$155/12*Расчеты!Q35*Расчеты!$B$9,Расчеты!Q35-Расчеты!P41)","v":0},{"$f":"MIN(Данные!$B$155/12*Расчеты!R35*Расчеты!$B$9,Расчеты!R35-Расчеты!Q41)","v":0},{"$f":"MIN(Данные!$B$155/12*Расчеты!S35*Расчеты!$B$9,Расчеты!S35-Расчеты!R41)","v":0},{"$f":"MIN(Данные!$B$155/12*Расчеты!T35*Расчеты!$B$9,Расчеты!T35-Расчеты!S41)","v":0},{"$f":"MIN(Данные!$B$155/12*Расчеты!U35*Расчеты!$B$9,Расчеты!U35-Расчеты!T41)","v":0},{"$f":"MIN(Данные!$B$155/12*Расчеты!V35*Расчеты!$B$9,Расчеты!V35-Расчеты!U41)","v":0},{"$f":"MIN(Данные!$B$155/12*Расчеты!W35*Расчеты!$B$9,Расчеты!W35-Расчеты!V41)","v":0},{"$f":"MIN(Данные!$B$155/12*Расчеты!X35*Расчеты!$B$9,Расчеты!X35-Расчеты!W41)","v":0},{"$f":"MIN(Данные!$B$155/12*Расчеты!Y35*Расчеты!$B$9,Расчеты!Y35-Расчеты!X41)","v":0}]
["    оргтехника","    office equipment",{"$f":"MIN(Данные!$B$156/12*Расчеты!B36*Расчеты!$B$9,Расчеты!B36)","v":0},{"$f":"MIN(Данные!$B$156/12*Расчеты!C36*Расчеты!$B$9,Расчеты!C36-Расчеты!B42)","v":0},{"$f":"MIN(Данные!$B$156/12*Расчеты!D36*Расчеты!$B$9,Расчеты!D36-Расчеты!C42)","v":0},{"$f":"MIN(Данные!$B$156/12*Расчеты!E36*Расчеты!$B$9,Расчеты!E36-Расчеты!D42)","v":0},{"$f":"MIN(Данные!$B$156/12*Расчеты!F36*Расчеты!$B$9,Расчеты!F36-Расчеты!E42)","v":0},{"$f":"MIN(Данные!$B$156/12*Расчеты!G36*Расчеты!$B$9,Расчеты!G36-Расчеты!F42)","v":0},{"$f":"MIN(Данные!$B$156/12*Расчеты!H36*Расчеты!$B$9,Расчеты!H36-Расчеты!G42)","v":0},{"$f":"MIN(Данные!$B$156/12*Расчеты!I36*Расчеты!$B$9,Расчеты!I36-Расчеты!H42)","v":0},{"$f":"MIN(Данные!$B$156/12*Расчеты!J36*Расчеты!$B$9,Расчеты!J36-Расчеты!I42)","v":0},{"$f":"MIN(Данные!$B$156/12*Расчеты!K36*Расчеты!$B$9,Расчеты!K36-Расчеты!J42)","v":0},{"$f":"MIN(Данные!$B$156/12*Расчеты!L36*Расчеты!$B$9,Расчеты!L36-Расчеты!K42)","v":0},{"$f":"MIN(Данные!$B$156/12*Расчеты!M36*Расчеты!$B$9,Расчеты!M36-Расчеты!L42)","v":0},{"$f":"MIN(Данные!$B$156/12*Расчеты!N36*Расчеты!$B$9,Расчеты!N36-Расчеты!M42)","v":0},{"$f":"MIN(Данные!$B$156/12*Расчеты!O36*Расчеты!$B$9,Расчеты!O36-Расчеты!N42)","v":0},{"$f":"MIN(Данные!$B$156/12*Расчеты!P36*Расчеты!$B$9,Расчеты!P36-Расчеты!O42)","v":0},{"$f":"MIN(Данные!$B$156/12*Расчеты!Q36*Расчеты!$B$9,Расчеты!Q36-Расчеты!P42)","v":0},{"$f":"MIN(Данные!$B$156/12*Расчеты!R36*Расчеты!$B$9,Расчеты!R36-Расчеты!Q42)","v":0},{"$f":"MIN(Данные!$B$156/12*Расчеты!S36*Расчеты!$B$9,Расчеты!S36-Расчеты!R42)","v":0},{"$f":"MIN(Данные!$B$156/12*Расчеты!T36*Расчеты!$B$9,Расчеты!T36-Расчеты!S42)","v":0},{"$f":"MIN(Данные!$B$156/12*Расчеты!U36*Расчеты!$B$9,Расчеты!U36-Расчеты!T42)","v":0},{"$f":"MIN(Данные!$B$156/12*Расчеты!V36*Расчеты!$B$9,Расчеты!V36-Расчеты!U42)","v":0},{"$f":"MIN(Данные!$B$156/12*Расчеты!W36*Расчеты!$B$9,Расчеты!W36-Расчеты!V42)","v":0},{"$f":"MIN(Данные!$B$156/12*Расчеты!X36*Расчеты!$B$9,Расчеты!X36-Расчеты!W42)","v":0},{"$f":"MIN(Данные!$B$156/12*Расчеты!Y36*Расчеты!$B$9,Расчеты!Y36-Расчеты!X42)","v":0}]
["    прочие ОС","    other assets",{"$f":"MIN(Данные!$B$157/12*Расчеты!B37*Расчеты!$B$9,Расчеты!B37)","v":0},{"$f":"MIN(Данные!$B$157/12*Расчеты!C37*Расчеты!$B$9,Расчеты!C37-Расчеты!B43)","v":0},{"$f":"MIN(Данные!$B$157/12*Расчеты!D37*Расчеты!$B$9,Расчеты!D37-Расчеты!C43)","v":0},{"$f":"MIN(Данные!$B$157/12*Расчеты!E37*Расчеты!$B$9,Расчеты!E37-Расчеты!D43)","v":0},{"$f":"MIN(Данные!$B$157/12*Расчеты!F37*Расчеты!$B$9,Расчеты!F37-Расчеты!E43)","v":0},{"$f":"MIN(Данные!$B$157/12*Расчеты!G37*Расчеты!$B$9,Расчеты!G37-Расчеты!F43)","v":0},{"$f":"MIN(Данные!$B$157/12*Расчеты!H37*Расчеты!$B$9,Расчеты!H37-Расчеты!G43)","v":0},{"$f":"MIN(Данные!$B$157/12*Расчеты!I37*Расчеты!$B$9,Расчеты!I37-Расчеты!H43)","v":0},{"$f":"MIN(Данные!$B$157/12*Расчеты!J37*Расчеты!$B$9,Расчеты!J37-Расчеты!I43)","v":0},{"$f":"MIN(Данные!$B$157/12*Расчеты!K37*Расчеты!$B$9,Расчеты!K37-Расчеты!J43)","v":0},{"$f":"MIN(Данные!$B$157/12*Расчеты!L37*Расчеты!$B$9,Расчеты!L37-Расчеты!K43)","v":0},{"$f":"MIN(Данные!$B$157/12*Расчеты!M37*Расчеты!$B$9,Расчеты!M37-Расчеты!L43)","v":0},{"$f":"MIN(Данные!$B$157/12*Расчеты!N37*Расчеты!$B$9,Расчеты!N37-Расчеты!M43)","v":0},{"$f":"MIN(Данные!$B$157/12*Расчеты!O37*Расчеты!$B$9,Расчеты!O37-Расчеты!N43)","v":0},{"$f":"MIN(Данные!$B$157/12*Расчеты!P37*Расчеты!$B$9,Расчеты!P37-Расчеты!O43)","v":0},{"$f":"MIN(Данные!$B$157/12*Расчеты!Q37*Расчеты!$B$9,Расчеты!Q37-Расчеты!P43)","v":0},{"$f":"MIN(Данные!$B$157/12*Расчеты!R37*Расчеты!$B$9,Расчеты!R37-Расчеты!Q43)","v":0},{"$f":"MIN(Данные!$B$157/12*Расчеты!S37*Расчеты!$B$9,Расчеты!S37-Расчеты!R43)","v":0},{"$f":"MIN(Данные!$B$157/12*Расчеты!T37*Расчеты!$B$9,Расчеты!T37-Расчеты!S43)","v":0},{"$f":"MIN(Данные!$B$157/12*Расчеты!U37*Расчеты!$B$9,Расчеты!U37-Расчеты!T43)","v":0},{"$f":"MIN(Данные!$B$157/12*Расчеты!V37*Расчеты!$B$9,Расчеты!V37-Расчеты!U43)","v":0},{"$f":"MIN(Данные!$B$157/12*Расчеты!W37*Расчеты!$B$9,Расчеты!W37-Расчеты!V43)","v":0},{"$f":"MIN(Данные!$B$157/12*Расчеты!X37*Расчеты!$B$9,Расчеты!X37-Расчеты!W43)","v":0},{"$f":"MIN(Данные!$B$157/12*Расчеты!Y37*Расчеты!$B$9,Расчеты!Y37-Расчеты!X43)","v":0}]
["Проценты по кредитам","Interest Expenses",{"$f":"Данные!C244","v":0},{"$f":"Данные!D244","v":0},{"$f":"Данные!E244","v":0},{"$f":"Данные!F244","v":0},{"$f":"Данные!G244","v":0},{"$f":"Данные!H244","v":0},{"$f":"Данные!I244","v":0},{"$f":"Данные!J244","v":0},{"$f":"Данные!K244","v":0},{"$f":"Данные!L244","v":0},{"$f":"Данные!M244","v":0},{"$f":"Данные!N244","v":0},{"$f":"Данные!O244","v":0},{"$f":"Данные!P244","v":0},{"$f":"Данные!Q244","v":0},{"$f":"Данные!R244","v":0},{"$f":"Данные!S244","v":0},{"$f":"Данные!T244","v":0},{"$f":"Данные!U244","v":0},{"$f":"Данные!V244","v":0},{"$f":"Данные!W244","v":0},{"$f":"Данные!X244","v":0},{"$f":"Данные!Y244","v":0},{"$f":"Данные!Z244","v":0}]
["ПРИБЫЛЬ ДО НАЛОГООБЛОЖЕНИЯ","PROFIT BEFORE TAX",{"$f":"C18-C19-C25","v":0},0,0,0,0,0,0,0,0,0,0,0,{"$f":"O18-O19-O25","v":0},0,0,0,0,0,0,0,0,0,0,0]
["Налог на прибыль","Tax on Profit",{"$f":"IF(C26>0,C26*Данные!$B$146,0)","v":0},{"$f":"IF(D26>0,D26*Данные!$B$146,0)","v":0},{"$f":"IF(E26>0,E26*Данные!$B$146,0)","v":0},{"$f":"IF(F26>0,F26*Данные!$B$146,0)","v":0},{"$f":"IF(G26>0,G26*Данные!$B$146,0)","v":0},{"$f":"IF(H26>0,H26*Данные!$B$146,0)","v":0},{"$f":"IF(I26>0,I26*Данные!$B$146,0)","v":0},{"$f":"IF(J26>0,J26*Данные!$B$146,0)","v":0},{"$f":"IF(K26>0,K26*Данные!$B$146,0)","v":0},{"$f":"IF(L26>0,L26*Данные!$B$146,0)","v":0},{"$f":"IF(M26>0,M26*Данные!$B$146,0)","v":0},{"$f":"IF(N26>0,N26*Данные!$B$146,0)","v":0},{"$f":"IF(O26>0,O26*Данные!$B$146,0)","v":0},{"$f":"IF(P26>0,P26*Данные!$B$146,0)","v":0},{"$f":"IF(Q26>0,Q26*Данные!$B$146,0)","v":0},{"$f":"IF(R26>0,R26*Данные!$B$146,0)","v":0},{"$f":"IF(S26>0,S26*Данные!$B$146,0)","v":0},{"$f":"IF(T26>0,T26*Данные!$B$146,0)","v":0},{"$f":"IF(U26>0,U26*Данные!$B$146,0)","v":0},{"$f":"IF(V26>0,V26*Данные!$B$146,0)","v":0},{"$f":"IF(W26>0,W26*Данные!$B$146,0)","v":0},{"$f":"IF(X26>0,X26*Данные!$B$146,0)","v":0},{"$f":"IF(Y26>0,Y26*Данные!$B$146,0)","v":0},{"$f":"IF(Z26>0,Z26*Данные!$B$146,0)","v":0}]
["ЧИСТАЯ ПРИБЫЛЬ","NET PROFIT",{"$f":"C26-C27","v":0},0,0,0,0,0,0,0,0,0,0,0,{"$f":"O26-O27","v":0},0,0,0,0,0,0,0,0,0,0,0]

{"sheet":"Баланс","index":2,"n_rows":25,"n_cols":26,"rows_kept":25,"cut":false,"hidden":false,"merged":[]}
["БАЛАНС","BALANCE SHEET",{"$f":"Данные!C40","v":"1 кв./2019"},{"$f":"Данные!D40","v":"2 кв./2019"},{"$f":"Данные!E40","v":"3 кв./2019"},{"$f":"Данные!F40","v":"4 кв./2019"},{"$f":"Данные!G40","v":"1 кв./2020"},{"$f":"Данные!H40","v":"2 кв./2020"},{"$f":"Данные!I40","v":"3 кв./2020"},{"$f":"Данные!J40","v":"4 кв./2020"},{"$f":"Данные!K40","v":"1 кв./2021"},{"$f":"Данные!L40","v":"2 кв./2021"},{"$f":"Данные!M40","v":"3 кв./2021"},{"$f":"Данные!N40","v":"4 кв./2021"},{"$f":"Данные!O40","v":"1 кв./2022"},{"$f":"Данные!P40","v":"2 кв./2022"},{"$f":"Данные!Q40","v":"3 кв./2022"},{"$f":"Данные!R40","v":"4 кв./2022"},{"$f":"Данные!S40","v":"1 кв./2023"},{"$f":"Данные!T40","v":"2 кв./2023"},{"$f":"Данные!U40","v":"3 кв./2023"},{"$f":"Данные!V40","v":"4 кв./2023"},{"$f":"Данные!W40","v":"1 кв./2024"},{"$f":"Данные!X40","v":"2 кв./2024"},{"$f":"Данные!Y40","v":"3 кв./2024"},{"$f":"Данные!Z40","v":"4 кв./2024"}]
["Денежные средства","Cash",{"$f":"'Кэш-фло'!C23","v":0},{"$f":"'Кэш-фло'!D23","v":0},{"$f":"'Кэш-фло'!E23","v":0},{"$f":"'Кэш-фло'!F23","v":0},{"$f":"'Кэш-фло'!G23","v":0},{"$f":"'Кэш-фло'!H23","v":0},{"$f":"'Кэш-фло'!I23","v":0},{"$f":"'Кэш-фло'!J23","v":0},{"$f":"'Кэш-фло'!K23","v":0},{"$f":"'Кэш-фло'!L23","v":0},{"$f":"'Кэш-фло'!M23","v":0},{"$f":"'Кэш-фло'!N23","v":0},{"$f":"'Кэш-фло'!O23","v":0},{"$f":"'Кэш-фло'!P23","v":0},{"$f":"'Кэш-фло'!Q23","v":0},{"$f":"'Кэш-фло'!R23","v":0},{"$f":"'Кэш-фло'!S23","v":0},{"$f":"'Кэш-фло'!T23","v":0},{"$f":"'Кэш-фло'!U23","v":0},{"$f":"'Кэш-фло'!V23","v":0},{"$f":"'Кэш-фло'!W23","v":0},{"$f":"'Кэш-фло'!X23","v":0},{"$f":"'Кэш-фло'!Y23","v":0},{"$f":"'Кэш-фло'!Z23","v":0}]
["Дебиторы","Account Receivable",{"$f":"(SUM(Анализ!$B$44:B44)-SUM('Кэш-фло'!$C$3:C3))/(1+VAT)+Данные!$C$175","v":0},{"$f":"(SUM(Анализ!$B$44:C44)-SUM('Кэш-фло'!$C$3:D3))/(1+VAT)+Данные!$C$175","v":0},{"$f":"(SUM(Анализ!$B$44:D44)-SUM('Кэш-фло'!$C$3:E3))/(1+VAT)+Данные!$C$175","v":0},{"$f":"(SUM(Анализ!$B$44:E44)-SUM('Кэш-фло'!$C$3:F3))/(1+VAT)+Данные!$C$175","v":0},{"$f":"(SUM(Анализ!$B$44:F44)-SUM('Кэш-фло'!$C$3:G3))/(1+VAT)+Данные!$C$175","v":0},{"$f":"(SUM(Анализ!$B$44:G44)-SUM('Кэш-фло'!$C$3:H3))/(1+VAT)+Данные!$C$175","v":0},{"$f":"(SUM(Анализ!$B$44:H44)-SUM('Кэш-фло'!$C$3:I3))/(1+VAT)+Данные!$C$175","v":0},{"$f":"(SUM(Анализ!$B$44:I44)-SUM('Кэш-фло'!$C$3:J3))/(1+VAT)+Данные!$C$175","v":0},{"$f":"(SUM(Анализ!$B$44:J44)-SUM('Кэш-фло'!$C$3:K3))/(1+VAT)+Данные!$C$175","v":0},{"$f":"(SUM(Анализ!$B$44:K44)-SUM('Кэш-фло'!$C$3:L3))/(1+VAT)+Данные!$C$175","v":0},{"$f":"(SUM(Анализ!$B$44:L44)-SUM('Кэш-фло'!$C$3:M3))/(1+VAT)+Данные!$C$175","v":0},{"$f":"(SUM(Анализ!$B$44:M44)-SUM('Кэш-фло'!$C$3:N3))/(1+VAT)+Данные!$C$175","v":0},{"$f":"(SUM(Анализ!$B$44:N44)-SUM('Кэш-фло'!$C$3:O3))/(1+VAT)+Данные!$C$175","v":0},{"$f":"(SUM(Анализ!$B$44:O44)-SUM('Кэш-фло'!$C$3:P3))/(1+VAT)+Данные!$C$175","v":0},{"$f":"(SUM(Анализ!$B$44:P44)-SUM('Кэш-фло'!$C$3:Q3))/(1+VAT)+Данные!$C$175","v":0},{"$f":"(SUM(Анализ!$B$44:Q44)-SUM('Кэш-фло'!$C$3:R3))/(1+VAT)+Данные!$C$175","v":0},{"$f":"(SUM(Анализ!$B$44:R44)-SUM('Кэш-фло'!$C$3:S3))/(1+VAT)+Данные!$C$175","v":0},{"$f":"(SUM(Анализ!$B$44:S44)-SUM('Кэш-фло'!$C$3:T3))/(1+VAT)+Данные!$C$175","v":0},{"$f":"(SUM(Анализ!$B$44:T44)-SUM('Кэш-фло'!$C$3:U3))/(1+VAT)+Данные!$C$175","v":0},{"$f":"(SUM(Анализ!$B$44:U44)-SUM('Кэш-фло'!$C$3:V3))/(1+VAT)+Данные!$C$175","v":0},{"$f":"(SUM(Анализ!$B$44:V44)-SUM('Кэш-фло'!$C$3:W3))/(1+VAT)+Данные!$C$175","v":0},{"$f":"(SUM(Анализ!$B$44:W44)-SUM('Кэш-фло'!$C$3:X3))/(1+VAT)+Данные!$C$175","v":0},{"$f":"(SUM(Анализ!$B$44:X44)-SUM('Кэш-фло'!$C$3:Y3))/(1+VAT)+Данные!$C$175","v":0},{"$f":"(SUM(Анализ!$B$44:Y44)-SUM('Кэш-фло'!$C$3:Z3))/(1+VAT)+Данные!$C$175","v":0}]
["Запасы","Inventories",{"$f":"(SUM(Расчеты!$B$55:B55)-SUM(Анализ!$B$65:B65))/(1+VAT)","v":0},{"$f":"(SUM(Расчеты!$B$55:C55)-SUM(Анализ!$B$65:C65))/(1+VAT)","v":0},{"$f":"(SUM(Расчеты!$B$55:D55)-SUM(Анализ!$B$65:D65))/(1+VAT)","v":0},{"$f":"(SUM(Расчеты!$B$55:E55)-SUM(Анализ!$B$65:E65))/(1+VAT)","v":0},{"$f":"(SUM(Расчеты!$B$55:F55)-SUM(Анализ!$B$65:F65))/(1+VAT)","v":0},{"$f":"(SUM(Расчеты!$B$55:G55)-SUM(Анализ!$B$65:G65))/(1+VAT)","v":0},{"$f":"(SUM(Расчеты!$B$55:H55)-SUM(Анализ!$B$65:H65))/(1+VAT)","v":0},{"$f":"(SUM(Расчеты!$B$55:I55)-SUM(Анализ!$B$65:I65))/(1+VAT)","v":0},{"$f":"(SUM(Расчеты!$B$55:J55)-SUM(Анализ!$B$65:J65))/(1+VAT)","v":0},{"$f":"(SUM(Расчеты!$B$55:K55)-SUM(Анализ!$B$65:K65))/(1+VAT)","v":0},{"$f":"(SUM(Расчеты!$B$55:L55)-SUM(Анализ!$B$65:L65))/(1+VAT)","v":0},{"$f":"(SUM(Расчеты!$B$55:M55)-SUM(Анализ!$B$65:M65))/(1+VAT)","v":0},{"$f":"(SUM(Расчеты!$B$55:N55)-SUM(Анализ!$B$65:N65))/(1+VAT)","v":0},{"$f":"(SUM(Расчеты!$B$55:O55)-SUM(Анализ!$B$65:O65))/(1+VAT)","v":0},{"$f":"(SUM(Расчеты!$B$55:P55)-SUM(Анализ!$B$65:P65))/(1+VAT)","v":0},{"$f":"(SUM(Расчеты!$B$55:Q55)-SUM(Анализ!$B$65:Q65))/(1+VAT)","v":0},{"$f":"(SUM(Расчеты!$B$55:R55)-SUM(Анализ!$B$65:R65))/(1+VAT)","v":0},{"$f":"(SUM(Расчеты!$B$55:S55)-SUM(Анализ!$B$65:S65))/(1+VAT)","v":0},{"$f":"(SUM(Расчеты!$B$55:T55)-SUM(Анализ!$B$65:T65))/(1+VAT)","v":0},{"$f":"(SUM(Расчеты!$B$55:U55)-SUM(Анализ!$B$65:U65))/(1+VAT)","v":0},{"$f":"(SUM(Расчеты!$B$55:V55)-SUM(Анализ!$B$65:V65))/(1+VAT)","v":0},{"$f":"(SUM(Расчеты!$B$55:W55)-SUM(Анализ!$B$65:W65))/(1+VAT)","v":0},{"$f":"(SUM(Расчеты!$B$55:X55)-SUM(Анализ!$B$65:X65))/(1+VAT)","v":0},{"$f":"(SUM(Расчеты!$B$55:Y55)-SUM(Анализ!$B$65:Y65))/(1+VAT)","v":0}]
["Прочие оборотные активы","Other Current Assets",{"$f":"Данные!C177","v":0},{"$f":"C5","v":0},0,0,0,0,0,0,0,0,0,0,{"$f":"N5","v":0},0,0,0,0,0,0,0,0,0,0,0]
["Суммарные оборотные активы","Total current assets",{"$f":"SUM(C2:C5)","v":0},0,0,0,0,0,0,0,0,0,0,0,{"$f":"SUM(O2:O5)","v":0},0,0,0,0,0,0,0,0,0,0,0]
["Основные средства","Net Fixed Assets:",{"$f":"SUM(C8:C12)","v":0},0,0,0,0,0,0,0,0,0,0,0,{"$f":"SUM(O8:O12)","v":0},0,0,0,0,0,0,0,0,0,0,0]
["   здания и сооружения ","    buildings",{"$f":"Расчеты!B33-Расчеты!B39","v":0},{"$f":"Расчеты!C33-Расчеты!C39","v":0},{"$f":"Расчеты!D33-Расчеты!D39","v":0},{"$f":"Расчеты!E33-Расчеты!E39","v":0},{"$f":"Расчеты!F33-Расчеты!F39","v":0},{"$f":"Расчеты!G33-Расчеты!G39","v":0},{"$f":"Расчеты!H33-Расчеты!H39","v":0},{"$f":"Расчеты!I33-Расчеты!I39","v":0},{"$f":"Расчеты!J33-Расчеты!J39","v":0},{"$f":"Расчеты!K33-Расчеты!K39","v":0},{"$f":"Расчеты!L33-Расчеты!L39","v":0},{"$f":"Расчеты!M33-Расчеты!M39","v":0},{"$f":"Расчеты!N33-Расчеты!N39","v":0},{"$f":"Расчеты!O33-Расчеты!O39","v":0},{"$f":"Расчеты!P33-Расчеты!P39","v":0},{"$f":"Расчеты!Q33-Расчеты!Q39","v":0},{"$f":"Расчеты!R33-Расчеты!R39","v":0},{"$f":"Расчеты!S33-Расчеты!S39","v":0},{"$f":"Расчеты!T33-Расчеты!T39","v":0},{"$f":"Расчеты!U33-Расчеты!U39","v":0},{"$f":"Расчеты!V33-Расчеты!V39","v":0},{"$f":"Расчеты!W33-Расчеты!W39","v":0},{"$f":"Расчеты!X33-Расчеты!X39","v":0},{"$f":"Расчеты!Y33-Расчеты!Y39","v":0}]
["   оборудование","    equipment",{"$f":"Расчеты!B34-Расчеты!B40","v":0},{"$f":"Расчеты!C34-Расчеты!C40","v":0},{"$f":"Расчеты!D34-Расчеты!D40","v":0},{"$f":"Расчеты!E34-Расчеты!E40","v":0},{"$f":"Расчеты!F34-Расчеты!F40","v":0},{"$f":"Расчеты!G34-Расчеты!G40","v":0},{"$f":"Расчеты!H34-Расчеты!H40","v":0},{"$f":"Расчеты!I34-Расчеты!I40","v":0},{"$f":"Расчеты!J34-Расчеты!J40","v":0},{"$f":"Расчеты!K34-Расчеты!K40","v":0},{"$f":"Расчеты!L34-Расчеты!L40","v":0},{"$f":"Расчеты!M34-Расчеты!M40","v":0},{"$f":"Расчеты!N34-Расчеты!N40","v":0},{"$f":"Расчеты!O34-Расчеты!O40","v":0},{"$f":"Расчеты!P34-Расчеты!P40","v":0},{"$f":"Расчеты!Q34-Расчеты!Q40","v":0},{"$f":"Расчеты!R34-Расчеты!R40","v":0},{"$f":"Расчеты!S34-Расчеты!S40","v":0},{"$f":"Расчеты!T34-Расчеты!T40","v":0},{"$f":"Расчеты!U34-Расчеты!U40","v":0},{"$f":"Расчеты!V34-Расчеты!V40","v":0},{"$f":"Расчеты!W34-Расчеты!W40","v":0},{"$f":"Расчеты!X34-Расчеты!X40","v":0},{"$f":"Расчеты!Y34-Расчеты!Y40","v":0}]
["   транспортные средства","    cars",{"$f":"Расчеты!B35-Расчеты!B41","v":0},{"$f":"Расчеты!C35-Расчеты!C41","v":0},{"$f":"Расчеты!D35-Расчеты!D41","v":0},{"$f":"Расчеты!E35-Расчеты!E41","v":0},{"$f":"Расчеты!F35-Расчеты!F41","v":0},{"$f":"Расчеты!G35-Расчеты!G41","v":0},{"$f":"Расчеты!H35-Расчеты!H41","v":0},{"$f":"Расчеты!I35-Расчеты!I41","v":0},{"$f":"Расчеты!J35-Расчеты!J41","v":0},{"$f":"Расчеты!K35-Расчеты!K41","v":0},{"$f":"Расчеты!L35-Расчеты!L41","v":0},{"$f":"Расчеты!M35-Расчеты!M41","v":0},{"$f":"Расчеты!N35-Расчеты!N41","v":0},{"$f":"Расчеты!O35-Расчеты!O41","v":0},{"$f":"Расчеты!P35-Расчеты!P41","v":0},{"$f":"Расчеты!Q35-Расчеты!Q41","v":0},{"$f":"Расчеты!R35-Расчеты!R41","v":0},{"$f":"Расчеты!S35-Расчеты!S41","v":0},{"$f":"Расчеты!T35-Расчеты!T41","v":0},{"$f":"Расчеты!U35-Расчеты!U41","v":0},{"$f":"Расчеты!V35-Расчеты!V41","v":0},{"$f":"Расчеты!W35-Расчеты!W41","v":0},{"$f":"Расчеты!X35-Расчеты!X41","v":0},{"$f":"Расчеты!Y35-Расчеты!Y41","v":0}]
["   оргтехника","    office equipment",{"$f":"Расчеты!B36-Расчеты!B42","v":0},{"$f":"Расчеты!C36-Расчеты!C42","v":0},{"$f":"Расчеты!D36-Расчеты!D42","v":0},{"$f":"Расчеты!E36-Расчеты!E42","v":0},{"$f":"Расчеты!F36-Расчеты!F42","v":0},{"$f":"Расчеты!G36-Расчеты!G42","v":0},{"$f":"Расчеты!H36-Расчеты!H42","v":0},{"$f":"Расчеты!I36-Расчеты!I42","v":0},{"$f":"Расчеты!J36-Расчеты!J42","v":0},{"$f":"Расчеты!K36-Расчеты!K42","v":0},{"$f":"Расчеты!L36-Расчеты!L42","v":0},{"$f":"Расчеты!M36-Расчеты!M42","v":0},{"$f":"Расчеты!N36-Расчеты!N42","v":0},{"$f":"Расчеты!O36-Расчеты!O42","v":0},{"$f":"Расчеты!P36-Расчеты!P42","v":0},{"$f":"Расчеты!Q36-Расчеты!Q42","v":0},{"$f":"Расчеты!R36-Расчеты!R42","v":0},{"$f":"Расчеты!S36-Расчеты!S42","v":0},{"$f":"Расчеты!T36-Расчеты!T42","v":0},{"$f":"Расчеты!U36-Расчеты!U42","v":0},{"$f":"Расчеты!V36-Расчеты!V42","v":0},{"$f":"Расчеты!W36-Расчеты!W42","v":0},{"$f":"Расчеты!X36-Расчеты!X42","v":0},{"$f":"Расчеты!Y36-Расчеты!Y42","v":0}]
["   прочие ОС","    other assets",{"$f":"Расчеты!B37-Расчеты!B43","v":0},{"$f":"Расчеты!C37-Расчеты!C43","v":0},{"$f":"Расчеты!D37-Расчеты!D43","v":0},{"$f":"Расчеты!E37-Расчеты!E43","v":0},{"$f":"Расчеты!F37-Расчеты!F43","v":0},{"$f":"Расчеты!G37-Расчеты!G43","v":0},{"$f":"Расчеты!H37-Расчеты!H43","v":0},{"$f":"Расчеты!I37-Расчеты!I43","v":0},{"$f":"Расчеты!J37-Расчеты!J43","v":0},{"$f":"Расчеты!K37-Расчеты!K43","v":0},{"$f":"Расчеты!L37-Расчеты!L43","v":0},{"$f":"Расчеты!M37-Расчеты!M43","v":0},{"$f":"Расчеты!N37-Расчеты!N43","v":0},{"$f":"Расчеты!O37-Расчеты!O43","v":0},{"$f":"Расчеты!P37-Расчеты!P43","v":0},{"$f":"Расчеты!Q37-Расчеты!Q43","v":0},{"$f":"Расчеты!R37-Расчеты!R43","v":0},{"$f":"Расчеты!S37-Расчеты!S43","v":0},{"$f":"Расчеты!T37-Расчеты!T43","v":0},{"$f":"Расчеты!U37-Расчеты!U43","v":0},{"$f":"Расчеты!V37-Расчеты!V43","v":0},{"$f":"Расчеты!W37-Расчеты!W43","v":0},{"$f":"Расчеты!X37-Расчеты!X43","v":0},{"$f":"Расчеты!Y37-Расчеты!Y43","v":0}]
["Незавершенное строительство","Investments in Progress",{"$f":"Данные!C216","v":0},{"$f":"Данные!D216","v":0},{"$f":"Данные!E216","v":0},{"$f":"Данные!F216","v":0},{"$f":"Данные!G216","v":0},{"$f":"Данные!H216","v":0},{"$f":"Данные!I216","v":0},{"$f":"Данные!J216","v":0},{"$f":"Данные!K216","v":0},{"$f":"Данные!L216","v":0},{"$f":"Данные!M216","v":0},{"$f":"Данные!N216","v":0},{"$f":"Данные!O216","v":0},{"$f":"Данные!P216","v":0},{"$f":"Данные!Q216","v":0},{"$f":"Данные!R216","v":0},{"$f":"Данные!S216","v":0},{"$f":"Данные!T216","v":0},{"$f":"Данные!U216","v":0},{"$f":"Данные!V216","v":0},{"$f":"Данные!W216","v":0},{"$f":"Данные!X216","v":0},{"$f":"Данные!Y216","v":0},{"$f":"Данные!Z216","v":0}]
["Прочие активы ","Other Assets",{"$f":"Данные!C171+Данные!C218","v":0},{"$f":"C14+Данные!D218","v":0},{"$f":"D14+Данные!E218","v":0},{"$f":"E14+Данные!F218","v":0},{"$f":"F14+Данные!G218","v":0},{"$f":"G14+Данные!H218","v":0},{"$f":"H14+Данные!I218","v":0},{"$f":"I14+Данные!J218","v":0},{"$f":"J14+Данные!K218","v":0},{"$f":"K14+Данные!L218","v":0},{"$f":"L14+Данные!M218","v":0},{"$f":"M14+Данные!N218","v":0},{"$f":"N14+Данные!O218","v":0},{"$f":"O14+Данные!P218","v":0},{"$f":"P14+Данные!Q218","v":0},{"$f":"Q14+Данные!R218","v":0},{"$f":"R14+Данные!S218","v":0},{"$f":"S14+Данные!T218","v":0},{"$f":"T14+Данные!U218","v":0},{"$f":"U14+Данные!V218","v":0},{"$f":"V14+Данные!W218","v":0},{"$f":"W14+Данные!X218","v":0},{"$f":"X14+Данные!Y218","v":0},{"$f":"Y14+Данные!Z218","v":0}]
["Суммарные внеоборотные активы","Total fixed assets",{"$f":"C7+C13+C14","v":0},0,0,0,0,0,0,0,0,0,0,0,0,0,0,0,0,0,0,0,0,0,0,0]
["ИТОГО АКТИВОВ","TOTAL ASSETS",{"$f":"C15+C6","v":0},0,0,0,0,0,0,0,0,0,0,0,0,0,0,0,0,0,0,0,0,0,0,0]
["Кредиторская задолженность","Accounts Payable",{"$f":"(SUM(Расчеты!$B$55:B55)-SUM('Кэш-фло'!$C$4:C4))/(1+VAT)","v":0},{"$f":"(SUM(Расчеты!$B$55:C55)-SUM('Кэш-фло'!$C$4:D4))/(1+VAT)","v":0},{"$f":"(SUM(Расчеты!$B$55:D55)-SUM('Кэш-фло'!$C$4:E4))/(1+VAT)","v":0},{"$f":"(SUM(Расчеты!$B$55:E55)-SUM('Кэш-фло'!$C$4:F4))/(1+VAT)","v":0},{"$f":"(SUM(Расчеты!$B$55:F55)-SUM('Кэш-фло'!$C$4:G4))/(1+VAT)","v":0},{"$f":"(SUM(Расчеты!$B$55:G55)-SUM('Кэш-фло'!$C$4:H4))/(1+VAT)","v":0},{"$f":"(SUM(Расчеты!$B$55:H55)-SUM('Кэш-фло'!$C$4:I4))/(1+VAT)","v":0},{"$f":"(SUM(Расчеты!$B$55:I55)-SUM('Кэш-фло'!$C$4:J4))/(1+VAT)","v":0},{"$f":"(SUM(Расчеты!$B$55:J55)-SUM('Кэш-фло'!$C$4:K4))/(1+VAT)","v":0},{"$f":"(SUM(Расчеты!$B$55:K55)-SUM('Кэш-фло'!$C$4:L4))/(1+VAT)","v":0},{"$f":"(SUM(Расчеты!$B$55:L55)-SUM('Кэш-фло'!$C$4:M4))/(1+VAT)","v":0},{"$f":"(SUM(Расчеты!$B$55:M55)-SUM('Кэш-фло'!$C$4:N4))/(1+VAT)","v":0},{"$f":"(SUM(Расчеты!$B$55:N55)-SUM('Кэш-фло'!$C$4:O4))/(1+VAT)","v":0},{"$f":"(SUM(Расчеты!$B$55:O55)-SUM('Кэш-фло'!$C$4:P4))/(1+VAT)","v":0},{"$f":"(SUM(Расчеты!$B$55:P55)-SUM('Кэш-фло'!$C$4:Q4))/(1+VAT)","v":0},{"$f":"(SUM(Расчеты!$B$55:Q55)-SUM('Кэш-фло'!$C$4:R4))/(1+VAT)","v":0},{"$f":"(SUM(Расчеты!$B$55:R55)-SUM('Кэш-фло'!$C$4:S4))/(1+VAT)","v":0},{"$f":"(SUM(Расчеты!$B$55:S55)-SUM('Кэш-фло'!$C$4:T4))/(1+VAT)","v":0},{"$f":"(SUM(Расчеты!$B$55:T55)-SUM('Кэш-фло'!$C$4:U4))/(1+VAT)","v":0},{"$f":"(SUM(Расчеты!$B$55:U55)-SUM('Кэш-фло'!$C$4:V4))/(1+VAT)","v":0},{"$f":"(SUM(Расчеты!$B$55:V55)-SUM('Кэш-фло'!$C$4:W4))/(1+VAT)","v":0},{"$f":"(SUM(Расчеты!$B$55:W55)-SUM('Кэш-фло'!$C$4:X4))/(1+VAT)","v":0},{"$f":"(SUM(Расчеты!$B$55:X55)-SUM('Кэш-фло'!$C$4:Y4))/(1+VAT)","v":0},{"$f":"(SUM(Расчеты!$B$55:Y55)-SUM('Кэш-фло'!$C$4:Z4))/(1+VAT)","v":0}]
["Текущая часть кредитов","Short Term Share of Loans",{"$f":"-SUM(OFFSET('Кэш-фло'!C17,0,1,1,12/PERIOD_LEN))","v":0},{"$f":"-SUM(OFFSET('Кэш-фло'!D17,0,1,1,12/PERIOD_LEN))","v":0},{"$f":"-SUM(OFFSET('Кэш-фло'!E17,0,1,1,12/PERIOD_LEN))","v":0},{"$f":"-SUM(OFFSET('Кэш-фло'!F17,0,1,1,12/PERIOD_LEN))","v":0},{"$f":"-SUM(OFFSET('Кэш-фло'!G17,0,1,1,12/PERIOD_LEN))","v":0},{"$f":"-SUM(OFFSET('Кэш-фло'!H17,0,1,1,12/PERIOD_LEN))","v":0},{"$f":"-SUM(OFFSET('Кэш-фло'!I17,0,1,1,12/PERIOD_LEN))","v":0},{"$f":"-SUM(OFFSET('Кэш-фло'!J17,0,1,1,12/PERIOD_LEN))","v":0},{"$f":"-SUM(OFFSET('Кэш-фло'!K17,0,1,1,12/PERIOD_LEN))","v":0},{"$f":"-SUM(OFFSET('Кэш-фло'!L17,0,1,1,12/PERIOD_LEN))","v":0},{"$f":"-SUM(OFFSET('Кэш-фло'!M17,0,1,1,12/PERIOD_LEN))","v":0},{"$f":"-SUM(OFFSET('Кэш-фло'!N17,0,1,1,12/PERIOD_LEN))","v":0},{"$f":"-SUM(OFFSET('Кэш-фло'!O17,0,1,1,12/PERIOD_LEN))","v":0},{"$f":"-SUM(OFFSET('Кэш-фло'!P17,0,1,1,12/PERIOD_LEN))","v":0},{"$f":"-SUM(OFFSET('Кэш-фло'!Q17,0,1,1,12/PERIOD_LEN))","v":0},{"$f":"-SUM(OFFSET('Кэш-фло'!R17,0,1,1,12/PERIOD_LEN))","v":0},{"$f":"-SUM(OFFSET('Кэш-фло'!S17,0,1,1,12/PERIOD_LEN))","v":0},{"$f":"-SUM(OFFSET('Кэш-фло'!T17,0,1,1,12/PERIOD_LEN))","v":0},{"$f":"-SUM(OFFSET('Кэш-фло'!U17,0,1,1,12/PERIOD_LEN))","v":0},{"$f":"-SUM(OFFSET('Кэш-фло'!V17,0,1,1,12/PERIOD_LEN))","v":0},{"$f":"-SUM(OFFSET('Кэш-фло'!W17,0,1,1,12/PERIOD_LEN))","v":0},{"$f":"-SUM(OFFSET('Кэш-фло'!X17,0,1,1,12/PERIOD_LEN))","v":0},{"$f":"-SUM(OFFSET('Кэш-фло'!Y17,0,1,1,12/PERIOD_LEN))","v":0},{"$f":"-SUM(OFFSET('Кэш-фло'!Z17,0,1,1,12/PERIOD_LEN))","v":0}]
["Суммарные краткосрочные обязательства","Total Current Liabilities",{"$f":"C17+C18","v":0},{"$f":"D17+D18","v":0},0,0,0,0,0,0,0,0,0,0,{"$f":"O17+O18","v":0},0,0,0,0,0,0,0,0,0,0,0]
["Долгосрочные обязательства","Long Term Debt",{"$f":"Данные!C226+Данные!C232+Данные!C238-C18","v":0},{"$f":"Данные!D226+Данные!D232+Данные!D238-D18","v":0},{"$f":"Данные!E226+Данные!E232+Данные!E238-E18","v":0},{"$f":"Данные!F226+Данные!F232+Данные!F238-F18","v":0},{"$f":"Данные!G226+Данные!G232+Данные!G238-G18","v":0},{"$f":"Данные!H226+Данные!H232+Данные!H238-H18","v":0},{"$f":"Данные!I226+Данные!I232+Данные!I238-I18","v":0},{"$f":"Данные!J226+Данные!J232+Данные!J238-J18","v":0},{"$f":"Данные!K226+Данные!K232+Данные!K238-K18","v":0},{"$f":"Данные!L226+Данные!L232+Данные!L238-L18","v":0},{"$f":"Данные!M226+Данные!M232+Данные!M238-M18","v":0},{"$f":"Данные!N226+Данные!N232+Данные!N238-N18","v":0},{"$f":"Данные!O226+Данные!O232+Данные!O238-O18","v":0},{"$f":"Данные!P226+Данные!P232+Данные!P238-P18","v":0},{"$f":"Данные!Q226+Данные!Q232+Данные!Q238-Q18","v":0},{"$f":"Данные!R226+Данные!R232+Данные!R238-R18","v":0},{"$f":"Данные!S226+Данные!S232+Данные!S238-S18","v":0},{"$f":"Данные!T226+Данные!T232+Данные!T238-T18","v":0},{"$f":"Данные!U226+Данные!U232+Данные!U238-U18","v":0},{"$f":"Данные!V226+Данные!V232+Данные!V238-V18","v":0},{"$f":"Данные!W226+Данные!W232+Данные!W238-W18","v":0},{"$f":"Данные!X226+Данные!X232+Данные!X238-X18","v":0},{"$f":"Данные!Y226+Данные!Y232+Данные!Y238-Y18","v":0},{"$f":"Данные!Z226+Данные!Z232+Данные!Z238-Z18","v":0}]
["Уставной капитал","Ordinary Shares Issued",{"$f":"Данные!C192+'Кэш-фло'!C15","v":0},{"$f":"C21+'Кэш-фло'!D15","v":0},{"$f":"D21+'Кэш-фло'!E15","v":0},{"$f":"E21+'Кэш-фло'!F15","v":0},{"$f":"F21+'Кэш-фло'!G15","v":0},{"$f":"G21+'Кэш-фло'!H15","v":0},{"$f":"H21+'Кэш-фло'!I15","v":0},{"$f":"I21+'Кэш-фло'!J15","v":0},{"$f":"J21+'Кэш-фло'!K15","v":0},{"$f":"K21+'Кэш-фло'!L15","v":0},{"$f":"L21+'Кэш-фло'!M15","v":0},{"$f":"M21+'Кэш-фло'!N15","v":0},{"$f":"N21+'Кэш-фло'!O15","v":0},{"$f":"O21+'Кэш-фло'!P15","v":0},{"$f":"P21+'Кэш-фло'!Q15","v":0},{"$f":"Q21+'Кэш-фло'!R15","v":0},{"$f":"R21+'Кэш-фло'!S15","v":0},{"$f":"S21+'Кэш-фло'!T15","v":0},{"$f":"T21+'Кэш-фло'!U15","v":0},{"$f":"U21+'Кэш-фло'!V15","v":0},{"$f":"V21+'Кэш-фло'!W15","v":0},{"$f":"W21+'Кэш-фло'!X15","v":0},{"$f":"X21+'Кэш-фло'!Y15","v":0},{"$f":"Y21+'Кэш-фло'!Z15","v":0}]
["Резервы","Reserves",{"$f":"Данные!C193","v":0},{"$f":"C22","v":0},0,0,0,0,0,0,0,0,0,0,{"$f":"N22","v":0},0,0,0,0,0,0,0,0,0,0,0]
["Нераспределенная прибыль (убыток)","Retained Earnings",{"$f":"Данные!C194+Данные!C195+Прибыль!C28","v":0},{"$f":"C23+Прибыль!D28","v":0},{"$f":"D23+Прибыль!E28","v":0},{"$f":"E23+Прибыль!F28","v":0},{"$f":"F23+Прибыль!G28","v":0},{"$f":"G23+Прибыль!H28","v":0},{"$f":"H23+Прибыль!I28","v":0},{"$f":"I23+Прибыль!J28","v":0},{"$f":"J23+Прибыль!K28","v":0},{"$f":"K23+Прибыль!L28","v":0},{"$f":"L23+Прибыль!M28","v":0},{"$f":"M23+Прибыль!N28","v":0},{"$f":"N23+Прибыль!O28","v":0},{"$f":"O23+Прибыль!P28","v":0},{"$f":"P23+Прибыль!Q28","v":0},{"$f":"Q23+Прибыль!R28","v":0},{"$f":"R23+Прибыль!S28","v":0},{"$f":"S23+Прибыль!T28","v":0},{"$f":"T23+Прибыль!U28","v":0},{"$f":"U23+Прибыль!V28","v":0},{"$f":"V23+Прибыль!W28","v":0},{"$f":"W23+Прибыль!X28","v":0},{"$f":"X23+Прибыль!Y28","v":0},{"$f":"Y23+Прибыль!Z28","v":0}]
["Суммарный капитал","Total Shareholders Equity",{"$f":"SUM(C21:C23)","v":0},0,0,0,0,0,0,0,0,0,0,0,{"$f":"SUM(O21:O23)","v":0},0,0,0,0,0,0,0,0,0,0,0]
["ИТОГО ОБЯЗАТЕЛЬСТВА И КАПИТАЛ","TOTAL LIABILITIES & EQUITY",{"$f":"C19+C20+C24","v":0},{"$f":"D19+D20+D24","v":0},0,0,0,0,0,0,0,0,0,0,{"$f":"O19+O20+O24","v":0},0,0,0,0,0,0,0,0,0,0,0]

{"sheet":"Кэш-фло","index":3,"n_rows":23,"n_cols":26,"rows_kept":23,"cut":false,"hidden":false,"merged":[]}
["ДВИЖЕНИЕ ДЕНЕЖНЫХ СРЕДСТВ","CASH FLOW STATEMENT",{"$f":"Данные!C40","v":"1 кв./2019"},{"$f":"Данные!D40","v":"2 кв./2019"},{"$f":"Данные!E40","v":"3 кв./2019"},{"$f":"Данные!F40","v":"4 кв./2019"},{"$f":"Данные!G40","v":"1 кв./2020"},{"$f":"Данные!H40","v":"2 кв./2020"},{"$f":"Данные!I40","v":"3 кв./2020"},{"$f":"Данные!J40","v":"4 кв./2020"},{"$f":"Данные!K40","v":"1 кв./2021"},{"$f":"Данные!L40","v":"2 кв./2021"},{"$f":"Данные!M40","v":"3 кв./2021"},{"$f":"Данные!N40","v":"4 кв./2021"},{"$f":"Данные!O40","v":"1 кв./2022"},{"$f":"Данные!P40","v":"2 кв./2022"},{"$f":"Данные!Q40","v":"3 кв./2022"},{"$f":"Данные!R40","v":"4 кв./2022"},{"$f":"Данные!S40","v":"1 кв./2023"},{"$f":"Данные!T40","v":"2 кв./2023"},{"$f":"Данные!U40","v":"3 кв./2023"},{"$f":"Данные!V40","v":"4 кв./2023"},{"$f":"Данные!W40","v":"1 кв./2024"},{"$f":"Данные!X40","v":"2 кв./2024"},{"$f":"Данные!Y40","v":"3 кв./2024"},{"$f":"Данные!Z40","v":"4 кв./2024"}]
[]
["Поступления от продаж","Cash Receipts from Customers",{"$f":"IF(DEBIT_FRA<0.01,IF(Расчеты!B1-DEBIT_INT>0.99,INDEX(Анализ!$B$44:$Y$44,Расчеты!B1-DEBIT_INT),0),IF(Расчеты!B1-DEBIT_INT>1.99,INDEX(Анализ!$B$44:$Y$44,Расчеты!B1-DEBIT_INT-1)*DEBIT_FRA,0)+IF(Расчеты!B1-DEBIT_INT>0.99,INDEX(Анализ!$B$44:$Y$44,Расчеты!B1-DEBIT_INT)*(1-DEBIT_FRA),0))","v":0},{"$f":"IF(DEBIT_FRA<0.01,IF(Расчеты!C1-DEBIT_INT>0.99,INDEX(Анализ!$B$44:$Y$44,Расчеты!C1-DEBIT_INT),0),IF(Расчеты!C1-DEBIT_INT>1.99,INDEX(Анализ!$B$44:$Y$44,Расчеты!C1-DEBIT_INT-1)*DEBIT_FRA,0)+IF(Расчеты!C1-DEBIT_INT>0.99,INDEX(Анализ!$B$44:$Y$44,Расчеты!C1-DEBIT_INT)*(1-DEBIT_FRA),0))","v":0},{"$f":"IF(DEBIT_FRA<0.01,IF(Расчеты!D1-DEBIT_INT>0.99,INDEX(Анализ!$B$44:$Y$44,Расчеты!D1-DEBIT_INT),0),IF(Расчеты!D1-DEBIT_INT>1.99,INDEX(Анализ!$B$44:$Y$44,Расчеты!D1-DEBIT_INT-1)*DEBIT_FRA,0)+IF(Расчеты!D1-DEBIT_INT>0.99,INDEX(Анализ!$B$44:$Y$44,Расчеты!D1-DEBIT_INT)*(1-DEBIT_FRA),0))","v":0},{"$f":"IF(DEBIT_FRA<0.01,IF(Расчеты!E1-DEBIT_INT>0.99,INDEX(Анализ!$B$44:$Y$44,Расчеты!E1-DEBIT_INT),0),IF(Расчеты!E1-DEBIT_INT>1.99,INDEX(Анализ!$B$44:$Y$44,Расчеты!E1-DEBIT_INT-1)*DEBIT_FRA,0)+IF(Расчеты!E1-DEBIT_INT>0.99,INDEX(Анализ!$B$44:$Y$44,Расчеты!E1-DEBIT_INT)*(1-DEBIT_FRA),0))","v":0},{"$f":"IF(DEBIT_FRA<0.01,IF(Расчеты!F1-DEBIT_INT>0.99,INDEX(Анализ!$B$44:$Y$44,Расчеты!F1-DEBIT_INT),0),IF(Расчеты!F1-DEBIT_INT>1.99,INDEX(Анализ!$B$44:$Y$44,Расчеты!F1-DEBIT_INT-1)*DEBIT_FRA,0)+IF(Расчеты!F1-DEBIT_INT>0.99,INDEX(Анализ!$B$44:$Y$44,Расчеты!F1-DEBIT_INT)*(1-DEBIT_FRA),0))","v":0},{"$f":"IF(DEBIT_FRA<0.01,IF(Расчеты!G1-DEBIT_INT>0.99,INDEX(Анализ!$B$44:$Y$44,Расчеты!G1-DEBIT_INT),0),IF(Расчеты!G1-DEBIT_INT>1.99,INDEX(Анализ!$B$44:$Y$44,Расчеты!G1-DEBIT_INT-1)*DEBIT_FRA,0)+IF(Расчеты!G1-DEBIT_INT>0.99,INDEX(Анализ!$B$44:$Y$44,Расчеты!G1-DEBIT_INT)*(1-DEBIT_FRA),0))","v":0},{"$f":"IF(DEBIT_FRA<0.01,IF(Расчеты!H1-DEBIT_INT>0.99,INDEX(Анализ!$B$44:$Y$44,Расчеты!H1-DEBIT_INT),0),IF(Расчеты!H1-DEBIT_INT>1.99,INDEX(Анализ!$B$44:$Y$44,Расчеты!H1-DEBIT_INT-1)*DEBIT_FRA,0)+IF(Расчеты!H1-DEBIT_INT>0.99,INDEX(Анализ!$B$44:$Y$44,Расчеты!H1-DEBIT_INT)*(1-DEBIT_FRA),0))","v":0},{"$f":"IF(DEBIT_FRA<0.01,IF(Расчеты!I1-DEBIT_INT>0.99,INDEX(Анализ!$B$44:$Y$44,Расчеты!I1-DEBIT_INT),0),IF(Расчеты!I1-DEBIT_INT>1.99,INDEX(Анализ!$B$44:$Y$44,Расчеты!I1-DEBIT_INT-1)*DEBIT_FRA,0)+IF(Расчеты!I1-DEBIT_INT>0.99,INDEX(Анализ!$B$44:$Y$44,Расчеты!I1-DEBIT_INT)*(1-DEBIT_FRA),0))","v":0},{"$f":"IF(DEBIT_FRA<0.01,IF(Расчеты!J1-DEBIT_INT>0.99,INDEX(Анализ!$B$44:$Y$44,Расчеты!J1-DEBIT_INT),0),IF(Расчеты!J1-DEBIT_INT>1.99,INDEX(Анализ!$B$44:$Y$44,Расчеты!J1-DEBIT_INT-1)*DEBIT_FRA,0)+IF(Расчеты!J1-DEBIT_INT>0.99,INDEX(Анализ!$B$44:$Y$44,Расчеты!J1-DEBIT_INT)*(1-DEBIT_FRA),0))","v":0},{"$f":"IF(DEBIT_FRA<0.01,IF(Расчеты!K1-DEBIT_INT>0.99,INDEX(Анализ!$B$44:$Y$44,Расчеты!K1-DEBIT_INT),0),IF(Расчеты!K1-DEBIT_INT>1.99,INDEX(Анализ!$B$44:$Y$44,Расчеты!K1-DEBIT_INT-1)*DEBIT_FRA,0)+IF(Расчеты!K1-DEBIT_INT>0.99,INDEX(Анализ!$B$44:$Y$44,Расчеты!K1-DEBIT_INT)*(1-DEBIT_FRA),0))","v":0},{"$f":"IF(DEBIT_FRA<0.01,IF(Расчеты!L1-DEBIT_INT>0.99,INDEX(Анализ!$B$44:$Y$44,Расчеты!L1-DEBIT_INT),0),IF(Расчеты!L1-DEBIT_INT>1.99,INDEX(Анализ!$B$44:$Y$44,Расчеты!L1-DEBIT_INT-1)*DEBIT_FRA,0)+IF(Расчеты!L1-DEBIT_INT>0.99,INDEX(Анализ!$B$44:$Y$44,Расчеты!L1-DEBIT_INT)*(1-DEBIT_FRA),0))","v":0},{"$f":"IF(DEBIT_FRA<0.01,IF(Расчеты!M1-DEBIT_INT>0.99,INDEX(Анализ!$B$44:$Y$44,Расчеты!M1-DEBIT_INT),0),IF(Расчеты!M1-DEBIT_INT>1.99,INDEX(Анализ!$B$44:$Y$44,Расчеты!M1-DEBIT_INT-1)*DEBIT_FRA,0)+IF(Расчеты!M1-DEBIT_INT>0.99,INDEX(Анализ!$B$44:$Y$44,Расчеты!M1-DEBIT_INT)*(1-DEBIT_FRA),0))","v":0},{"$f":"IF(DEBIT_FRA<0.01,IF(Расчеты!N1-DEBIT_INT>0.99,INDEX(Анализ!$B$44:$Y$44,Расчеты!N1-DEBIT_INT),0),IF(Расчеты!N1-DEBIT_INT>1.99,INDEX(Анализ!$B$44:$Y$44,Расчеты!N1-DEBIT_INT-1)*DEBIT_FRA,0)+IF(Расчеты!N1-DEBIT_INT>0.99,INDEX(Анализ!$B$44:$Y$44,Расчеты!N1-DEBIT_INT)*(1-DEBIT_FRA),0))","v":0},{"$f":"IF(DEBIT_FRA<0.01,IF(Расчеты!O1-DEBIT_INT>0.99,INDEX(Анализ!$B$44:$Y$44,Расчеты!O1-DEBIT_INT),0),IF(Расчеты!O1-DEBIT_INT>1.99,INDEX(Анализ!$B$44:$Y$44,Расчеты!O1-DEBIT_INT-1)*DEBIT_FRA,0)+IF(Расчеты!O1-DEBIT_INT>0.99,INDEX(Анализ!$B$44:$Y$44,Расчеты!O1-DEBIT_INT)*(1-DEBIT_FRA),0))","v":0},{"$f":"IF(DEBIT_FRA<0.01,IF(Расчеты!P1-DEBIT_INT>0.99,INDEX(Анализ!$B$44:$Y$44,Расчеты!P1-DEBIT_INT),0),IF(Расчеты!P1-DEBIT_INT>1.99,INDEX(Анализ!$B$44:$Y$44,Расчеты!P1-DEBIT_INT-1)*DEBIT_FRA,0)+IF(Расчеты!P1-DEBIT_INT>0.99,INDEX(Анализ!$B$44:$Y$44,Расчеты!P1-DEBIT_INT)*(1-DEBIT_FRA),0))","v":0},{"$f":"IF(DEBIT_FRA<0.01,IF(Расчеты!Q1-DEBIT_INT>0.99,INDEX(Анализ!$B$44:$Y$44,Расчеты!Q1-DEBIT_INT),0),IF(Расчеты!Q1-DEBIT_INT>1.99,INDEX(Анализ!$B$44:$Y$44,Расчеты!Q1-DEBIT_INT-1)*DEBIT_FRA,0)+IF(Расчеты!Q1-DEBIT_INT>0.99,INDEX(Анализ!$B$44:$Y$44,Расчеты!Q1-DEBIT_INT)*(1-DEBIT_FRA),0))","v":0},{"$f":"IF(DEBIT_FRA<0.01,IF(Расчеты!R1-DEBIT_INT>0.99,INDEX(Анализ!$B$44:$Y$44,Расчеты!R1-DEBIT_INT),0),IF(Расчеты!R1-DEBIT_INT>1.99,INDEX(Анализ!$B$44:$Y$44,Расчеты!R1-DEBIT_INT-1)*DEBIT_FRA,0)+IF(Расчеты!R1-DEBIT_INT>0.99,INDEX(Анализ!$B$44:$Y$44,Расчеты!R1-DEBIT_INT)*(1-DEBIT_FRA),0))","v":0},{"$f":"IF(DEBIT_FRA<0.01,IF(Расчеты!S1-DEBIT_INT>0.99,INDEX(Анализ!$B$44:$Y$44,Расчеты!S1-DEBIT_INT),0),IF(Расчеты!S1-DEBIT_INT>1.99,INDEX(Анализ!$B$44:$Y$44,Расчеты!S1-DEBIT_INT-1)*DEBIT_FRA,0)+IF(Расчеты!S1-DEBIT_INT>0.99,INDEX(Анализ!$B$44:$Y$44,Расчеты!S1-DEBIT_INT)*(1-DEBIT_FRA),0))","v":0},{"$f":"IF(DEBIT_FRA<0.01,IF(Расчеты!T1-DEBIT_INT>0.99,INDEX(Анализ!$B$44:$Y$44,Расчеты!T1-DEBIT_INT),0),IF(Расчеты!T1-DEBIT_INT>1.99,INDEX(Анализ!$B$44:$Y$44,Расчеты!T1-DEBIT_INT-1)*DEBIT_FRA,0)+IF(Расчеты!T1-DEBIT_INT>0.99,INDEX(Анализ!$B$44:$Y$44,Расчеты!T1-DEBIT_INT)*(1-DEBIT_FRA),0))","v":0},{"$f":"IF(DEBIT_FRA<0.01,IF(Расчеты!U1-DEBIT_INT>0.99,INDEX(Анализ!$B$44:$Y$44,Расчеты!U1-DEBIT_INT),0),IF(Расчеты!U1-DEBIT_INT>1.99,INDEX(Анализ!$B$44:$Y$44,Расчеты!U1-DEBIT_INT-1)*DEBIT_FRA,0)+IF(Расчеты!U1-DEBIT_INT>0.99,INDEX(Анализ!$B$44:$Y$44,Расчеты!U1-DEBIT_INT)*(1-DEBIT_FRA),0))","v":0},{"$f":"IF(DEBIT_FRA<0.01,IF(Расчеты!V1-DEBIT_INT>0.99,INDEX(Анализ!$B$44:$Y$44,Расчеты!V1-DEBIT_INT),0),IF(Расчеты!V1-DEBIT_INT>1.99,INDEX(Анализ!$B$44:$Y$44,Расчеты!V1-DEBIT_INT-1)*DEBIT_FRA,0)+IF(Расчеты!V1-DEBIT_INT>0.99,INDEX(Анализ!$B$44:$Y$44,Расчеты!V1-DEBIT_INT)*(1-DEBIT_FRA),0))","v":0},{"$f":"IF(DEBIT_FRA<0.01,IF(Расчеты!W1-DEBIT_INT>0.99,INDEX(Анализ!$B$44:$Y$44,Расчеты!W1-DEBIT_INT),0),IF(Расчеты!W1-DEBIT_INT>1.99,INDEX(Анализ!$B$44:$Y$44,Расчеты!W1-DEBIT_INT-1)*DEBIT_FRA,0)+IF(Расчеты!W1-DEBIT_INT>0.99,INDEX(Анализ!$B$44:$Y$44,Расчеты!W1-DEBIT_INT)*(1-DEBIT_FRA),0))","v":0},{"$f":"IF(DEBIT_FRA<0.01,IF(Расчеты!X1-DEBIT_INT>0.99,INDEX(Анализ!$B$44:$Y$44,Расчеты!X1-DEBIT_INT),0),IF(Расчеты!X1-DEBIT_INT>1.99,INDEX(Анализ!$B$44:$Y$44,Расчеты!X1-DEBIT_INT-1)*DEBIT_FRA,0)+IF(Расчеты!X1-DEBIT_INT>0.99,INDEX(Анализ!$B$44:$Y$44,Расчеты!X1-DEBIT_INT)*(1-DEBIT_FRA),0))","v":0},{"$f":"IF(DEBIT_FRA<0.01,IF(Расчеты!Y1-DEBIT_INT>0.99,INDEX(Анализ!$B$44:$Y$44,Расчеты!Y1-DEBIT_INT),0),IF(Расчеты!Y1-DEBIT_INT>1.99,INDEX(Анализ!$B$44:$Y$44,Расчеты!Y1-DEBIT_INT-1)*DEBIT_FRA,0)+IF(Расчеты!Y1-DEBIT_INT>0.99,INDEX(Анализ!$B$44:$Y$44,Расчеты!Y1-DEBIT_INT)*(1-DEBIT_FRA),0))","v":0}]
["Затраты на материалы и комплектующие","Cash Paid to Suppliers",{"$f":"IF(CREDIT_FRA<0.01,IF(Расчеты!B1-CREDIT_INT>0.99,INDEX(Расчеты!$B$55:$Z$55,Расчеты!B1-CREDIT_INT),0),IF(Расчеты!B1-CREDIT_INT>1.99,INDEX(Расчеты!$B$55:$Z$55,Расчеты!B1-CREDIT_INT-1)*CREDIT_FRA,0)+IF(Расчеты!B1-CREDIT_INT>0.99,INDEX(Расчеты!$B$55:$Z$55,Расчеты!B1-CREDIT_INT)*(1-CREDIT_FRA),0))","v":0},{"$f":"IF(CREDIT_FRA<0.01,IF(Расчеты!C1-CREDIT_INT>0.99,INDEX(Расчеты!$B$55:$Z$55,Расчеты!C1-CREDIT_INT),0),IF(Расчеты!C1-CREDIT_INT>1.99,INDEX(Расчеты!$B$55:$Z$55,Расчеты!C1-CREDIT_INT-1)*CREDIT_FRA,0)+IF(Расчеты!C1-CREDIT_INT>0.99,INDEX(Расчеты!$B$55:$Z$55,Расчеты!C1-CREDIT_INT)*(1-CREDIT_FRA),0))","v":0},{"$f":"IF(CREDIT_FRA<0.01,IF(Расчеты!D1-CREDIT_INT>0.99,INDEX(Расчеты!$B$55:$Z$55,Расчеты!D1-CREDIT_INT),0),IF(Расчеты!D1-CREDIT_INT>1.99,INDEX(Расчеты!$B$55:$Z$55,Расчеты!D1-CREDIT_INT-1)*CREDIT_FRA,0)+IF(Расчеты!D1-CREDIT_INT>0.99,INDEX(Расчеты!$B$55:$Z$55,Расчеты!D1-CREDIT_INT)*(1-CREDIT_FRA),0))","v":0},{"$f":"IF(CREDIT_FRA<0.01,IF(Расчеты!E1-CREDIT_INT>0.99,INDEX(Расчеты!$B$55:$Z$55,Расчеты!E1-CREDIT_INT),0),IF(Расчеты!E1-CREDIT_INT>1.99,INDEX(Расчеты!$B$55:$Z$55,Расчеты!E1-CREDIT_INT-1)*CREDIT_FRA,0)+IF(Расчеты!E1-CREDIT_INT>0.99,INDEX(Расчеты!$B$55:$Z$55,Расчеты!E1-CREDIT_INT)*(1-CREDIT_FRA),0))","v":0},{"$f":"IF(CREDIT_FRA<0.01,IF(Расчеты!F1-CREDIT_INT>0.99,INDEX(Расчеты!$B$55:$Z$55,Расчеты!F1-CREDIT_INT),0),IF(Расчеты!F1-CREDIT_INT>1.99,INDEX(Расчеты!$B$55:$Z$55,Расчеты!F1-CREDIT_INT-1)*CREDIT_FRA,0)+IF(Расчеты!F1-CREDIT_INT>0.99,INDEX(Расчеты!$B$55:$Z$55,Расчеты!F1-CREDIT_INT)*(1-CREDIT_FRA),0))","v":0},{"$f":"IF(CREDIT_FRA<0.01,IF(Расчеты!G1-CREDIT_INT>0.99,INDEX(Расчеты!$B$55:$Z$55,Расчеты!G1-CREDIT_INT),0),IF(Расчеты!G1-CREDIT_INT>1.99,INDEX(Расчеты!$B$55:$Z$55,Расчеты!G1-CREDIT_INT-1)*CREDIT_FRA,0)+IF(Расчеты!G1-CREDIT_INT>0.99,INDEX(Расчеты!$B$55:$Z$55,Расчеты!G1-CREDIT_INT)*(1-CREDIT_FRA),0))","v":0},{"$f":"IF(CREDIT_FRA<0.01,IF(Расчеты!H1-CREDIT_INT>0.99,INDEX(Расчеты!$B$55:$Z$55,Расчеты!H1-CREDIT_INT),0),IF(Расчеты!H1-CREDIT_INT>1.99,INDEX(Расчеты!$B$55:$Z$55,Расчеты!H1-CREDIT_INT-1)*CREDIT_FRA,0)+IF(Расчеты!H1-CREDIT_INT>0.99,INDEX(Расчеты!$B$55:$Z$55,Расчеты!H1-CREDIT_INT)*(1-CREDIT_FRA),0))","v":0},{"$f":"IF(CREDIT_FRA<0.01,IF(Расчеты!I1-CREDIT_INT>0.99,INDEX(Расчеты!$B$55:$Z$55,Расчеты!I1-CREDIT_INT),0),IF(Расчеты!I1-CREDIT_INT>1.99,INDEX(Расчеты!$B$55:$Z$55,Расчеты!I1-CREDIT_INT-1)*CREDIT_FRA,0)+IF(Расчеты!I1-CREDIT_INT>0.99,INDEX(Расчеты!$B$55:$Z$55,Расчеты!I1-CREDIT_INT)*(1-CREDIT_FRA),0))","v":0},{"$f":"IF(CREDIT_FRA<0.01,IF(Расчеты!J1-CREDIT_INT>0.99,INDEX(Расчеты!$B$55:$Z$55,Расчеты!J1-CREDIT_INT),0),IF(Расчеты!J1-CREDIT_INT>1.99,INDEX(Расчеты!$B$55:$Z$55,Расчеты!J1-CREDIT_INT-1)*CREDIT_FRA,0)+IF(Расчеты!J1-CREDIT_INT>0.99,INDEX(Расчеты!$B$55:$Z$55,Расчеты!J1-CREDIT_INT)*(1-CREDIT_FRA),0))","v":0},{"$f":"IF(CREDIT_FRA<0.01,IF(Расчеты!K1-CREDIT_INT>0.99,INDEX(Расчеты!$B$55:$Z$55,Расчеты!K1-CREDIT_INT),0),IF(Расчеты!K1-CREDIT_INT>1.99,INDEX(Расчеты!$B$55:$Z$55,Расчеты!K1-CREDIT_INT-1)*CREDIT_FRA,0)+IF(Расчеты!K1-CREDIT_INT>0.99,INDEX(Расчеты!$B$55:$Z$55,Расчеты!K1-CREDIT_INT)*(1-CREDIT_FRA),0))","v":0},{"$f":"IF(CREDIT_FRA<0.01,IF(Расчеты!L1-CREDIT_INT>0.99,INDEX(Расчеты!$B$55:$Z$55,Расчеты!L1-CREDIT_INT),0),IF(Расчеты!L1-CREDIT_INT>1.99,INDEX(Расчеты!$B$55:$Z$55,Расчеты!L1-CREDIT_INT-1)*CREDIT_FRA,0)+IF(Расчеты!L1-CREDIT_INT>0.99,INDEX(Расчеты!$B$55:$Z$55,Расчеты!L1-CREDIT_INT)*(1-CREDIT_FRA),0))","v":0},{"$f":"IF(CREDIT_FRA<0.01,IF(Расчеты!M1-CREDIT_INT>0.99,INDEX(Расчеты!$B$55:$Z$55,Расчеты!M1-CREDIT_INT),0),IF(Расчеты!M1-CREDIT_INT>1.99,INDEX(Расчеты!$B$55:$Z$55,Расчеты!M1-CREDIT_INT-1)*CREDIT_FRA,0)+IF(Расчеты!M1-CREDIT_INT>0.99,INDEX(Расчеты!$B$55:$Z$55,Расчеты!M1-CREDIT_INT)*(1-CREDIT_FRA),0))","v":0},{"$f":"IF(CREDIT_FRA<0.01,IF(Расчеты!N1-CREDIT_INT>0.99,INDEX(Расчеты!$B$55:$Z$55,Расчеты!N1-CREDIT_INT),0),IF(Расчеты!N1-CREDIT_INT>1.99,INDEX(Расчеты!$B$55:$Z$55,Расчеты!N1-CREDIT_INT-1)*CREDIT_FRA,0)+IF(Расчеты!N1-CREDIT_INT>0.99,INDEX(Расчеты!$B$55:$Z$55,Расчеты!N1-CREDIT_INT)*(1-CREDIT_FRA),0))","v":0},{"$f":"IF(CREDIT_FRA<0.01,IF(Расчеты!O1-CREDIT_INT>0.99,INDEX(Расчеты!$B$55:$Z$55,Расчеты!O1-CREDIT_INT),0),IF(Расчеты!O1-CREDIT_INT>1.99,INDEX(Расчеты!$B$55:$Z$55,Расчеты!O1-CREDIT_INT-1)*CREDIT_FRA,0)+IF(Расчеты!O1-CREDIT_INT>0.99,INDEX(Расчеты!$B$55:$Z$55,Расчеты!O1-CREDIT_INT)*(1-CREDIT_FRA),0))","v":0},{"$f":"IF(CREDIT_FRA<0.01,IF(Расчеты!P1-CREDIT_INT>0.99,INDEX(Расчеты!$B$55:$Z$55,Расчеты!P1-CREDIT_INT),0),IF(Расчеты!P1-CREDIT_INT>1.99,INDEX(Расчеты!$B$55:$Z$55,Расчеты!P1-CREDIT_INT-1)*CREDIT_FRA,0)+IF(Расчеты!P1-CREDIT_INT>0.99,INDEX(Расчеты!$B$55:$Z$55,Расчеты!P1-CREDIT_INT)*(1-CREDIT_FRA),0))","v":0},{"$f":"IF(CREDIT_FRA<0.01,IF(Расчеты!Q1-CREDIT_INT>0.99,INDEX(Расчеты!$B$55:$Z$55,Расчеты!Q1-CREDIT_INT),0),IF(Расчеты!Q1-CREDIT_INT>1.99,INDEX(Расчеты!$B$55:$Z$55,Расчеты!Q1-CREDIT_INT-1)*CREDIT_FRA,0)+IF(Расчеты!Q1-CREDIT_INT>0.99,INDEX(Расчеты!$B$55:$Z$55,Расчеты!Q1-CREDIT_INT)*(1-CREDIT_FRA),0))","v":0},{"$f":"IF(CREDIT_FRA<0.01,IF(Расчеты!R1-CREDIT_INT>0.99,INDEX(Расчеты!$B$55:$Z$55,Расчеты!R1-CREDIT_INT),0),IF(Расчеты!R1-CREDIT_INT>1.99,INDEX(Расчеты!$B$55:$Z$55,Расчеты!R1-CREDIT_INT-1)*CREDIT_FRA,0)+IF(Расчеты!R1-CREDIT_INT>0.99,INDEX(Расчеты!$B$55:$Z$55,Расчеты!R1-CREDIT_INT)*(1-CREDIT_FRA),0))","v":0},{"$f":"IF(CREDIT_FRA<0.01,IF(Расчеты!S1-CREDIT_INT>0.99,INDEX(Расчеты!$B$55:$Z$55,Расчеты!S1-CREDIT_INT),0),IF(Расчеты!S1-CREDIT_INT>1.99,INDEX(Расчеты!$B$55:$Z$55,Расчеты!S1-CREDIT_INT-1)*CREDIT_FRA,0)+IF(Расчеты!S1-CREDIT_INT>0.99,INDEX(Расчеты!$B$55:$Z$55,Расчеты!S1-CREDIT_INT)*(1-CREDIT_FRA),0))","v":0},{"$f":"IF(CREDIT_FRA<0.01,IF(Расчеты!T1-CREDIT_INT>0.99,INDEX(Расчеты!$B$55:$Z$55,Расчеты!T1-CREDIT_INT),0),IF(Расчеты!T1-CREDIT_INT>1.99,INDEX(Расчеты!$B$55:$Z$55,Расчеты!T1-CREDIT_INT-1)*CREDIT_FRA,0)+IF(Расчеты!T1-CREDIT_INT>0.99,INDEX(Расчеты!$B$55:$Z$55,Расчеты!T1-CREDIT_INT)*(1-CREDIT_FRA),0))","v":0},{"$f":"IF(CREDIT_FRA<0.01,IF(Расчеты!U1-CREDIT_INT>0.99,INDEX(Расчеты!$B$55:$Z$55,Расчеты!U1-CREDIT_INT),0),IF(Расчеты!U1-CREDIT_INT>1.99,INDEX(Расчеты!$B$55:$Z$55,Расчеты!U1-CREDIT_INT-1)*CREDIT_FRA,0)+IF(Расчеты!U1-CREDIT_INT>0.99,INDEX(Расчеты!$B$55:$Z$55,Расчеты!U1-CREDIT_INT)*(1-CREDIT_FRA),0))","v":0},{"$f":"IF(CREDIT_FRA<0.01,IF(Расчеты!V1-CREDIT_INT>0.99,INDEX(Расчеты!$B$55:$Z$55,Расчеты!V1-CREDIT_INT),0),IF(Расчеты!V1-CREDIT_INT>1.99,INDEX(Расчеты!$B$55:$Z$55,Расчеты!V1-CREDIT_INT-1)*CREDIT_FRA,0)+IF(Расчеты!V1-CREDIT_INT>0.99,INDEX(Расчеты!$B$55:$Z$55,Расчеты!V1-CREDIT_INT)*(1-CREDIT_FRA),0))","v":0},{"$f":"IF(CREDIT_FRA<0.01,IF(Расчеты!W1-CREDIT_INT>0.99,INDEX(Расчеты!$B$55:$Z$55,Расчеты!W1-CREDIT_INT),0),IF(Расчеты!W1-CREDIT_INT>1.99,INDEX(Расчеты!$B$55:$Z$55,Расчеты!W1-CREDIT_INT-1)*CREDIT_FRA,0)+IF(Расчеты!W1-CREDIT_INT>0.99,INDEX(Расчеты!$B$55:$Z$55,Расчеты!W1-CREDIT_INT)*(1-CREDIT_FRA),0))","v":0},{"$f":"IF(CREDIT_FRA<0.01,IF(Расчеты!X1-CREDIT_INT>0.99,INDEX(Расчеты!$B$55:$Z$55,Расчеты!X1-CREDIT_INT),0),IF(Расчеты!X1-CREDIT_INT>1.99,INDEX(Расчеты!$B$55:$Z$55,Расчеты!X1-CREDIT_INT-1)*CREDIT_FRA,0)+IF(Расчеты!X1-CREDIT_INT>0.99,INDEX(Расчеты!$B$55:$Z$55,Расчеты!X1-CREDIT_INT)*(1-CREDIT_FRA),0))","v":0},{"$f":"IF(CREDIT_FRA<0.01,IF(Расчеты!Y1-CREDIT_INT>0.99,INDEX(Расчеты!$B$55:$Z$55,Расчеты!Y1-CREDIT_INT),0),IF(Расчеты!Y1-CREDIT_INT>1.99,INDEX(Расчеты!$B$55:$Z$55,Расчеты!Y1-CREDIT_INT-1)*CREDIT_FRA,0)+IF(Расчеты!Y1-CREDIT_INT>0.99,INDEX(Расчеты!$B$55:$Z$55,Расчеты!Y1-CREDIT_INT)*(1-CREDIT_FRA),0))","v":0}]
["Постоянные издержки","Operating Expenses Paid",{"$f":"Прибыль!C13*(1+VAT)","v":0},{"$f":"Прибыль!D13*(1+VAT)","v":0},{"$f":"Прибыль!E13*(1+VAT)","v":0},{"$f":"Прибыль!F13*(1+VAT)","v":0},{"$f":"Прибыль!G13*(1+VAT)","v":0},{"$f":"Прибыль!H13*(1+VAT)","v":0},{"$f":"Прибыль!I13*(1+VAT)","v":0},{"$f":"Прибыль!J13*(1+VAT)","v":0},{"$f":"Прибыль!K13*(1+VAT)","v":0},{"$f":"Прибыль!L13*(1+VAT)","v":0},{"$f":"Прибыль!M13*(1+VAT)","v":0},{"$f":"Прибыль!N13*(1+VAT)","v":0},{"$f":"Прибыль!O13*(1+VAT)","v":0},{"$f":"Прибыль!P13*(1+VAT)","v":0},{"$f":"Прибыль!Q13*(1+VAT)","v":0},{"$f":"Прибыль!R13*(1+VAT)","v":0},{"$f":"Прибыль!S13*(1+VAT)","v":0},{"$f":"Прибыль!T13*(1+VAT)","v":0},{"$f":"Прибыль!U13*(1+VAT)","v":0},{"$f":"Прибыль!V13*(1+VAT)","v":0},{"$f":"Прибыль!W13*(1+VAT)","v":0},{"$f":"Прибыль!X13*(1+VAT)","v":0},{"$f":"Прибыль!Y13*(1+VAT)","v":0},{"$f":"Прибыль!Z13*(1+VAT)","v":0}]
["Зарплата и социальные взносы","Salary and Social Insurance Tax",{"$f":"Прибыль!C5+Прибыль!C9","v":0},{"$f":"Прибыль!D5+Прибыль!D9","v":0},{"$f":"Прибыль!E5+Прибыль!E9","v":0},{"$f":"Прибыль!F5+Прибыль!F9","v":0},{"$f":"Прибыль!G5+Прибыль!G9","v":0},{"$f":"Прибыль!H5+Прибыль!H9","v":0},{"$f":"Прибыль!I5+Прибыль!I9","v":0},{"$f":"Прибыль!J5+Прибыль!J9","v":0},{"$f":"Прибыль!K5+Прибыль!K9","v":0},{"$f":"Прибыль!L5+Прибыль!L9","v":0},{"$f":"Прибыль!M5+Прибыль!M9","v":0},{"$f":"Прибыль!N5+Прибыль!N9","v":0},{"$f":"Прибыль!O5+Прибыль!O9","v":0},{"$f":"Прибыль!P5+Прибыль!P9","v":0},{"$f":"Прибыль!Q5+Прибыль!Q9","v":0},{"$f":"Прибыль!R5+Прибыль!R9","v":0},{"$f":"Прибыль!S5+Прибыль!S9","v":0},{"$f":"Прибыль!T5+Прибыль!T9","v":0},{"$f":"Прибыль!U5+Прибыль!U9","v":0},{"$f":"Прибыль!V5+Прибыль!V9","v":0},{"$f":"Прибыль!W5+Прибыль!W9","v":0},{"$f":"Прибыль!X5+Прибыль!X9","v":0},{"$f":"Прибыль!Y5+Прибыль!Y9","v":0},{"$f":"Прибыль!Z5+Прибыль!Z9","v":0}]
["Налоги","Other Taxes Paid",{"$f":"Расчеты!B50+Прибыль!C27+Прибыль!C6+Прибыль!C8","v":0},{"$f":"Расчеты!C50+Прибыль!D27+Прибыль!D6+Прибыль!D8","v":0},{"$f":"Расчеты!D50+Прибыль!E27+Прибыль!E6+Прибыль!E8","v":0},{"$f":"Расчеты!E50+Прибыль!F27+Прибыль!F6+Прибыль!F8","v":0},{"$f":"Расчеты!F50+Прибыль!G27+Прибыль!G6+Прибыль!G8","v":0},{"$f":"Расчеты!G50+Прибыль!H27+Прибыль!H6+Прибыль!H8","v":0},{"$f":"Расчеты!H50+Прибыль!I27+Прибыль!I6+Прибыль!I8","v":0},{"$f":"Расчеты!I50+Прибыль!J27+Прибыль!J6+Прибыль!J8","v":0},{"$f":"Расчеты!J50+Прибыль!K27+Прибыль!K6+Прибыль!K8","v":0},{"$f":"Расчеты!K50+Прибыль!L27+Прибыль!L6+Прибыль!L8","v":0},{"$f":"Расчеты!L50+Прибыль!M27+Прибыль!M6+Прибыль!M8","v":0},{"$f":"Расчеты!M50+Прибыль!N27+Прибыль!N6+Прибыль!N8","v":0},{"$f":"Расчеты!N50+Прибыль!O27+Прибыль!O6+Прибыль!O8","v":0},{"$f":"Расчеты!O50+Прибыль!P27+Прибыль!P6+Прибыль!P8","v":0},{"$f":"Расчеты!P50+Прибыль!Q27+Прибыль!Q6+Прибыль!Q8","v":0},{"$f":"Расчеты!Q50+Прибыль!R27+Прибыль!R6+Прибыль!R8","v":0},{"$f":"Расчеты!R50+Прибыль!S27+Прибыль!S6+Прибыль!S8","v":0},{"$f":"Расчеты!S50+Прибыль!T27+Прибыль!T6+Прибыль!T8","v":0},{"$f":"Расчеты!T50+Прибыль!U27+Прибыль!U6+Прибыль!U8","v":0},{"$f":"Расчеты!U50+Прибыль!V27+Прибыль!V6+Прибыль!V8","v":0},{"$f":"Расчеты!V50+Прибыль!W27+Прибыль!W6+Прибыль!W8","v":0},{"$f":"Расчеты!W50+Прибыль!X27+Прибыль!X6+Прибыль!X8","v":0},{"$f":"Расчеты!X50+Прибыль!Y27+Прибыль!Y6+Прибыль!Y8","v":0},{"$f":"Расчеты!Y50+Прибыль!Z27+Прибыль!Z6+Прибыль!Z8","v":0}]
["Кэш-фло от операционной деятельности","Net Cash from Operating Activities",{"$f":"C3-C4-C5-C6-C7","v":0},{"$f":"D3-D4-D5-D6-D7","v":0},0,0,0,0,0,0,0,0,0,0,{"$f":"O3-O4-O5-O6-O7","v":0},0,0,0,0,0,0,0,0,0,0,0]
[]
["Приобретение основных средств","Purchase of Property and Equipment",{"$f":"Данные!C208","v":0},{"$f":"Данные!D208","v":0},{"$f":"Данные!E208","v":0},{"$f":"Данные!F208","v":0},{"$f":"Данные!G208","v":0},{"$f":"Данные!H208","v":0},{"$f":"Данные!I208","v":0},{"$f":"Данные!J208","v":0},{"$f":"Данные!K208","v":0},{"$f":"Данные!L208","v":0},{"$f":"Данные!M208","v":0},{"$f":"Данные!N208","v":0},{"$f":"Данные!O208","v":0},{"$f":"Данные!P208","v":0},{"$f":"Данные!Q208","v":0},{"$f":"Данные!R208","v":0},{"$f":"Данные!S208","v":0},{"$f":"Данные!T208","v":0},{"$f":"Данные!U208","v":0},{"$f":"Данные!V208","v":0},{"$f":"Данные!W208","v":0},{"$f":"Данные!X208","v":0},{"$f":"Данные!Y208","v":0},{"$f":"Данные!Z208","v":0}]
["Строительство","Construction Expenses Paid",{"$f":"Данные!C215","v":0},{"$f":"Данные!D215","v":0},{"$f":"Данные!E215","v":0},{"$f":"Данные!F215","v":0},{"$f":"Данные!G215","v":0},{"$f":"Данные!H215","v":0},{"$f":"Данные!I215","v":0},{"$f":"Данные!J215","v":0},{"$f":"Данные!K215","v":0},{"$f":"Данные!L215","v":0},{"$f":"Данные!M215","v":0},{"$f":"Данные!N215","v":0},{"$f":"Данные!O215","v":0},{"$f":"Данные!P215","v":0},{"$f":"Данные!Q215","v":0},{"$f":"Данные!R215","v":0},{"$f":"Данные!S215","v":0},{"$f":"Данные!T215","v":0},{"$f":"Данные!U215","v":0},{"$f":"Данные!V215","v":0},{"$f":"Данные!W215","v":0},{"$f":"Данные!X215","v":0},{"$f":"Данные!Y215","v":0},{"$f":"Данные!Z215","v":0}]
["Прочие капиталовложения","Other Start-Up Expenses Paid",{"$f":"Данные!C218","v":0},{"$f":"Данные!D218","v":0},{"$f":"Данные!E218","v":0},{"$f":"Данные!F218","v":0},{"$f":"Данные!G218","v":0},{"$f":"Данные!H218","v":0},{"$f":"Данные!I218","v":0},{"$f":"Данные!J218","v":0},{"$f":"Данные!K218","v":0},{"$f":"Данные!L218","v":0},{"$f":"Данные!M218","v":0},{"$f":"Данные!N218","v":0},{"$f":"Данные!O218","v":0},{"$f":"Данные!P218","v":0},{"$f":"Данные!Q218","v":0},{"$f":"Данные!R218","v":0},{"$f":"Данные!S218","v":0},{"$f":"Данные!T218","v":0},{"$f":"Данные!U218","v":0},{"$f":"Данные!V218","v":0},{"$f":"Данные!W218","v":0},{"$f":"Данные!X218","v":0},{"$f":"Данные!Y218","v":0},{"$f":"Данные!Z218","v":0}]
["Кэш-фло от инвестиционной деятельности","Net Cash from Investment Activities",{"$f":"-C10-C11-C12","v":0},{"$f":"-D10-D11-D12","v":0},0,0,0,0,0,0,0,0,0,0,{"$f":"-O10-O11-O12","v":0},0,0,0,0,0,0,0,0,0,0,0]
[]
["Акционерный капитал","Proceeds from Issue of Share Capital",{"$f":"SUM(Данные!B250:B254)","v":0},{"$f":"0","v":0},{"$f":"0","v":0},{"$f":"0","v":0},{"$f":"0","v":0},{"$f":"0","v":0},{"$f":"0","v":0},{"$f":"0","v":0},{"$f":"0","v":0},{"$f":"0","v":0},{"$f":"0","v":0},{"$f":"0","v":0},{"$f":"0","v":0},{"$f":"0","v":0},{"$f":"0","v":0},{"$f":"0","v":0},{"$f":"0","v":0},{"$f":"0","v":0},{"$f":"0","v":0},{"$f":"0","v":0},{"$f":"0","v":0},{"$f":"0","v":0},{"$f":"0","v":0},{"$f":"0","v":0}]
["Поступления заемных средств","Proceeds from Debt",{"$f":"Данные!C245","v":0},{"$f":"Данные!D245","v":0},{"$f":"Данные!E245","v":0},{"$f":"Данные!F245","v":0},{"$f":"Данные!G245","v":0},{"$f":"Данные!H245","v":0},{"$f":"Данные!I245","v":0},{"$f":"Данные!J245","v":0},{"$f":"Данные!K245","v":0},{"$f":"Данные!L245","v":0},{"$f":"Данные!M245","v":0},{"$f":"Данные!N245","v":0},{"$f":"Данные!O245","v":0},{"$f":"Данные!P245","v":0},{"$f":"Данные!Q245","v":0},{"$f":"Данные!R245","v":0},{"$f":"Данные!S245","v":0},{"$f":"Данные!T245","v":0},{"$f":"Данные!U245","v":0},{"$f":"Данные!V245","v":0},{"$f":"Данные!W245","v":0},{"$f":"Данные!X245","v":0},{"$f":"Данные!Y245","v":0},{"$f":"Данные!Z245","v":0}]
["Возврат займов","Repayment of Debt",{"$f":"-Данные!C246","v":0},{"$f":"-Данные!D246","v":0},{"$f":"-Данные!E246","v":0},{"$f":"-Данные!F246","v":0},{"$f":"-Данные!G246","v":0},{"$f":"-Данные!H246","v":0},{"$f":"-Данные!I246","v":0},{"$f":"-Данные!J246","v":0},{"$f":"-Данные!K246","v":0},{"$f":"-Данные!L246","v":0},{"$f":"-Данные!M246","v":0},{"$f":"-Данные!N246","v":0},{"$f":"-Данные!O246","v":0},{"$f":"-Данные!P246","v":0},{"$f":"-Данные!Q246","v":0},{"$f":"-Данные!R246","v":0},{"$f":"-Данные!S246","v":0},{"$f":"-Данные!T246","v":0},{"$f":"-Данные!U246","v":0},{"$f":"-Данные!V246","v":0},{"$f":"-Данные!W246","v":0},{"$f":"-Данные!X246","v":0},{"$f":"-Данные!Y246","v":0},{"$f":"-Данные!Z246","v":0}]
["Расходы по процентам","Interest Paid",{"$f":"-Данные!C244","v":0},{"$f":"-Данные!D244","v":0},{"$f":"-Данные!E244","v":0},{"$f":"-Данные!F244","v":0},{"$f":"-Данные!G244","v":0},{"$f":"-Данные!H244","v":0},{"$f":"-Данные!I244","v":0},{"$f":"-Данные!J244","v":0},{"$f":"-Данные!K244","v":0},{"$f":"-Данные!L244","v":0},{"$f":"-Данные!M244","v":0},{"$f":"-Данные!N244","v":0},{"$f":"-Данные!O244","v":0},{"$f":"-Данные!P244","v":0},{"$f":"-Данные!Q244","v":0},{"$f":"-Данные!R244","v":0},{"$f":"-Данные!S244","v":0},{"$f":"-Данные!T244","v":0},{"$f":"-Данные!U244","v":0},{"$f":"-Данные!V244","v":0},{"$f":"-Данные!W244","v":0},{"$f":"-Данные!X244","v":0},{"$f":"-Данные!Y244","v":0},{"$f":"-Данные!Z244","v":0}]
["Кэш-фло от финансовой деятельности","Net Cash from Financing Activities",{"$f":"SUM(C15:C18)","v":0},{"$f":"SUM(D15:D18)","v":0},0,0,0,0,0,0,0,0,0,0,{"$f":"SUM(O15:O18)","v":0},0,0,0,0,0,0,0,0,0,0,0]
[]
["СУММАРНЫЙ ДЕНЕЖНЫЙ ПОТОК","NET CASH FLOW",{"$f":"C8+C13+C19","v":0},{"$f":"D8+D13+D19","v":0},0,0,0,0,0,0,0,0,0,0,{"$f":"O8+O13+O19","v":0},0,0,0,0,0,0,0,0,0,0,0]
["Денежные средства на начало периода","Cash at Beginning of Period",{"$f":"Данные!C176","v":0},{"$f":"C23","v":0},0,0,{"$f":"F23","v":0},{"$f":"G23","v":0},0,0,0,0,0,0,{"$f":"N23","v":0},0,0,0,0,0,0,0,0,0,0,0]
["Денежные средства на конец периода","Cash at End of Period",{"$f":"C22+C21","v":0},0,0,0,0,0,0,0,0,0,0,0,{"$f":"O22+O21","v":0},0,0,0,0,0,0,0,0,0,0,0]

{"sheet":"Анализ","index":4,"n_rows":121,"n_cols":25,"rows_kept":121,"cut":false,"hidden":false,"merged":[]}
["ОЦЕНКА СТОИМОСТИ БИЗНЕСА"]
[]
["Оценка выполнена для WACC =",{"$f":"Данные!B34","v":0}]
["Оценка методом дисконтированного кэш-фло",{"$f":"B38","v":0},"USD"]
["Оценка с учетом активов на конец проекта",{"$f":"B38+(INDIRECT(ADDRESS(19,1+Расчеты!B10,,1,\"Баланс\"))+INDIRECT(ADDRESS(4,1+Расчеты!B10,,1,\"Баланс\"))+INDIRECT(ADDRESS(5,1+Расчеты!B10,,1,\"Баланс\"))+INDIRECT(ADDRESS(6,1+Расчеты!B10,,1,\"Баланс\"))-INDIRECT(ADDRESS(23,1+Расчеты!B10,,1,\"Баланс\")))/POWER(1+B3,0.0833333*Расчеты!B10*Расчеты!B9)","v":0},"USD"]
["Оценка с учетом продленного кэш-фло",{"$f":"IF(B3>0,B38+INDIRECT(ADDRESS(30,1+Расчеты!B10,,1))/B3,\"N/A\")","v":"N/A"},"USD"]
[]
["ФИНАНСОВЫЕ ПОКАЗАТЕЛИ",{"$f":"Данные!C40","v":"1 кв./2019"},{"$f":"Данные!D40","v":"2 кв./2019"},{"$f":"Данные!E40","v":"3 кв./2019"},{"$f":"Данные!F40","v":"4 кв./2019"},{"$f":"Данные!G40","v":"1 кв./2020"},{"$f":"Данные!H40","v":"2 кв./2020"},{"$f":"Данные!I40","v":"3 кв./2020"},{"$f":"Данные!J40","v":"4 кв./2020"},{"$f":"Данные!K40","v":"1 кв./2021"},{"$f":"Данные!L40","v":"2 кв./2021"},{"$f":"Данные!M40","v":"3 кв./2021"},{"$f":"Данные!N40","v":"4 кв./2021"},{"$f":"Данные!O40","v":"1 кв./2022"},{"$f":"Данные!P40","v":"2 кв./2022"},{"$f":"Данные!Q40","v":"3 кв./2022"},{"$f":"Данные!R40","v":"4 кв./2022"},{"$f":"Данные!S40","v":"1 кв./2023"},{"$f":"Данные!T40","v":"2 кв./2023"},{"$f":"Данные!U40","v":"3 кв./2023"},{"$f":"Данные!V40","v":"4 кв./2023"},{"$f":"Данные!W40","v":"1 кв./2024"},{"$f":"Данные!X40","v":"2 кв./2024"},{"$f":"Данные!Y40","v":"3 кв./2024"},{"$f":"Данные!Z40","v":"4 кв./2024"}]
[]
["Коэффициенты ликвидности"]
["Коэффициент абсолютной ликвидности",{"$f":"IF(Баланс!C19>0.01,Баланс!C2/Баланс!C19,\"-\")","v":"-"},{"$f":"IF(Баланс!D19>0.01,Баланс!D2/Баланс!D19,\"-\")","v":"-"},{"$f":"IF(Баланс!E19>0.01,Баланс!E2/Баланс!E19,\"-\")","v":"-"},{"$f":"IF(Баланс!F19>0.01,Баланс!F2/Баланс!F19,\"-\")","v":"-"},{"$f":"IF(Баланс!G19>0.01,Баланс!G2/Баланс!G19,\"-\")","v":"-"},{"$f":"IF(Баланс!H19>0.01,Баланс!H2/Баланс!H19,\"-\")","v":"-"},{"$f":"IF(Баланс!I19>0.01,Баланс!I2/Баланс!I19,\"-\")","v":"-"},{"$f":"IF(Баланс!J19>0.01,Баланс!J2/Баланс!J19,\"-\")","v":"-"},{"$f":"IF(Баланс!K19>0.01,Баланс!K2/Баланс!K19,\"-\")","v":"-"},{"$f":"IF(Баланс!L19>0.01,Баланс!L2/Баланс!L19,\"-\")","v":"-"},{"$f":"IF(Баланс!M19>0.01,Баланс!M2/Баланс!M19,\"-\")","v":"-"},{"$f":"IF(Баланс!N19>0.01,Баланс!N2/Баланс!N19,\"-\")","v":"-"},{"$f":"IF(Баланс!O19>0.01,Баланс!O2/Баланс!O19,\"-\")","v":"-"},{"$f":"IF(Баланс!P19>0.01,Баланс!P2/Баланс!P19,\"-\")","v":"-"},{"$f":"IF(Баланс!Q19>0.01,Баланс!Q2/Баланс!Q19,\"-\")","v":"-"},{"$f":"IF(Баланс!R19>0.01,Баланс!R2/Баланс!R19,\"-\")","v":"-"},{"$f":"IF(Баланс!S19>0.01,Баланс!S2/Баланс!S19,\"-\")","v":"-"},{"$f":"IF(Баланс!T19>0.01,Баланс!T2/Баланс!T19,\"-\")","v":"-"},{"$f":"IF(Баланс!U19>0.01,Баланс!U2/Баланс!U19,\"-\")","v":"-"},{"$f":"IF(Баланс!V19>0.01,Баланс!V2/Баланс!V19,\"-\")","v":"-"},{"$f":"IF(Баланс!W19>0.01,Баланс!W2/Баланс!W19,\"-\")","v":"-"},{"$f":"IF(Баланс!X19>0.01,Баланс!X2/Баланс!X19,\"-\")","v":"-"},{"$f":"IF(Баланс!Y19>0.01,Баланс!Y2/Баланс!Y19,\"-\")","v":"-"},{"$f":"IF(Баланс!Z19>0.01,Баланс!Z2/Баланс!Z19,\"-\")","v":"-"}]
["Коэффициент срочной ликвидности",{"$f":"IF(Баланс!C19>0.01,(Баланс!C2+Баланс!C3)/Баланс!C19,\"-\")","v":"-"},{"$f":"IF(Баланс!D19>0.01,(Баланс!D2+Баланс!D3)/Баланс!D19,\"-\")","v":"-"},{"$f":"IF(Баланс!E19>0.01,(Баланс!E2+Баланс!E3)/Баланс!E19,\"-\")","v":"-"},{"$f":"IF(Баланс!F19>0.01,(Баланс!F2+Баланс!F3)/Баланс!F19,\"-\")","v":"-"},{"$f":"IF(Баланс!G19>0.01,(Баланс!G2+Баланс!G3)/Баланс!G19,\"-\")","v":"-"},{"$f":"IF(Баланс!H19>0.01,(Баланс!H2+Баланс!H3)/Баланс!H19,\"-\")","v":"-"},{"$f":"IF(Баланс!I19>0.01,(Баланс!I2+Баланс!I3)/Баланс!I19,\"-\")","v":"-"},{"$f":"IF(Баланс!J19>0.01,(Баланс!J2+Баланс!J3)/Баланс!J19,\"-\")","v":"-"},{"$f":"IF(Баланс!K19>0.01,(Баланс!K2+Баланс!K3)/Баланс!K19,\"-\")","v":"-"},{"$f":"IF(Баланс!L19>0.01,(Баланс!L2+Баланс!L3)/Баланс!L19,\"-\")","v":"-"},{"$f":"IF(Баланс!M19>0.01,(Баланс!M2+Баланс!M3)/Баланс!M19,\"-\")","v":"-"},{"$f":"IF(Баланс!N19>0.01,(Баланс!N2+Баланс!N3)/Баланс!N19,\"-\")","v":"-"},{"$f":"IF(Баланс!O19>0.01,(Баланс!O2+Баланс!O3)/Баланс!O19,\"-\")","v":"-"},{"$f":"IF(Баланс!P19>0.01,(Баланс!P2+Баланс!P3)/Баланс!P19,\"-\")","v":"-"},{"$f":"IF(Баланс!Q19>0.01,(Баланс!Q2+Баланс!Q3)/Баланс!Q19,\"-\")","v":"-"},{"$f":"IF(Баланс!R19>0.01,(Баланс!R2+Баланс!R3)/Баланс!R19,\"-\")","v":"-"},{"$f":"IF(Баланс!S19>0.01,(Баланс!S2+Баланс!S3)/Баланс!S19,\"-\")","v":"-"},{"$f":"IF(Баланс!T19>0.01,(Баланс!T2+Баланс!T3)/Баланс!T19,\"-\")","v":"-"},{"$f":"IF(Баланс!U19>0.01,(Баланс!U2+Баланс!U3)/Баланс!U19,\"-\")","v":"-"},{"$f":"IF(Баланс!V19>0.01,(Баланс!V2+Баланс!V3)/Баланс!V19,\"-\")","v":"-"},{"$f":"IF(Баланс!W19>0.01,(Баланс!W2+Баланс!W3)/Баланс!W19,\"-\")","v":"-"},{"$f":"IF(Баланс!X19>0.01,(Баланс!X2+Баланс!X3)/Баланс!X19,\"-\")","v":"-"},{"$f":"IF(Баланс!Y19>0.01,(Баланс!Y2+Баланс!Y3)/Баланс!Y19,\"-\")","v":"-"},{"$f":"IF(Баланс!Z19>0.01,(Баланс!Z2+Баланс!Z3)/Баланс!Z19,\"-\")","v":"-"}]
["Коэффициент текущей ликвидности",{"$f":"IF(Баланс!C19>0.01,Баланс!C6/Баланс!C19,\"-\")","v":"-"},{"$f":"IF(Баланс!D19>0.01,Баланс!D6/Баланс!D19,\"-\")","v":"-"},{"$f":"IF(Баланс!E19>0.01,Баланс!E6/Баланс!E19,\"-\")","v":"-"},{"$f":"IF(Баланс!F19>0.01,Баланс!F6/Баланс!F19,\"-\")","v":"-"},{"$f":"IF(Баланс!G19>0.01,Баланс!G6/Баланс!G19,\"-\")","v":"-"},{"$f":"IF(Баланс!H19>0.01,Баланс!H6/Баланс!H19,\"-\")","v":"-"},{"$f":"IF(Баланс!I19>0.01,Баланс!I6/Баланс!I19,\"-\")","v":"-"},{"$f":"IF(Баланс!J19>0.01,Баланс!J6/Баланс!J19,\"-\")","v":"-"},{"$f":"IF(Баланс!K19>0.01,Баланс!K6/Баланс!K19,\"-\")","v":"-"},{"$f":"IF(Баланс!L19>0.01,Баланс!L6/Баланс!L19,\"-\")","v":"-"},{"$f":"IF(Баланс!M19>0.01,Баланс!M6/Баланс!M19,\"-\")","v":"-"},{"$f":"IF(Баланс!N19>0.01,Баланс!N6/Баланс!N19,\"-\")","v":"-"},{"$f":"IF(Баланс!O19>0.01,Баланс!O6/Баланс!O19,\"-\")","v":"-"},{"$f":"IF(Баланс!P19>0.01,Баланс!P6/Баланс!P19,\"-\")","v":"-"},{"$f":"IF(Баланс!Q19>0.01,Баланс!Q6/Баланс!Q19,\"-\")","v":"-"},{"$f":"IF(Баланс!R19>0.01,Баланс!R6/Баланс!R19,\"-\")","v":"-"},{"$f":"IF(Баланс!S19>0.01,Баланс!S6/Баланс!S19,\"-\")","v":"-"},{"$f":"IF(Баланс!T19>0.01,Баланс!T6/Баланс!T19,\"-\")","v":"-"},{"$f":"IF(Баланс!U19>0.01,Баланс!U6/Баланс!U19,\"-\")","v":"-"},{"$f":"IF(Баланс!V19>0.01,Баланс!V6/Баланс!V19,\"-\")","v":"-"},{"$f":"IF(Баланс!W19>0.01,Баланс!W6/Баланс!W19,\"-\")","v":"-"},{"$f":"IF(Баланс!X19>0.01,Баланс!X6/Баланс!X19,\"-\")","v":"-"},{"$f":"IF(Баланс!Y19>0.01,Баланс!Y6/Баланс!Y19,\"-\")","v":"-"},{"$f":"IF(Баланс!Z19>0.01,Баланс!Z6/Баланс!Z19,\"-\")","v":"-"}]
["Чистый оборотный капитал",{"$f":"Баланс!C6-Баланс!C19","v":0},{"$f":"Баланс!D6-Баланс!D19","v":0},{"$f":"Баланс!E6-Баланс!E19","v":0},{"$f":"Баланс!F6-Баланс!F19","v":0},{"$f":"Баланс!G6-Баланс!G19","v":0},{"$f":"Баланс!H6-Баланс!H19","v":0},{"$f":"Баланс!I6-Баланс!I19","v":0},{"$f":"Баланс!J6-Баланс!J19","v":0},{"$f":"Баланс!K6-Баланс!K19","v":0},{"$f":"Баланс!L6-Баланс!L19","v":0},{"$f":"Баланс!M6-Баланс!M19","v":0},{"$f":"Баланс!N6-Баланс!N19","v":0},{"$f":"Баланс!O6-Баланс!O19","v":0},{"$f":"Баланс!P6-Баланс!P19","v":0},{"$f":"Баланс!Q6-Баланс!Q19","v":0},{"$f":"Баланс!R6-Баланс!R19","v":0},{"$f":"Баланс!S6-Баланс!S19","v":0},{"$f":"Баланс!T6-Баланс!T19","v":0},{"$f":"Баланс!U6-Баланс!U19","v":0},{"$f":"Баланс!V6-Баланс!V19","v":0},{"$f":"Баланс!W6-Баланс!W19","v":0},{"$f":"Баланс!X6-Баланс!X19","v":0},{"$f":"Баланс!Y6-Баланс!Y19","v":0},{"$f":"Баланс!Z6-Баланс!Z19","v":0}]
["Показатели структуры капитала"]
["Коэффициент финансовой независимости",{"$f":"IF(Баланс!C25>0.01,Баланс!C24/Баланс!C25,\"-\")","v":"-"},{"$f":"IF(Баланс!D25>0.01,Баланс!D24/Баланс!D25,\"-\")","v":"-"},{"$f":"IF(Баланс!E25>0.01,Баланс!E24/Баланс!E25,\"-\")","v":"-"},{"$f":"IF(Баланс!F25>0.01,Баланс!F24/Баланс!F25,\"-\")","v":"-"},{"$f":"IF(Баланс!G25>0.01,Баланс!G24/Баланс!G25,\"-\")","v":"-"},{"$f":"IF(Баланс!H25>0.01,Баланс!H24/Баланс!H25,\"-\")","v":"-"},{"$f":"IF(Баланс!I25>0.01,Баланс!I24/Баланс!I25,\"-\")","v":"-"},{"$f":"IF(Баланс!J25>0.01,Баланс!J24/Баланс!J25,\"-\")","v":"-"},{"$f":"IF(Баланс!K25>0.01,Баланс!K24/Баланс!K25,\"-\")","v":"-"},{"$f":"IF(Баланс!L25>0.01,Баланс!L24/Баланс!L25,\"-\")","v":"-"},{"$f":"IF(Баланс!M25>0.01,Баланс!M24/Баланс!M25,\"-\")","v":"-"},{"$f":"IF(Баланс!N25>0.01,Баланс!N24/Баланс!N25,\"-\")","v":"-"},{"$f":"IF(Баланс!O25>0.01,Баланс!O24/Баланс!O25,\"-\")","v":"-"},{"$f":"IF(Баланс!P25>0.01,Баланс!P24/Баланс!P25,\"-\")","v":"-"},{"$f":"IF(Баланс!Q25>0.01,Баланс!Q24/Баланс!Q25,\"-\")","v":"-"},{"$f":"IF(Баланс!R25>0.01,Баланс!R24/Баланс!R25,\"-\")","v":"-"},{"$f":"IF(Баланс!S25>0.01,Баланс!S24/Баланс!S25,\"-\")","v":"-"},{"$f":"IF(Баланс!T25>0.01,Баланс!T24/Баланс!T25,\"-\")","v":"-"},{"$f":"IF(Баланс!U25>0.01,Баланс!U24/Баланс!U25,\"-\")","v":"-"},{"$f":"IF(Баланс!V25>0.01,Баланс!V24/Баланс!V25,\"-\")","v":"-"},{"$f":"IF(Баланс!W25>0.01,Баланс!W24/Баланс!W25,\"-\")","v":"-"},{"$f":"IF(Баланс!X25>0.01,Баланс!X24/Баланс!X25,\"-\")","v":"-"},{"$f":"IF(Баланс!Y25>0.01,Баланс!Y24/Баланс!Y25,\"-\")","v":"-"},{"$f":"IF(Баланс!Z25>0.01,Баланс!Z24/Баланс!Z25,\"-\")","v":"-"}]
["Сумм. обязательства к сумм. активам",{"$f":"IF(Баланс!C25>0.01,(Баланс!C19+Баланс!C20)/Баланс!C25,\"-\")","v":"-"},{"$f":"IF(Баланс!D25>0.01,(Баланс!D19+Баланс!D20)/Баланс!D25,\"-\")","v":"-"},{"$f":"IF(Баланс!E25>0.01,(Баланс!E19+Баланс!E20)/Баланс!E25,\"-\")","v":"-"},{"$f":"IF(Баланс!F25>0.01,(Баланс!F19+Баланс!F20)/Баланс!F25,\"-\")","v":"-"},{"$f":"IF(Баланс!G25>0.01,(Баланс!G19+Баланс!G20)/Баланс!G25,\"-\")","v":"-"},{"$f":"IF(Баланс!H25>0.01,(Баланс!H19+Баланс!H20)/Баланс!H25,\"-\")","v":"-"},{"$f":"IF(Баланс!I25>0.01,(Баланс!I19+Баланс!I20)/Баланс!I25,\"-\")","v":"-"},{"$f":"IF(Баланс!J25>0.01,(Баланс!J19+Баланс!J20)/Баланс!J25,\"-\")","v":"-"},{"$f":"IF(Баланс!K25>0.01,(Баланс!K19+Баланс!K20)/Баланс!K25,\"-\")","v":"-"},{"$f":"IF(Баланс!L25>0.01,(Баланс!L19+Баланс!L20)/Баланс!L25,\"-\")","v":"-"},{"$f":"IF(Баланс!M25>0.01,(Баланс!M19+Баланс!M20)/Баланс!M25,\"-\")","v":"-"},{"$f":"IF(Баланс!N25>0.01,(Баланс!N19+Баланс!N20)/Баланс!N25,\"-\")","v":"-"},{"$f":"IF(Баланс!O25>0.01,(Баланс!O19+Баланс!O20)/Баланс!O25,\"-\")","v":"-"},{"$f":"IF(Баланс!P25>0.01,(Баланс!P19+Баланс!P20)/Баланс!P25,\"-\")","v":"-"},{"$f":"IF(Баланс!Q25>0.01,(Баланс!Q19+Баланс!Q20)/Баланс!Q25,\"-\")","v":"-"},{"$f":"IF(Баланс!R25>0.01,(Баланс!R19+Баланс!R20)/Баланс!R25,\"-\")","v":"-"},{"$f":"IF(Баланс!S25>0.01,(Баланс!S19+Баланс!S20)/Баланс!S25,\"-\")","v":"-"},{"$f":"IF(Баланс!T25>0.01,(Баланс!T19+Баланс!T20)/Баланс!T25,\"-\")","v":"-"},{"$f":"IF(Баланс!U25>0.01,(Баланс!U19+Баланс!U20)/Баланс!U25,\"-\")","v":"-"},{"$f":"IF(Баланс!V25>0.01,(Баланс!V19+Баланс!V20)/Баланс!V25,\"-\")","v":"-"},{"$f":"IF(Баланс!W25>0.01,(Баланс!W19+Баланс!W20)/Баланс!W25,\"-\")","v":"-"},{"$f":"IF(Баланс!X25>0.01,(Баланс!X19+Баланс!X20)/Баланс!X25,\"-\")","v":"-"},{"$f":"IF(Баланс!Y25>0.01,(Баланс!Y19+Баланс!Y20)/Баланс!Y25,\"-\")","v":"-"},{"$f":"IF(Баланс!Z25>0.01,(Баланс!Z19+Баланс!Z20)/Баланс!Z25,\"-\")","v":"-"}]
["Долгосрочные обязательства к активам",{"$f":"IF(Баланс!C25>0.01,Баланс!C20/Баланс!C25,\"-\")","v":"-"},{"$f":"IF(Баланс!D25>0.01,Баланс!D20/Баланс!D25,\"-\")","v":"-"},{"$f":"IF(Баланс!E25>0.01,Баланс!E20/Баланс!E25,\"-\")","v":"-"},{"$f":"IF(Баланс!F25>0.01,Баланс!F20/Баланс!F25,\"-\")","v":"-"},{"$f":"IF(Баланс!G25>0.01,Баланс!G20/Баланс!G25,\"-\")","v":"-"},{"$f":"IF(Баланс!H25>0.01,Баланс!H20/Баланс!H25,\"-\")","v":"-"},{"$f":"IF(Баланс!I25>0.01,Баланс!I20/Баланс!I25,\"-\")","v":"-"},{"$f":"IF(Баланс!J25>0.01,Баланс!J20/Баланс!J25,\"-\")","v":"-"},{"$f":"IF(Баланс!K25>0.01,Баланс!K20/Баланс!K25,\"-\")","v":"-"},{"$f":"IF(Баланс!L25>0.01,Баланс!L20/Баланс!L25,\"-\")","v":"-"},{"$f":"IF(Баланс!M25>0.01,Баланс!M20/Баланс!M25,\"-\")","v":"-"},{"$f":"IF(Баланс!N25>0.01,Баланс!N20/Баланс!N25,\"-\")","v":"-"},{"$f":"IF(Баланс!O25>0.01,Баланс!O20/Баланс!O25,\"-\")","v":"-"},{"$f":"IF(Баланс!P25>0.01,Баланс!P20/Баланс!P25,\"-\")","v":"-"},{"$f":"IF(Баланс!Q25>0.01,Баланс!Q20/Баланс!Q25,\"-\")","v":"-"},{"$f":"IF(Баланс!R25>0.01,Баланс!R20/Баланс!R25,\"-\")","v":"-"},{"$f":"IF(Баланс!S25>0.01,Баланс!S20/Баланс!S25,\"-\")","v":"-"},{"$f":"IF(Баланс!T25>0.01,Баланс!T20/Баланс!T25,\"-\")","v":"-"},{"$f":"IF(Баланс!U25>0.01,Баланс!U20/Баланс!U25,\"-\")","v":"-"},{"$f":"IF(Баланс!V25>0.01,Баланс!V20/Баланс!V25,\"-\")","v":"-"},{"$f":"IF(Баланс!W25>0.01,Баланс!W20/Баланс!W25,\"-\")","v":"-"},{"$f":"IF(Баланс!X25>0.01,Баланс!X20/Баланс!X25,\"-\")","v":"-"},{"$f":"IF(Баланс!Y25>0.01,Баланс!Y20/Баланс!Y25,\"-\")","v":"-"},{"$f":"IF(Баланс!Z25>0.01,Баланс!Z20/Баланс!Z25,\"-\")","v":"-"}]
["Сумм. обязательства к собств. капиталу ",{"$f":"IF(Баланс!C24>0.01,(Баланс!C19+Баланс!C20)/Баланс!C24,\"-\")","v":"-"},{"$f":"IF(Баланс!D24>0.01,(Баланс!D19+Баланс!D20)/Баланс!D24,\"-\")","v":"-"},{"$f":"IF(Баланс!E24>0.01,(Баланс!E19+Баланс!E20)/Баланс!E24,\"-\")","v":"-"},{"$f":"IF(Баланс!F24>0.01,(Баланс!F19+Баланс!F20)/Баланс!F24,\"-\")","v":"-"},{"$f":"IF(Баланс!G24>0.01,(Баланс!G19+Баланс!G20)/Баланс!G24,\"-\")","v":"-"},{"$f":"IF(Баланс!H24>0.01,(Баланс!H19+Баланс!H20)/Баланс!H24,\"-\")","v":"-"},{"$f":"IF(Баланс!I24>0.01,(Баланс!I19+Баланс!I20)/Баланс!I24,\"-\")","v":"-"},{"$f":"IF(Баланс!J24>0.01,(Баланс!J19+Баланс!J20)/Баланс!J24,\"-\")","v":"-"},{"$f":"IF(Баланс!K24>0.01,(Баланс!K19+Баланс!K20)/Баланс!K24,\"-\")","v":"-"},{"$f":"IF(Баланс!L24>0.01,(Баланс!L19+Баланс!L20)/Баланс!L24,\"-\")","v":"-"},{"$f":"IF(Баланс!M24>0.01,(Баланс!M19+Баланс!M20)/Баланс!M24,\"-\")","v":"-"},{"$f":"IF(Баланс!N24>0.01,(Баланс!N19+Баланс!N20)/Баланс!N24,\"-\")","v":"-"},{"$f":"IF(Баланс!O24>0.01,(Баланс!O19+Баланс!O20)/Баланс!O24,\"-\")","v":"-"},{"$f":"IF(Баланс!P24>0.01,(Баланс!P19+Баланс!P20)/Баланс!P24,\"-\")","v":"-"},{"$f":"IF(Баланс!Q24>0.01,(Баланс!Q19+Баланс!Q20)/Баланс!Q24,\"-\")","v":"-"},{"$f":"IF(Баланс!R24>0.01,(Баланс!R19+Баланс!R20)/Баланс!R24,\"-\")","v":"-"},{"$f":"IF(Баланс!S24>0.01,(Баланс!S19+Баланс!S20)/Баланс!S24,\"-\")","v":"-"},{"$f":"IF(Баланс!T24>0.01,(Баланс!T19+Баланс!T20)/Баланс!T24,\"-\")","v":"-"},{"$f":"IF(Баланс!U24>0.01,(Баланс!U19+Баланс!U20)/Баланс!U24,\"-\")","v":"-"},{"$f":"IF(Баланс!V24>0.01,(Баланс!V19+Баланс!V20)/Баланс!V24,\"-\")","v":"-"},{"$f":"IF(Баланс!W24>0.01,(Баланс!W19+Баланс!W20)/Баланс!W24,\"-\")","v":"-"},{"$f":"IF(Баланс!X24>0.01,(Баланс!X19+Баланс!X20)/Баланс!X24,\"-\")","v":"-"},{"$f":"IF(Баланс!Y24>0.01,(Баланс!Y19+Баланс!Y20)/Баланс!Y24,\"-\")","v":"-"},{"$f":"IF(Баланс!Z24>0.01,(Баланс!Z19+Баланс!Z20)/Баланс!Z24,\"-\")","v":"-"}]
["Долгоср. обязательства к внеобор. активам",{"$f":"IF(Баланс!C15>0.01,Баланс!C20/Баланс!C15,\"-\")","v":"-"},{"$f":"IF(Баланс!D15>0.01,Баланс!D20/Баланс!D15,\"-\")","v":"-"},{"$f":"IF(Баланс!E15>0.01,Баланс!E20/Баланс!E15,\"-\")","v":"-"},{"$f":"IF(Баланс!F15>0.01,Баланс!F20/Баланс!F15,\"-\")","v":"-"},{"$f":"IF(Баланс!G15>0.01,Баланс!G20/Баланс!G15,\"-\")","v":"-"},{"$f":"IF(Баланс!H15>0.01,Баланс!H20/Баланс!H15,\"-\")","v":"-"},{"$f":"IF(Баланс!I15>0.01,Баланс!I20/Баланс!I15,\"-\")","v":"-"},{"$f":"IF(Баланс!J15>0.01,Баланс!J20/Баланс!J15,\"-\")","v":"-"},{"$f":"IF(Баланс!K15>0.01,Баланс!K20/Баланс!K15,\"-\")","v":"-"},{"$f":"IF(Баланс!L15>0.01,Баланс!L20/Баланс!L15,\"-\")","v":"-"},{"$f":"IF(Баланс!M15>0.01,Баланс!M20/Баланс!M15,\"-\")","v":"-"},{"$f":"IF(Баланс!N15>0.01,Баланс!N20/Баланс!N15,\"-\")","v":"-"},{"$f":"IF(Баланс!O15>0.01,Баланс!O20/Баланс!O15,\"-\")","v":"-"},{"$f":"IF(Баланс!P15>0.01,Баланс!P20/Баланс!P15,\"-\")","v":"-"},{"$f":"IF(Баланс!Q15>0.01,Баланс!Q20/Баланс!Q15,\"-\")","v":"-"},{"$f":"IF(Баланс!R15>0.01,Баланс!R20/Баланс!R15,\"-\")","v":"-"},{"$f":"IF(Баланс!S15>0.01,Баланс!S20/Баланс!S15,\"-\")","v":"-"},{"$f":"IF(Баланс!T15>0.01,Баланс!T20/Баланс!T15,\"-\")","v":"-"},{"$f":"IF(Баланс!U15>0.01,Баланс!U20/Баланс!U15,\"-\")","v":"-"},{"$f":"IF(Баланс!V15>0.01,Баланс!V20/Баланс!V15,\"-\")","v":"-"},{"$f":"IF(Баланс!W15>0.01,Баланс!W20/Баланс!W15,\"-\")","v":"-"},{"$f":"IF(Баланс!X15>0.01,Баланс!X20/Баланс!X15,\"-\")","v":"-"},{"$f":"IF(Баланс!Y15>0.01,Баланс!Y20/Баланс!Y15,\"-\")","v":"-"},{"$f":"IF(Баланс!Z15>0.01,Баланс!Z20/Баланс!Z15,\"-\")","v":"-"}]
["Коэффициент покрытия процентов",{"$f":"IF(Прибыль!C25>0.01,Прибыль!C18/Прибыль!C25,\"-\")","v":"-"},{"$f":"IF(Прибыль!D25>0.01,Прибыль!D18/Прибыль!D25,\"-\")","v":"-"},{"$f":"IF(Прибыль!E25>0.01,Прибыль!E18/Прибыль!E25,\"-\")","v":"-"},{"$f":"IF(Прибыль!F25>0.01,Прибыль!F18/Прибыль!F25,\"-\")","v":"-"},{"$f":"IF(Прибыль!G25>0.01,Прибыль!G18/Прибыль!G25,\"-\")","v":"-"},{"$f":"IF(Прибыль!H25>0.01,Прибыль!H18/Прибыль!H25,\"-\")","v":"-"},{"$f":"IF(Прибыль!I25>0.01,Прибыль!I18/Прибыль!I25,\"-\")","v":"-"},{"$f":"IF(Прибыль!J25>0.01,Прибыль!J18/Прибыль!J25,\"-\")","v":"-"},{"$f":"IF(Прибыль!K25>0.01,Прибыль!K18/Прибыль!K25,\"-\")","v":"-"},{"$f":"IF(Прибыль!L25>0.01,Прибыль!L18/Прибыль!L25,\"-\")","v":"-"},{"$f":"IF(Прибыль!M25>0.01,Прибыль!M18/Прибыль!M25,\"-\")","v":"-"},{"$f":"IF(Прибыль!N25>0.01,Прибыль!N18/Прибыль!N25,\"-\")","v":"-"},{"$f":"IF(Прибыль!O25>0.01,Прибыль!O18/Прибыль!O25,\"-\")","v":"-"},{"$f":"IF(Прибыль!P25>0.01,Прибыль!P18/Прибыль!P25,\"-\")","v":"-"},{"$f":"IF(Прибыль!Q25>0.01,Прибыль!Q18/Прибыль!Q25,\"-\")","v":"-"},{"$f":"IF(Прибыль!R25>0.01,Прибыль!R18/Прибыль!R25,\"-\")","v":"-"},{"$f":"IF(Прибыль!S25>0.01,Прибыль!S18/Прибыль!S25,\"-\")","v":"-"},{"$f":"IF(Прибыль!T25>0.01,Прибыль!T18/Прибыль!T25,\"-\")","v":"-"},{"$f":"IF(Прибыль!U25>0.01,Прибыль!U18/Прибыль!U25,\"-\")","v":"-"},{"$f":"IF(Прибыль!V25>0.01,Прибыль!V18/Прибыль!V25,\"-\")","v":"-"},{"$f":"IF(Прибыль!W25>0.01,Прибыль!W18/Прибыль!W25,\"-\")","v":"-"},{"$f":"IF(Прибыль!X25>0.01,Прибыль!X18/Прибыль!X25,\"-\")","v":"-"},{"$f":"IF(Прибыль!Y25>0.01,Прибыль!Y18/Прибыль!Y25,\"-\")","v":"-"},{"$f":"IF(Прибыль!Z25>0.01,Прибыль!Z18/Прибыль!Z25,\"-\")","v":"-"}]
["Коэффициенты рентабельности"]
["Рентабельность продаж",{"$f":"IF(Прибыль!C2>0.01,Прибыль!C28/Прибыль!C2,\"-\")","v":"-"},{"$f":"IF(Прибыль!D2>0.01,Прибыль!D28/Прибыль!D2,\"-\")","v":"-"},{"$f":"IF(Прибыль!E2>0.01,Прибыль!E28/Прибыль!E2,\"-\")","v":"-"},{"$f":"IF(Прибыль!F2>0.01,Прибыль!F28/Прибыль!F2,\"-\")","v":"-"},{"$f":"IF(Прибыль!G2>0.01,Прибыль!G28/Прибыль!G2,\"-\")","v":"-"},{"$f":"IF(Прибыль!H2>0.01,Прибыль!H28/Прибыль!H2,\"-\")","v":"-"},{"$f":"IF(Прибыль!I2>0.01,Прибыль!I28/Прибыль!I2,\"-\")","v":"-"},{"$f":"IF(Прибыль!J2>0.01,Прибыль!J28/Прибыль!J2,\"-\")","v":"-"},{"$f":"IF(Прибыль!K2>0.01,Прибыль!K28/Прибыль!K2,\"-\")","v":"-"},{"$f":"IF(Прибыль!L2>0.01,Прибыль!L28/Прибыль!L2,\"-\")","v":"-"},{"$f":"IF(Прибыль!M2>0.01,Прибыль!M28/Прибыль!M2,\"-\")","v":"-"},{"$f":"IF(Прибыль!N2>0.01,Прибыль!N28/Прибыль!N2,\"-\")","v":"-"},{"$f":"IF(Прибыль!O2>0.01,Прибыль!O28/Прибыль!O2,\"-\")","v":"-"},{"$f":"IF(Прибыль!P2>0.01,Прибыль!P28/Прибыль!P2,\"-\")","v":"-"},{"$f":"IF(Прибыль!Q2>0.01,Прибыль!Q28/Прибыль!Q2,\"-\")","v":"-"},{"$f":"IF(Прибыль!R2>0.01,Прибыль!R28/Прибыль!R2,\"-\")","v":"-"},{"$f":"IF(Прибыль!S2>0.01,Прибыль!S28/Прибыль!S2,\"-\")","v":"-"},{"$f":"IF(Прибыль!T2>0.01,Прибыль!T28/Прибыль!T2,\"-\")","v":"-"},{"$f":"IF(Прибыль!U2>0.01,Прибыль!U28/Прибыль!U2,\"-\")","v":"-"},{"$f":"IF(Прибыль!V2>0.01,Прибыль!V28/Прибыль!V2,\"-\")","v":"-"},{"$f":"IF(Прибыль!W2>0.01,Прибыль!W28/Прибыль!W2,\"-\")","v":"-"},{"$f":"IF(Прибыль!X2>0.01,Прибыль!X28/Прибыль!X2,\"-\")","v":"-"},{"$f":"IF(Прибыль!Y2>0.01,Прибыль!Y28/Прибыль!Y2,\"-\")","v":"-"},{"$f":"IF(Прибыль!Z2>0.01,Прибыль!Z28/Прибыль!Z2,\"-\")","v":"-"}]
["Рентабельность собственного капитала",{"$f":"IF(Баланс!C24>0.01,Прибыль!C28/Баланс!C24*12/Расчеты!$B$9,\"-\")","v":"-"},{"$f":"IF(Баланс!D24>0.01,Прибыль!D28/Баланс!D24*12/Расчеты!$B$9,\"-\")","v":"-"},{"$f":"IF(Баланс!E24>0.01,Прибыль!E28/Баланс!E24*12/Расчеты!$B$9,\"-\")","v":"-"},{"$f":"IF(Баланс!F24>0.01,Прибыль!F28/Баланс!F24*12/Расчеты!$B$9,\"-\")","v":"-"},{"$f":"IF(Баланс!G24>0.01,Прибыль!G28/Баланс!G24*12/Расчеты!$B$9,\"-\")","v":"-"},{"$f":"IF(Баланс!H24>0.01,Прибыль!H28/Баланс!H24*12/Расчеты!$B$9,\"-\")","v":"-"},{"$f":"IF(Баланс!I24>0.01,Прибыль!I28/Баланс!I24*12/Расчеты!$B$9,\"-\")","v":"-"},{"$f":"IF(Баланс!J24>0.01,Прибыль!J28/Баланс!J24*12/Расчеты!$B$9,\"-\")","v":"-"},{"$f":"IF(Баланс!K24>0.01,Прибыль!K28/Баланс!K24*12/Расчеты!$B$9,\"-\")","v":"-"},{"$f":"IF(Баланс!L24>0.01,Прибыль!L28/Баланс!L24*12/Расчеты!$B$9,\"-\")","v":"-"},{"$f":"IF(Баланс!M24>0.01,Прибыль!M28/Баланс!M24*12/Расчеты!$B$9,\"-\")","v":"-"},{"$f":"IF(Баланс!N24>0.01,Прибыль!N28/Баланс!N24*12/Расчеты!$B$9,\"-\")","v":"-"},{"$f":"IF(Баланс!O24>0.01,Прибыль!O28/Баланс!O24*12/Расчеты!$B$9,\"-\")","v":"-"},{"$f":"IF(Баланс!P24>0.01,Прибыль!P28/Баланс!P24*12/Расчеты!$B$9,\"-\")","v":"-"},{"$f":"IF(Баланс!Q24>0.01,Прибыль!Q28/Баланс!Q24*12/Расчеты!$B$9,\"-\")","v":"-"},{"$f":"IF(Баланс!R24>0.01,Прибыль!R28/Баланс!R24*12/Расчеты!$B$9,\"-\")","v":"-"},{"$f":"IF(Баланс!S24>0.01,Прибыль!S28/Баланс!S24*12/Расчеты!$B$9,\"-\")","v":"-"},{"$f":"IF(Баланс!T24>0.01,Прибыль!T28/Баланс!T24*12/Расчеты!$B$9,\"-\")","v":"-"},{"$f":"IF(Баланс!U24>0.01,Прибыль!U28/Баланс!U24*12/Расчеты!$B$9,\"-\")","v":"-"},{"$f":"IF(Баланс!V24>0.01,Прибыль!V28/Баланс!V24*12/Расчеты!$B$9,\"-\")","v":"-"},{"$f":"IF(Баланс!W24>0.01,Прибыль!W28/Баланс!W24*12/Расчеты!$B$9,\"-\")","v":"-"},{"$f":"IF(Баланс!X24>0.01,Прибыль!X28/Баланс!X24*12/Расчеты!$B$9,\"-\")","v":"-"},{"$f":"IF(Баланс!Y24>0.01,Прибыль!Y28/Баланс!Y24*12/Расчеты!$B$9,\"-\")","v":"-"},{"$f":"IF(Баланс!Z24>0.01,Прибыль!Z28/Баланс!Z24*12/Расчеты!$B$9,\"-\")","v":"-"}]
["Рентабельность оборотных активов",{"$f":"IF(Баланс!C6>0.01,Прибыль!C28/Баланс!C6*12/Расчеты!$B$9,\"-\")","v":"-"},{"$f":"IF(Баланс!D6>0.01,Прибыль!D28/Баланс!D6*12/Расчеты!$B$9,\"-\")","v":"-"},{"$f":"IF(Баланс!E6>0.01,Прибыль!E28/Баланс!E6*12/Расчеты!$B$9,\"-\")","v":"-"},{"$f":"IF(Баланс!F6>0.01,Прибыль!F28/Баланс!F6*12/Расчеты!$B$9,\"-\")","v":"-"},{"$f":"IF(Баланс!G6>0.01,Прибыль!G28/Баланс!G6*12/Расчеты!$B$9,\"-\")","v":"-"},{"$f":"IF(Баланс!H6>0.01,Прибыль!H28/Баланс!H6*12/Расчеты!$B$9,\"-\")","v":"-"},{"$f":"IF(Баланс!I6>0.01,Прибыль!I28/Баланс!I6*12/Расчеты!$B$9,\"-\")","v":"-"},{"$f":"IF(Баланс!J6>0.01,Прибыль!J28/Баланс!J6*12/Расчеты!$B$9,\"-\")","v":"-"},{"$f":"IF(Баланс!K6>0.01,Прибыль!K28/Баланс!K6*12/Расчеты!$B$9,\"-\")","v":"-"},{"$f":"IF(Баланс!L6>0.01,Прибыль!L28/Баланс!L6*12/Расчеты!$B$9,\"-\")","v":"-"},{"$f":"IF(Баланс!M6>0.01,Прибыль!M28/Баланс!M6*12/Расчеты!$B$9,\"-\")","v":"-"},{"$f":"IF(Баланс!N6>0.01,Прибыль!N28/Баланс!N6*12/Расчеты!$B$9,\"-\")","v":"-"},{"$f":"IF(Баланс!O6>0.01,Прибыль!O28/Баланс!O6*12/Расчеты!$B$9,\"-\")","v":"-"},{"$f":"IF(Баланс!P6>0.01,Прибыль!P28/Баланс!P6*12/Расчеты!$B$9,\"-\")","v":"-"},{"$f":"IF(Баланс!Q6>0.01,Прибыль!Q28/Баланс!Q6*12/Расчеты!$B$9,\"-\")","v":"-"},{"$f":"IF(Баланс!R6>0.01,Прибыль!R28/Баланс!R6*12/Расчеты!$B$9,\"-\")","v":"-"},{"$f":"IF(Баланс!S6>0.01,Прибыль!S28/Баланс!S6*12/Расчеты!$B$9,\"-\")","v":"-"},{"$f":"IF(Баланс!T6>0.01,Прибыль!T28/Баланс!T6*12/Расчеты!$B$9,\"-\")","v":"-"},{"$f":"IF(Баланс!U6>0.01,Прибыль!U28/Баланс!U6*12/Расчеты!$B$9,\"-\")","v":"-"},{"$f":"IF(Баланс!V6>0.01,Прибыль!V28/Баланс!V6*12/Расчеты!$B$9,\"-\")","v":"-"},{"$f":"IF(Баланс!W6>0.01,Прибыль!W28/Баланс!W6*12/Расчеты!$B$9,\"-\")","v":"-"},{"$f":"IF(Баланс!X6>0.01,Прибыль!X28/Баланс!X6*12/Расчеты!$B$9,\"-\")","v":"-"},{"$f":"IF(Баланс!Y6>0.01,Прибыль!Y28/Баланс!Y6*12/Расчеты!$B$9,\"-\")","v":"-"},{"$f":"IF(Баланс!Z6>0.01,Прибыль!Z28/Баланс!Z6*12/Расчеты!$B$9,\"-\")","v":"-"}]
["Рентабельность внеоборотных активов",{"$f":"IF(Баланс!C15>0.01,Прибыль!C28/Баланс!C15*12/Расчеты!$B$9,\"-\")","v":"-"},{"$f":"IF(Баланс!D15>0.01,Прибыль!D28/Баланс!D15*12/Расчеты!$B$9,\"-\")","v":"-"},{"$f":"IF(Баланс!E15>0.01,Прибыль!E28/Баланс!E15*12/Расчеты!$B$9,\"-\")","v":"-"},{"$f":"IF(Баланс!F15>0.01,Прибыль!F28/Баланс!F15*12/Расчеты!$B$9,\"-\")","v":"-"},{"$f":"IF(Баланс!G15>0.01,Прибыль!G28/Баланс!G15*12/Расчеты!$B$9,\"-\")","v":"-"},{"$f":"IF(Баланс!H15>0.01,Прибыль!H28/Баланс!H15*12/Расчеты!$B$9,\"-\")","v":"-"},{"$f":"IF(Баланс!I15>0.01,Прибыль!I28/Баланс!I15*12/Расчеты!$B$9,\"-\")","v":"-"},{"$f":"IF(Баланс!J15>0.01,Прибыль!J28/Баланс!J15*12/Расчеты!$B$9,\"-\")","v":"-"},{"$f":"IF(Баланс!K15>0.01,Прибыль!K28/Баланс!K15*12/Расчеты!$B$9,\"-\")","v":"-"},{"$f":"IF(Баланс!L15>0.01,Прибыль!L28/Баланс!L15*12/Расчеты!$B$9,\"-\")","v":"-"},{"$f":"IF(Баланс!M15>0.01,Прибыль!M28/Баланс!M15*12/Расчеты!$B$9,\"-\")","v":"-"},{"$f":"IF(Баланс!N15>0.01,Прибыль!N28/Баланс!N15*12/Расчеты!$B$9,\"-\")","v":"-"},{"$f":"IF(Баланс!O15>0.01,Прибыль!O28/Баланс!O15*12/Расчеты!$B$9,\"-\")","v":"-"},{"$f":"IF(Баланс!P15>0.01,Прибыль!P28/Баланс!P15*12/Расчеты!$B$9,\"-\")","v":"-"},{"$f":"IF(Баланс!Q15>0.01,Прибыль!Q28/Баланс!Q15*12/Расчеты!$B$9,\"-\")","v":"-"},{"$f":"IF(Баланс!R15>0.01,Прибыль!R28/Баланс!R15*12/Расчеты!$B$9,\"-\")","v":"-"},{"$f":"IF(Баланс!S15>0.01,Прибыль!S28/Баланс!S15*12/Расчеты!$B$9,\"-\")","v":"-"},{"$f":"IF(Баланс!T15>0.01,Прибыль!T28/Баланс!T15*12/Расчеты!$B$9,\"-\")","v":"-"},{"$f":"IF(Баланс!U15>0.01,Прибыль!U28/Баланс!U15*12/Расчеты!$B$9,\"-\")","v":"-"},{"$f":"IF(Баланс!V15>0.01,Прибыль!V28/Баланс!V15*12/Расчеты!$B$9,\"-\")","v":"-"},{"$f":"IF(Баланс!W15>0.01,Прибыль!W28/Баланс!W15*12/Расчеты!$B$9,\"-\")","v":"-"},{"$f":"IF(Баланс!X15>0.01,Прибыль!X28/Баланс!X15*12/Расчеты!$B$9,\"-\")","v":"-"},{"$f":"IF(Баланс!Y15>0.01,Прибыль!Y28/Баланс!Y15*12/Расчеты!$B$9,\"-\")","v":"-"},{"$f":"IF(Баланс!Z15>0.01,Прибыль!Z28/Баланс!Z15*12/Расчеты!$B$9,\"-\")","v":"-"}]
["Рентабельность инвестиций",{"$f":"IF((Баланс!C24+Баланс!C20)>0.01,Прибыль!C28/(Баланс!C24+Баланс!C20)*12/Расчеты!$B$9,\"-\")","v":"-"},{"$f":"IF((Баланс!D24+Баланс!D20)>0.01,Прибыль!D28/(Баланс!D24+Баланс!D20)*12/Расчеты!$B$9,\"-\")","v":"-"},{"$f":"IF((Баланс!E24+Баланс!E20)>0.01,Прибыль!E28/(Баланс!E24+Баланс!E20)*12/Расчеты!$B$9,\"-\")","v":"-"},{"$f":"IF((Баланс!F24+Баланс!F20)>0.01,Прибыль!F28/(Баланс!F24+Баланс!F20)*12/Расчеты!$B$9,\"-\")","v":"-"},{"$f":"IF((Баланс!G24+Баланс!G20)>0.01,Прибыль!G28/(Баланс!G24+Баланс!G20)*12/Расчеты!$B$9,\"-\")","v":"-"},{"$f":"IF((Баланс!H24+Баланс!H20)>0.01,Прибыль!H28/(Баланс!H24+Баланс!H20)*12/Расчеты!$B$9,\"-\")","v":"-"},{"$f":"IF((Баланс!I24+Баланс!I20)>0.01,Прибыль!I28/(Баланс!I24+Баланс!I20)*12/Расчеты!$B$9,\"-\")","v":"-"},{"$f":"IF((Баланс!J24+Баланс!J20)>0.01,Прибыль!J28/(Баланс!J24+Баланс!J20)*12/Расчеты!$B$9,\"-\")","v":"-"},{"$f":"IF((Баланс!K24+Баланс!K20)>0.01,Прибыль!K28/(Баланс!K24+Баланс!K20)*12/Расчеты!$B$9,\"-\")","v":"-"},{"$f":"IF((Баланс!L24+Баланс!L20)>0.01,Прибыль!L28/(Баланс!L24+Баланс!L20)*12/Расчеты!$B$9,\"-\")","v":"-"},{"$f":"IF((Баланс!M24+Баланс!M20)>0.01,Прибыль!M28/(Баланс!M24+Баланс!M20)*12/Расчеты!$B$9,\"-\")","v":"-"},{"$f":"IF((Баланс!N24+Баланс!N20)>0.01,Прибыль!N28/(Баланс!N24+Баланс!N20)*12/Расчеты!$B$9,\"-\")","v":"-"},{"$f":"IF((Баланс!O24+Баланс!O20)>0.01,Прибыль!O28/(Баланс!O24+Баланс!O20)*12/Расчеты!$B$9,\"-\")","v":"-"},{"$f":"IF((Баланс!P24+Баланс!P20)>0.01,Прибыль!P28/(Баланс!P24+Баланс!P20)*12/Расчеты!$B$9,\"-\")","v":"-"},{"$f":"IF((Баланс!Q24+Баланс!Q20)>0.01,Прибыль!Q28/(Баланс!Q24+Баланс!Q20)*12/Расчеты!$B$9,\"-\")","v":"-"},{"$f":"IF((Баланс!R24+Баланс!R20)>0.01,Прибыль!R28/(Баланс!R24+Баланс!R20)*12/Расчеты!$B$9,\"-\")","v":"-"},{"$f":"IF((Баланс!S24+Баланс!S20)>0.01,Прибыль!S28/(Баланс!S24+Баланс!S20)*12/Расчеты!$B$9,\"-\")","v":"-"},{"$f":"IF((Баланс!T24+Баланс!T20)>0.01,Прибыль!T28/(Баланс!T24+Баланс!T20)*12/Расчеты!$B$9,\"-\")","v":"-"},{"$f":"IF((Баланс!U24+Баланс!U20)>0.01,Прибыль!U28/(Баланс!U24+Баланс!U20)*12/Расчеты!$B$9,\"-\")","v":"-"},{"$f":"IF((Баланс!V24+Баланс!V20)>0.01,Прибыль!V28/(Баланс!V24+Баланс!V20)*12/Расчеты!$B$9,\"-\")","v":"-"},{"$f":"IF((Баланс!W24+Баланс!W20)>0.01,Прибыль!W28/(Баланс!W24+Баланс!W20)*12/Расчеты!$B$9,\"-\")","v":"-"},{"$f":"IF((Баланс!X24+Баланс!X20)>0.01,Прибыль!X28/(Баланс!X24+Баланс!X20)*12/Расчеты!$B$9,\"-\")","v":"-"},{"$f":"IF((Баланс!Y24+Баланс!Y20)>0.01,Прибыль!Y28/(Баланс!Y24+Баланс!Y20)*12/Расчеты!$B$9,\"-\")","v":"-"},{"$f":"IF((Баланс!Z24+Баланс!Z20)>0.01,Прибыль!Z28/(Баланс!Z24+Баланс!Z20)*12/Расчеты!$B$9,\"-\")","v":"-"}]
["Коэффициенты деловой активности"]
["Оборачиваемость рабочего капитала",{"$f":"IF(B14>0.01,Прибыль!C2/B14*12/Расчеты!$B$9,\"-\")","v":"-"},{"$f":"IF(C14>0.01,Прибыль!D2/C14*12/Расчеты!$B$9,\"-\")","v":"-"},{"$f":"IF(D14>0.01,Прибыль!E2/D14*12/Расчеты!$B$9,\"-\")","v":"-"},{"$f":"IF(E14>0.01,Прибыль!F2/E14*12/Расчеты!$B$9,\"-\")","v":"-"},{"$f":"IF(F14>0.01,Прибыль!G2/F14*12/Расчеты!$B$9,\"-\")","v":"-"},{"$f":"IF(G14>0.01,Прибыль!H2/G14*12/Расчеты!$B$9,\"-\")","v":"-"},{"$f":"IF(H14>0.01,Прибыль!I2/H14*12/Расчеты!$B$9,\"-\")","v":"-"},{"$f":"IF(I14>0.01,Прибыль!J2/I14*12/Расчеты!$B$9,\"-\")","v":"-"},{"$f":"IF(J14>0.01,Прибыль!K2/J14*12/Расчеты!$B$9,\"-\")","v":"-"},{"$f":"IF(K14>0.01,Прибыль!L2/K14*12/Расчеты!$B$9,\"-\")","v":"-"},{"$f":"IF(L14>0.01,Прибыль!M2/L14*12/Расчеты!$B$9,\"-\")","v":"-"},{"$f":"IF(M14>0.01,Прибыль!N2/M14*12/Расчеты!$B$9,\"-\")","v":"-"},{"$f":"IF(N14>0.01,Прибыль!O2/N14*12/Расчеты!$B$9,\"-\")","v":"-"},{"$f":"IF(O14>0.01,Прибыль!P2/O14*12/Расчеты!$B$9,\"-\")","v":"-"},{"$f":"IF(P14>0.01,Прибыль!Q2/P14*12/Расчеты!$B$9,\"-\")","v":"-"},{"$f":"IF(Q14>0.01,Прибыль!R2/Q14*12/Расчеты!$B$9,\"-\")","v":"-"},{"$f":"IF(R14>0.01,Прибыль!S2/R14*12/Расчеты!$B$9,\"-\")","v":"-"},{"$f":"IF(S14>0.01,Прибыль!T2/S14*12/Расчеты!$B$9,\"-\")","v":"-"},{"$f":"IF(T14>0.01,Прибыль!U2/T14*12/Расчеты!$B$9,\"-\")","v":"-"},{"$f":"IF(U14>0.01,Прибыль!V2/U14*12/Расчеты!$B$9,\"-\")","v":"-"},{"$f":"IF(V14>0.01,Прибыль!W2/V14*12/Расчеты!$B$9,\"-\")","v":"-"},{"$f":"IF(W14>0.01,Прибыль!X2/W14*12/Расчеты!$B$9,\"-\")","v":"-"},{"$f":"IF(X14>0.01,Прибыль!Y2/X14*12/Расчеты!$B$9,\"-\")","v":"-"},{"$f":"IF(Y14>0.01,Прибыль!Z2/Y14*12/Расчеты!$B$9,\"-\")","v":"-"}]
["Оборачиваемость основных средств",{"$f":"IF(Баланс!C15>0.01,Прибыль!C2/Баланс!C15*12/Расчеты!$B$9,\"-\")","v":"-"},{"$f":"IF(Баланс!D15>0.01,Прибыль!D2/Баланс!D15*12/Расчеты!$B$9,\"-\")","v":"-"},{"$f":"IF(Баланс!E15>0.01,Прибыль!E2/Баланс!E15*12/Расчеты!$B$9,\"-\")","v":"-"},{"$f":"IF(Баланс!F15>0.01,Прибыль!F2/Баланс!F15*12/Расчеты!$B$9,\"-\")","v":"-"},{"$f":"IF(Баланс!G15>0.01,Прибыль!G2/Баланс!G15*12/Расчеты!$B$9,\"-\")","v":"-"},{"$f":"IF(Баланс!H15>0.01,Прибыль!H2/Баланс!H15*12/Расчеты!$B$9,\"-\")","v":"-"},{"$f":"IF(Баланс!I15>0.01,Прибыль!I2/Баланс!I15*12/Расчеты!$B$9,\"-\")","v":"-"},{"$f":"IF(Баланс!J15>0.01,Прибыль!J2/Баланс!J15*12/Расчеты!$B$9,\"-\")","v":"-"},{"$f":"IF(Баланс!K15>0.01,Прибыль!K2/Баланс!K15*12/Расчеты!$B$9,\"-\")","v":"-"},{"$f":"IF(Баланс!L15>0.01,Прибыль!L2/Баланс!L15*12/Расчеты!$B$9,\"-\")","v":"-"},{"$f":"IF(Баланс!M15>0.01,Прибыль!M2/Баланс!M15*12/Расчеты!$B$9,\"-\")","v":"-"},{"$f":"IF(Баланс!N15>0.01,Прибыль!N2/Баланс!N15*12/Расчеты!$B$9,\"-\")","v":"-"},{"$f":"IF(Баланс!O15>0.01,Прибыль!O2/Баланс!O15*12/Расчеты!$B$9,\"-\")","v":"-"},{"$f":"IF(Баланс!P15>0.01,Прибыль!P2/Баланс!P15*12/Расчеты!$B$9,\"-\")","v":"-"},{"$f":"IF(Баланс!Q15>0.01,Прибыль!Q2/Баланс!Q15*12/Расчеты!$B$9,\"-\")","v":"-"},{"$f":"IF(Баланс!R15>0.01,Прибыль!R2/Баланс!R15*12/Расчеты!$B$9,\"-\")","v":"-"},{"$f":"IF(Баланс!S15>0.01,Прибыль!S2/Баланс!S15*12/Расчеты!$B$9,\"-\")","v":"-"},{"$f":"IF(Баланс!T15>0.01,Прибыль!T2/Баланс!T15*12/Расчеты!$B$9,\"-\")","v":"-"},{"$f":"IF(Баланс!U15>0.01,Прибыль!U2/Баланс!U15*12/Расчеты!$B$9,\"-\")","v":"-"},{"$f":"IF(Баланс!V15>0.01,Прибыль!V2/Баланс!V15*12/Расчеты!$B$9,\"-\")","v":"-"},{"$f":"IF(Баланс!W15>0.01,Прибыль!W2/Баланс!W15*12/Расчеты!$B$9,\"-\")","v":"-"},{"$f":"IF(Баланс!X15>0.01,Прибыль!X2/Баланс!X15*12/Расчеты!$B$9,\"-\")","v":"-"},{"$f":"IF(Баланс!Y15>0.01,Прибыль!Y2/Баланс!Y15*12/Расчеты!$B$9,\"-\")","v":"-"},{"$f":"IF(Баланс!Z15>0.01,Прибыль!Z2/Баланс!Z15*12/Расчеты!$B$9,\"-\")","v":"-"}]
["Оборачиваемость активов",{"$f":"IF(Баланс!C16>0.01,Прибыль!C2/Баланс!C16*12/Расчеты!$B$9,\"-\")","v":"-"},{"$f":"IF(Баланс!D16>0.01,Прибыль!D2/Баланс!D16*12/Расчеты!$B$9,\"-\")","v":"-"},{"$f":"IF(Баланс!E16>0.01,Прибыль!E2/Баланс!E16*12/Расчеты!$B$9,\"-\")","v":"-"},{"$f":"IF(Баланс!F16>0.01,Прибыль!F2/Баланс!F16*12/Расчеты!$B$9,\"-\")","v":"-"},{"$f":"IF(Баланс!G16>0.01,Прибыль!G2/Баланс!G16*12/Расчеты!$B$9,\"-\")","v":"-"},{"$f":"IF(Баланс!H16>0.01,Прибыль!H2/Баланс!H16*12/Расчеты!$B$9,\"-\")","v":"-"},{"$f":"IF(Баланс!I16>0.01,Прибыль!I2/Баланс!I16*12/Расчеты!$B$9,\"-\")","v":"-"},{"$f":"IF(Баланс!J16>0.01,Прибыль!J2/Баланс!J16*12/Расчеты!$B$9,\"-\")","v":"-"},{"$f":"IF(Баланс!K16>0.01,Прибыль!K2/Баланс!K16*12/Расчеты!$B$9,\"-\")","v":"-"},{"$f":"IF(Баланс!L16>0.01,Прибыль!L2/Баланс!L16*12/Расчеты!$B$9,\"-\")","v":"-"},{"$f":"IF(Баланс!M16>0.01,Прибыль!M2/Баланс!M16*12/Расчеты!$B$9,\"-\")","v":"-"},{"$f":"IF(Баланс!N16>0.01,Прибыль!N2/Баланс!N16*12/Расчеты!$B$9,\"-\")","v":"-"},{"$f":"IF(Баланс!O16>0.01,Прибыль!O2/Баланс!O16*12/Расчеты!$B$9,\"-\")","v":"-"},{"$f":"IF(Баланс!P16>0.01,Прибыль!P2/Баланс!P16*12/Расчеты!$B$9,\"-\")","v":"-"},{"$f":"IF(Баланс!Q16>0.01,Прибыль!Q2/Баланс!Q16*12/Расчеты!$B$9,\"-\")","v":"-"},{"$f":"IF(Баланс!R16>0.01,Прибыль!R2/Баланс!R16*12/Расчеты!$B$9,\"-\")","v":"-"},{"$f":"IF(Баланс!S16>0.01,Прибыль!S2/Баланс!S16*12/Расчеты!$B$9,\"-\")","v":"-"},{"$f":"IF(Баланс!T16>0.01,Прибыль!T2/Баланс!T16*12/Расчеты!$B$9,\"-\")","v":"-"},{"$f":"IF(Баланс!U16>0.01,Прибыль!U2/Баланс!U16*12/Расчеты!$B$9,\"-\")","v":"-"},{"$f":"IF(Баланс!V16>0.01,Прибыль!V2/Баланс!V16*12/Расчеты!$B$9,\"-\")","v":"-"},{"$f":"IF(Баланс!W16>0.01,Прибыль!W2/Баланс!W16*12/Расчеты!$B$9,\"-\")","v":"-"},{"$f":"IF(Баланс!X16>0.01,Прибыль!X2/Баланс!X16*12/Расчеты!$B$9,\"-\")","v":"-"},{"$f":"IF(Баланс!Y16>0.01,Прибыль!Y2/Баланс!Y16*12/Расчеты!$B$9,\"-\")","v":"-"},{"$f":"IF(Баланс!Z16>0.01,Прибыль!Z2/Баланс!Z16*12/Расчеты!$B$9,\"-\")","v":"-"}]
["Оборачиваемость запасов",{"$f":"IF(Баланс!C4>0.01,Прибыль!C3/Баланс!C4*12/Расчеты!$B$9,\"-\")","v":"-"},{"$f":"IF(Баланс!D4>0.01,Прибыль!D3/Баланс!D4*12/Расчеты!$B$9,\"-\")","v":"-"},{"$f":"IF(Баланс!E4>0.01,Прибыль!E3/Баланс!E4*12/Расчеты!$B$9,\"-\")","v":"-"},{"$f":"IF(Баланс!F4>0.01,Прибыль!F3/Баланс!F4*12/Расчеты!$B$9,\"-\")","v":"-"},{"$f":"IF(Баланс!G4>0.01,Прибыль!G3/Баланс!G4*12/Расчеты!$B$9,\"-\")","v":"-"},{"$f":"IF(Баланс!H4>0.01,Прибыль!H3/Баланс!H4*12/Расчеты!$B$9,\"-\")","v":"-"},{"$f":"IF(Баланс!I4>0.01,Прибыль!I3/Баланс!I4*12/Расчеты!$B$9,\"-\")","v":"-"},{"$f":"IF(Баланс!J4>0.01,Прибыль!J3/Баланс!J4*12/Расчеты!$B$9,\"-\")","v":"-"},{"$f":"IF(Баланс!K4>0.01,Прибыль!K3/Баланс!K4*12/Расчеты!$B$9,\"-\")","v":"-"},{"$f":"IF(Баланс!L4>0.01,Прибыль!L3/Баланс!L4*12/Расчеты!$B$9,\"-\")","v":"-"},{"$f":"IF(Баланс!M4>0.01,Прибыль!M3/Баланс!M4*12/Расчеты!$B$9,\"-\")","v":"-"},{"$f":"IF(Баланс!N4>0.01,Прибыль!N3/Баланс!N4*12/Расчеты!$B$9,\"-\")","v":"-"},{"$f":"IF(Баланс!O4>0.01,Прибыль!O3/Баланс!O4*12/Расчеты!$B$9,\"-\")","v":"-"},{"$f":"IF(Баланс!P4>0.01,Прибыль!P3/Баланс!P4*12/Расчеты!$B$9,\"-\")","v":"-"},{"$f":"IF(Баланс!Q4>0.01,Прибыль!Q3/Баланс!Q4*12/Расчеты!$B$9,\"-\")","v":"-"},{"$f":"IF(Баланс!R4>0.01,Прибыль!R3/Баланс!R4*12/Расчеты!$B$9,\"-\")","v":"-"},{"$f":"IF(Баланс!S4>0.01,Прибыль!S3/Баланс!S4*12/Расчеты!$B$9,\"-\")","v":"-"},{"$f":"IF(Баланс!T4>0.01,Прибыль!T3/Баланс!T4*12/Расчеты!$B$9,\"-\")","v":"-"},{"$f":"IF(Баланс!U4>0.01,Прибыль!U3/Баланс!U4*12/Расчеты!$B$9,\"-\")","v":"-"},{"$f":"IF(Баланс!V4>0.01,Прибыль!V3/Баланс!V4*12/Расчеты!$B$9,\"-\")","v":"-"},{"$f":"IF(Баланс!W4>0.01,Прибыль!W3/Баланс!W4*12/Расчеты!$B$9,\"-\")","v":"-"},{"$f":"IF(Баланс!X4>0.01,Прибыль!X3/Баланс!X4*12/Расчеты!$B$9,\"-\")","v":"-"},{"$f":"IF(Баланс!Y4>0.01,Прибыль!Y3/Баланс!Y4*12/Расчеты!$B$9,\"-\")","v":"-"},{"$f":"IF(Баланс!Z4>0.01,Прибыль!Z3/Баланс!Z4*12/Расчеты!$B$9,\"-\")","v":"-"}]
["Оборачиваемость дебит. задолженности (дн.)",{"$f":"IF(Баланс!C3>0.01,Баланс!C3/Прибыль!C2*365,\"-\")","v":"-"},{"$f":"IF(Баланс!D3>0.01,Баланс!D3/Прибыль!D2*365,\"-\")","v":"-"},{"$f":"IF(Баланс!E3>0.01,Баланс!E3/Прибыль!E2*365,\"-\")","v":"-"},{"$f":"IF(Баланс!F3>0.01,Баланс!F3/Прибыль!F2*365,\"-\")","v":"-"},{"$f":"IF(Баланс!G3>0.01,Баланс!G3/Прибыль!G2*365,\"-\")","v":"-"},{"$f":"IF(Баланс!H3>0.01,Баланс!H3/Прибыль!H2*365,\"-\")","v":"-"},{"$f":"IF(Баланс!I3>0.01,Баланс!I3/Прибыль!I2*365,\"-\")","v":"-"},{"$f":"IF(Баланс!J3>0.01,Баланс!J3/Прибыль!J2*365,\"-\")","v":"-"},{"$f":"IF(Баланс!K3>0.01,Баланс!K3/Прибыль!K2*365,\"-\")","v":"-"},{"$f":"IF(Баланс!L3>0.01,Баланс!L3/Прибыль!L2*365,\"-\")","v":"-"},{"$f":"IF(Баланс!M3>0.01,Баланс!M3/Прибыль!M2*365,\"-\")","v":"-"},{"$f":"IF(Баланс!N3>0.01,Баланс!N3/Прибыль!N2*365,\"-\")","v":"-"},{"$f":"IF(Баланс!O3>0.01,Баланс!O3/Прибыль!O2*365,\"-\")","v":"-"},{"$f":"IF(Баланс!P3>0.01,Баланс!P3/Прибыль!P2*365,\"-\")","v":"-"},{"$f":"IF(Баланс!Q3>0.01,Баланс!Q3/Прибыль!Q2*365,\"-\")","v":"-"},{"$f":"IF(Баланс!R3>0.01,Баланс!R3/Прибыль!R2*365,\"-\")","v":"-"},{"$f":"IF(Баланс!S3>0.01,Баланс!S3/Прибыль!S2*365,\"-\")","v":"-"},{"$f":"IF(Баланс!T3>0.01,Баланс!T3/Прибыль!T2*365,\"-\")","v":"-"},{"$f":"IF(Баланс!U3>0.01,Баланс!U3/Прибыль!U2*365,\"-\")","v":"-"},{"$f":"IF(Баланс!V3>0.01,Баланс!V3/Прибыль!V2*365,\"-\")","v":"-"},{"$f":"IF(Баланс!W3>0.01,Баланс!W3/Прибыль!W2*365,\"-\")","v":"-"},{"$f":"IF(Баланс!X3>0.01,Баланс!X3/Прибыль!X2*365,\"-\")","v":"-"},{"$f":"IF(Баланс!Y3>0.01,Баланс!Y3/Прибыль!Y2*365,\"-\")","v":"-"},{"$f":"IF(Баланс!Z3>0.01,Баланс!Z3/Прибыль!Z2*365,\"-\")","v":"-"}]
[]
["Чистый денежный поток (ЧДП)",{"$f":"'Кэш-фло'!C8+'Кэш-фло'!C13+'Кэш-фло'!C18","v":0},{"$f":"'Кэш-фло'!D8+'Кэш-фло'!D13+'Кэш-фло'!D18","v":0},{"$f":"'Кэш-фло'!E8+'Кэш-фло'!E13+'Кэш-фло'!E18","v":0},{"$f":"'Кэш-фло'!F8+'Кэш-фло'!F13+'Кэш-фло'!F18","v":0},{"$f":"'Кэш-фло'!G8+'Кэш-фло'!G13+'Кэш-фло'!G18","v":0},{"$f":"'Кэш-фло'!H8+'Кэш-фло'!H13+'Кэш-фло'!H18","v":0},{"$f":"'Кэш-фло'!I8+'Кэш-фло'!I13+'Кэш-фло'!I18","v":0},{"$f":"'Кэш-фло'!J8+'Кэш-фло'!J13+'Кэш-фло'!J18","v":0},{"$f":"'Кэш-фло'!K8+'Кэш-фло'!K13+'Кэш-фло'!K18","v":0},{"$f":"'Кэш-фло'!L8+'Кэш-фло'!L13+'Кэш-фло'!L18","v":0},{"$f":"'Кэш-фло'!M8+'Кэш-фло'!M13+'Кэш-фло'!M18","v":0},{"$f":"'Кэш-фло'!N8+'Кэш-фло'!N13+'Кэш-фло'!N18","v":0},{"$f":"'Кэш-фло'!O8+'Кэш-фло'!O13+'Кэш-фло'!O18","v":0},{"$f":"'Кэш-фло'!P8+'Кэш-фло'!P13+'Кэш-фло'!P18","v":0},{"$f":"'Кэш-фло'!Q8+'Кэш-фло'!Q13+'Кэш-фло'!Q18","v":0},{"$f":"'Кэш-фло'!R8+'Кэш-фло'!R13+'Кэш-фло'!R18","v":0},{"$f":"'Кэш-фло'!S8+'Кэш-фло'!S13+'Кэш-фло'!S18","v":0},{"$f":"'Кэш-фло'!T8+'Кэш-фло'!T13+'Кэш-фло'!T18","v":0},{"$f":"'Кэш-фло'!U8+'Кэш-фло'!U13+'Кэш-фло'!U18","v":0},{"$f":"'Кэш-фло'!V8+'Кэш-фло'!V13+'Кэш-фло'!V18","v":0},{"$f":"'Кэш-фло'!W8+'Кэш-фло'!W13+'Кэш-фло'!W18","v":0},{"$f":"'Кэш-фло'!X8+'Кэш-фло'!X13+'Кэш-фло'!X18","v":0},{"$f":"'Кэш-фло'!Y8+'Кэш-фло'!Y13+'Кэш-фло'!Y18","v":0},{"$f":"'Кэш-фло'!Z8+'Кэш-фло'!Z13+'Кэш-фло'!Z18","v":0}]
["Диконтированный ЧДП",{"$f":"B35/POWER(1+Данные!$B$34,0.0833333*Расчеты!$B$9*Расчеты!B1)","v":0},{"$f":"C35/POWER(1+Данные!$B$34,0.0833333*Расчеты!$B$9*Расчеты!C1)","v":0},{"$f":"D35/POWER(1+Данные!$B$34,0.0833333*Расчеты!$B$9*Расчеты!D1)","v":0},{"$f":"E35/POWER(1+Данные!$B$34,0.0833333*Расчеты!$B$9*Расчеты!E1)","v":0},{"$f":"F35/POWER(1+Данные!$B$34,0.0833333*Расчеты!$B$9*Расчеты!F1)","v":0},{"$f":"G35/POWER(1+Данные!$B$34,0.0833333*Расчеты!$B$9*Расчеты!G1)","v":0},{"$f":"H35/POWER(1+Данные!$B$34,0.0833333*Расчеты!$B$9*Расчеты!H1)","v":0},{"$f":"I35/POWER(1+Данные!$B$34,0.0833333*Расчеты!$B$9*Расчеты!I1)","v":0},{"$f":"J35/POWER(1+Данные!$B$34,0.0833333*Расчеты!$B$9*Расчеты!J1)","v":0},{"$f":"K35/POWER(1+Данные!$B$34,0.0833333*Расчеты!$B$9*Расчеты!K1)","v":0},{"$f":"L35/POWER(1+Данные!$B$34,0.0833333*Расчеты!$B$9*Расчеты!L1)","v":0},{"$f":"M35/POWER(1+Данные!$B$34,0.0833333*Расчеты!$B$9*Расчеты!M1)","v":0},{"$f":"N35/POWER(1+Данные!$B$34,0.0833333*Расчеты!$B$9*Расчеты!N1)","v":0},{"$f":"O35/POWER(1+Данные!$B$34,0.0833333*Расчеты!$B$9*Расчеты!O1)","v":0},{"$f":"P35/POWER(1+Данные!$B$34,0.0833333*Расчеты!$B$9*Расчеты!P1)","v":0},{"$f":"Q35/POWER(1+Данные!$B$34,0.0833333*Расчеты!$B$9*Расчеты!Q1)","v":0},{"$f":"R35/POWER(1+Данные!$B$34,0.0833333*Расчеты!$B$9*Расчеты!R1)","v":0},{"$f":"S35/POWER(1+Данные!$B$34,0.0833333*Расчеты!$B$9*Расчеты!S1)","v":0},{"$f":"T35/POWER(1+Данные!$B$34,0.0833333*Расчеты!$B$9*Расчеты!T1)","v":0},{"$f":"U35/POWER(1+Данные!$B$34,0.0833333*Расчеты!$B$9*Расчеты!U1)","v":0},{"$f":"V35/POWER(1+Данные!$B$34,0.0833333*Расчеты!$B$9*Расчеты!V1)","v":0},{"$f":"W35/POWER(1+Данные!$B$34,0.0833333*Расчеты!$B$9*Расчеты!W1)","v":0},{"$f":"X35/POWER(1+Данные!$B$34,0.0833333*Расчеты!$B$9*Расчеты!X1)","v":0},{"$f":"Y35/POWER(1+Данные!$B$34,0.0833333*Расчеты!$B$9*Расчеты!Y1)","v":0}]
["График окупаемости (аккумулированный ДЧДП)",{"$f":"B36","v":0},{"$f":"B37+C36","v":0},{"$f":"C37+D36","v":0},0,0,0,0,0,0,0,0,0,{"$f":"M37+N36","v":0},0,0,0,0,0,0,0,0,0,0,0]
["Чистая приведенная стоимость: NPV =",{"$f":"SUM($B$36:INDIRECT(ADDRESS(36,1+Расчеты!B10,,1)))","v":0},"USD"]
["Внутренняя норма доходности: IRR =",{"$f":"(POWER(1+IRR($B$36:INDIRECT(ADDRESS(36,1+Расчеты!B10,,1)),0.1),12/Расчеты!B9)-1)*100","v":{"$error":"#NUM!"}},"%"]
["Период окупаемости: PBP =",{"$f":"Расчеты!B30","v":{"$error":"#N/A"}},"мес."]
[]
["ПРОДАЖИ ПО ПРОДУКТАМ"]
[]
["Продажи (с учетом НДС)",{"$f":"SUM(B45:B64)","v":0},0,0,0,0,0,0,0,0,0,0,0]
[{"$f":"\"    \" & Данные!A13","v":"    Продукт 1"},{"$f":"Данные!C41*Данные!C63","v":0},{"$f":"Данные!D41*Данные!D63","v":0},{"$f":"Данные!E41*Данные!E63","v":0},{"$f":"Данные!F41*Данные!F63","v":0},{"$f":"Данные!G41*Данные!G63","v":0},{"$f":"Данные!H41*Данные!H63","v":0},{"$f":"Данные!I41*Данные!I63","v":0},{"$f":"Данные!J41*Данные!J63","v":0},{"$f":"Данные!K41*Данные!K63","v":0},{"$f":"Данные!L41*Данные!L63","v":0},{"$f":"Данные!M41*Данные!M63","v":0},{"$f":"Данные!N41*Данные!N63","v":0},{"$f":"Данные!O41*Данные!O63","v":0},{"$f":"Данные!P41*Данные!P63","v":0},{"$f":"Данные!Q41*Данные!Q63","v":0},{"$f":"Данные!R41*Данные!R63","v":0},{"$f":"Данные!S41*Данные!S63","v":0},{"$f":"Данные!T41*Данные!T63","v":0},{"$f":"Данные!U41*Данные!U63","v":0},{"$f":"Данные!V41*Данные!V63","v":0},{"$f":"Данные!W41*Данные!W63","v":0},{"$f":"Данные!X41*Данные!X63","v":0},{"$f":"Данные!Y41*Данные!Y63","v":0},{"$f":"Данные!Z41*Данные!Z63","v":0}]
[{"$f":"\"    \" & Данные!A14","v":"    Продукт 2"},{"$f":"Данные!C42*Данные!C64","v":0},{"$f":"Данные!D42*Данные!D64","v":0},{"$f":"Данные!E42*Данные!E64","v":0},{"$f":"Данные!F42*Данные!F64","v":0},{"$f":"Данные!G42*Данные!G64","v":0},{"$f":"Данные!H42*Данные!H64","v":0},{"$f":"Данные!I42*Данные!I64","v":0},{"$f":"Данные!J42*Данные!J64","v":0},{"$f":"Данные!K42*Данные!K64","v":0},{"$f":"Данные!L42*Данные!L64","v":0},{"$f":"Данные!M42*Данные!M64","v":0},{"$f":"Данные!N42*Данные!N64","v":0},{"$f":"Данные!O42*Данные!O64","v":0},{"$f":"Данные!P42*Данные!P64","v":0},{"$f":"Данные!Q42*Данные!Q64","v":0},{"$f":"Данные!R42*Данные!R64","v":0},{"$f":"Данные!S42*Данные!S64","v":0},{"$f":"Данные!T42*Данные!T64","v":0},{"$f":"Данные!U42*Данные!U64","v":0},{"$f":"Данные!V42*Данные!V64","v":0},{"$f":"Данные!W42*Данные!W64","v":0},{"$f":"Данные!X42*Данные!X64","v":0},{"$f":"Данные!Y42*Данные!Y64","v":0},{"$f":"Данные!Z42*Данные!Z64","v":0}]
[{"$f":"\"    \" & Данные!A15","v":"    Продукт 3"},{"$f":"Данные!C43*Данные!C65","v":0},{"$f":"Данные!D43*Данные!D65","v":0},{"$f":"Данные!E43*Данные!E65","v":0},{"$f":"Данные!F43*Данные!F65","v":0},{"$f":"Данные!G43*Данные!G65","v":0},{"$f":"Данные!H43*Данные!H65","v":0},{"$f":"Данные!I43*Данные!I65","v":0},{"$f":"Данные!J43*Данные!J65","v":0},{"$f":"Данные!K43*Данные!K65","v":0},{"$f":"Данные!L43*Данные!L65","v":0},{"$f":"Данные!M43*Данные!M65","v":0},{"$f":"Данные!N43*Данные!N65","v":0},{"$f":"Данные!O43*Данные!O65","v":0},{"$f":"Данные!P43*Данные!P65","v":0},{"$f":"Данные!Q43*Данные!Q65","v":0},{"$f":"Данные!R43*Данные!R65","v":0},{"$f":"Данные!S43*Данные!S65","v":0},{"$f":"Данные!T43*Данные!T65","v":0},{"$f":"Данные!U43*Данные!U65","v":0},{"$f":"Данные!V43*Данные!V65","v":0},{"$f":"Данные!W43*Данные!W65","v":0},{"$f":"Данные!X43*Данные!X65","v":0},{"$f":"Данные!Y43*Данные!Y65","v":0},{"$f":"Данные!Z43*Данные!Z65","v":0}]
[{"$f":"\"    \" & Данные!A16","v":"    Продукт 4"},{"$f":"Данные!C44*Данные!C66","v":0},{"$f":"Данные!D44*Данные!D66","v":0},{"$f":"Данные!E44*Данные!E66","v":0},{"$f":"Данные!F44*Данные!F66","v":0},{"$f":"Данные!G44*Данные!G66","v":0},{"$f":"Данные!H44*Данные!H66","v":0},{"$f":"Данные!I44*Данные!I66","v":0},{"$f":"Данные!J44*Данные!J66","v":0},{"$f":"Данные!K44*Данные!K66","v":0},{"$f":"Данные!L44*Данные!L66","v":0},{"$f":"Данные!M44*Данные!M66","v":0},{"$f":"Данные!N44*Данные!N66","v":0},{"$f":"Данные!O44*Данные!O66","v":0},{"$f":"Данные!P44*Данные!P66","v":0},{"$f":"Данные!Q44*Данные!Q66","v":0},{"$f":"Данные!R44*Данные!R66","v":0},{"$f":"Данные!S44*Данные!S66","v":0},{"$f":"Данные!T44*Данные!T66","v":0},{"$f":"Данные!U44*Данные!U66","v":0},{"$f":"Данные!V44*Данные!V66","v":0},{"$f":"Данные!W44*Данные!W66","v":0},{"$f":"Данные!X44*Данные!X66","v":0},{"$f":"Данные!Y44*Данные!Y66","v":0},{"$f":"Данные!Z44*Данные!Z66","v":0}]
[{"$f":"\"    \" & Данные!A17","v":"    Продукт 5"},{"$f":"Данные!C45*Данные!C67","v":0},{"$f":"Данные!D45*Данные!D67","v":0},{"$f":"Данные!E45*Данные!E67","v":0},{"$f":"Данные!F45*Данные!F67","v":0},{"$f":"Данные!G45*Данные!G67","v":0},{"$f":"Данные!H45*Данные!H67","v":0},{"$f":"Данные!I45*Данные!I67","v":0},{"$f":"Данные!J45*Данные!J67","v":0},{"$f":"Данные!K45*Данные!K67","v":0},{"$f":"Данные!L45*Данные!L67","v":0},{"$f":"Данные!M45*Данные!M67","v":0},{"$f":"Данные!N45*Данные!N67","v":0},{"$f":"Данные!O45*Данные!O67","v":0},{"$f":"Данные!P45*Данные!P67","v":0},{"$f":"Данные!Q45*Данные!Q67","v":0},{"$f":"Данные!R45*Данные!R67","v":0},{"$f":"Данные!S45*Данные!S67","v":0},{"$f":"Данные!T45*Данные!T67","v":0},{"$f":"Данные!U45*Данные!U67","v":0},{"$f":"Данные!V45*Данные!V67","v":0},{"$f":"Данные!W45*Данные!W67","v":0},{"$f":"Данные!X45*Данные!X67","v":0},{"$f":"Данные!Y45*Данные!Y67","v":0},{"$f":"Данные!Z45*Данные!Z67","v":0}]
[{"$f":"\"    \" & Данные!A18","v":"    Продукт 6"},{"$f":"Данные!C46*Данные!C68","v":0},{"$f":"Данные!D46*Данные!D68","v":0},{"$f":"Данные!E46*Данные!E68","v":0},{"$f":"Данные!F46*Данные!F68","v":0},{"$f":"Данные!G46*Данные!G68","v":0},{"$f":"Данные!H46*Данные!H68","v":0},{"$f":"Данные!I46*Данные!I68","v":0},{"$f":"Данные!J46*Данные!J68","v":0},{"$f":"Данные!K46*Данные!K68","v":0},{"$f":"Данные!L46*Данные!L68","v":0},{"$f":"Данные!M46*Данные!M68","v":0},{"$f":"Данные!N46*Данные!N68","v":0},{"$f":"Данные!O46*Данные!O68","v":0},{"$f":"Данные!P46*Данные!P68","v":0},{"$f":"Данные!Q46*Данные!Q68","v":0},{"$f":"Данные!R46*Данные!R68","v":0},{"$f":"Данные!S46*Данные!S68","v":0},{"$f":"Данные!T46*Данные!T68","v":0},{"$f":"Данные!U46*Данные!U68","v":0},{"$f":"Данные!V46*Данные!V68","v":0},{"$f":"Данные!W46*Данные!W68","v":0},{"$f":"Данные!X46*Данные!X68","v":0},{"$f":"Данные!Y46*Данные!Y68","v":0},{"$f":"Данные!Z46*Данные!Z68","v":0}]
[{"$f":"\"    \" & Данные!A19","v":"    Продукт 7"},{"$f":"Данные!C47*Данные!C69","v":0},{"$f":"Данные!D47*Данные!D69","v":0},{"$f":"Данные!E47*Данные!E69","v":0},{"$f":"Данные!F47*Данные!F69","v":0},{"$f":"Данные!G47*Данные!G69","v":0},{"$f":"Данные!H47*Данные!H69","v":0},{"$f":"Данные!I47*Данные!I69","v":0},{"$f":"Данные!J47*Данные!J69","v":0},{"$f":"Данные!K47*Данные!K69","v":0},{"$f":"Данные!L47*Данные!L69","v":0},{"$f":"Данные!M47*Данные!M69","v":0},{"$f":"Данные!N47*Данные!N69","v":0},{"$f":"Данные!O47*Данные!O69","v":0},{"$f":"Данные!P47*Данные!P69","v":0},{"$f":"Данные!Q47*Данные!Q69","v":0},{"$f":"Данные!R47*Данные!R69","v":0},{"$f":"Данные!S47*Данные!S69","v":0},{"$f":"Данные!T47*Данные!T69","v":0},{"$f":"Данные!U47*Данные!U69","v":0},{"$f":"Данные!V47*Данные!V69","v":0},{"$f":"Данные!W47*Данные!W69","v":0},{"$f":"Данные!X47*Данные!X69","v":0},{"$f":"Данные!Y47*Данные!Y69","v":0},{"$f":"Данные!Z47*Данные!Z69","v":0}]
[{"$f":"\"    \" & Данные!A20","v":"    Продукт 8"},{"$f":"Данные!C48*Данные!C70","v":0},{"$f":"Данные!D48*Данные!D70","v":0},{"$f":"Данные!E48*Данные!E70","v":0},{"$f":"Данные!F48*Данные!F70","v":0},{"$f":"Данные!G48*Данные!G70","v":0},{"$f":"Данные!H48*Данные!H70","v":0},{"$f":"Данные!I48*Данные!I70","v":0},{"$f":"Данные!J48*Данные!J70","v":0},{"$f":"Данные!K48*Данные!K70","v":0},{"$f":"Данные!L48*Данные!L70","v":0},{"$f":"Данные!M48*Данные!M70","v":0},{"$f":"Данные!N48*Данные!N70","v":0},{"$f":"Данные!O48*Данные!O70","v":0},{"$f":"Данные!P48*Данные!P70","v":0},{"$f":"Данные!Q48*Данные!Q70","v":0},{"$f":"Данные!R48*Данные!R70","v":0},{"$f":"Данные!S48*Данные!S70","v":0},{"$f":"Данные!T48*Данные!T70","v":0},{"$f":"Данные!U48*Данные!U70","v":0},{"$f":"Данные!V48*Данные!V70","v":0},{"$f":"Данные!W48*Данные!W70","v":0},{"$f":"Данные!X48*Данные!X70","v":0},{"$f":"Данные!Y48*Данные!Y70","v":0},{"$f":"Данные!Z48*Данные!Z70","v":0}]
[{"$f":"\"    \" & Данные!A21","v":"    Продукт 9"},{"$f":"Данные!C49*Данные!C71","v":0},{"$f":"Данные!D49*Данные!D71","v":0},{"$f":"Данные!E49*Данные!E71","v":0},{"$f":"Данные!F49*Данные!F71","v":0},{"$f":"Данные!G49*Данные!G71","v":0},{"$f":"Данные!H49*Данные!H71","v":0},{"$f":"Данные!I49*Данные!I71","v":0},{"$f":"Данные!J49*Данные!J71","v":0},{"$f":"Данные!K49*Данные!K71","v":0},{"$f":"Данные!L49*Данные!L71","v":0},{"$f":"Данные!M49*Данные!M71","v":0},{"$f":"Данные!N49*Данные!N71","v":0},{"$f":"Данные!O49*Данные!O71","v":0},{"$f":"Данные!P49*Данные!P71","v":0},{"$f":"Данные!Q49*Данные!Q71","v":0},{"$f":"Данные!R49*Данные!R71","v":0},{"$f":"Данные!S49*Данные!S71","v":0},{"$f":"Данные!T49*Данные!T71","v":0},{"$f":"Данные!U49*Данные!U71","v":0},{"$f":"Данные!V49*Данные!V71","v":0},{"$f":"Данные!W49*Данные!W71","v":0},{"$f":"Данные!X49*Данные!X71","v":0},{"$f":"Данные!Y49*Данные!Y71","v":0},{"$f":"Данные!Z49*Данные!Z71","v":0}]
[{"$f":"\"    \" & Данные!A22","v":"    Продукт 10"},{"$f":"Данные!C50*Данные!C72","v":0},{"$f":"Данные!D50*Данные!D72","v":0},{"$f":"Данные!E50*Данные!E72","v":0},{"$f":"Данные!F50*Данные!F72","v":0},{"$f":"Данные!G50*Данные!G72","v":0},{"$f":"Данные!H50*Данные!H72","v":0},{"$f":"Данные!I50*Данные!I72","v":0},{"$f":"Данные!J50*Данные!J72","v":0},{"$f":"Данные!K50*Данные!K72","v":0},{"$f":"Данные!L50*Данные!L72","v":0},{"$f":"Данные!M50*Данные!M72","v":0},{"$f":"Данные!N50*Данные!N72","v":0},{"$f":"Данные!O50*Данные!O72","v":0},{"$f":"Данные!P50*Данные!P72","v":0},{"$f":"Данные!Q50*Данные!Q72","v":0},{"$f":"Данные!R50*Данные!R72","v":0},{"$f":"Данные!S50*Данные!S72","v":0},{"$f":"Данные!T50*Данные!T72","v":0},{"$f":"Данные!U50*Данные!U72","v":0},{"$f":"Данные!V50*Данные!V72","v":0},{"$f":"Данные!W50*Данные!W72","v":0},{"$f":"Данные!X50*Данные!X72","v":0},{"$f":"Данные!Y50*Данные!Y72","v":0},{"$f":"Данные!Z50*Данные!Z72","v":0}]
[{"$f":"\"    \" & Данные!A23","v":"    Продукт 11"},{"$f":"Данные!C51*Данные!C73","v":0},{"$f":"Данные!D51*Данные!D73","v":0},{"$f":"Данные!E51*Данные!E73","v":0},{"$f":"Данные!F51*Данные!F73","v":0},{"$f":"Данные!G51*Данные!G73","v":0},{"$f":"Данные!H51*Данные!H73","v":0},{"$f":"Данные!I51*Данные!I73","v":0},{"$f":"Данные!J51*Данные!J73","v":0},{"$f":"Данные!K51*Данные!K73","v":0},{"$f":"Данные!L51*Данные!L73","v":0},{"$f":"Данные!M51*Данные!M73","v":0},{"$f":"Данные!N51*Данные!N73","v":0},{"$f":"Данные!O51*Данные!O73","v":0},{"$f":"Данные!P51*Данные!P73","v":0},{"$f":"Данные!Q51*Данные!Q73","v":0},{"$f":"Данные!R51*Данные!R73","v":0},{"$f":"Данные!S51*Данные!S73","v":0},{"$f":"Данные!T51*Данные!T73","v":0},{"$f":"Данные!U51*Данные!U73","v":0},{"$f":"Данные!V51*Данные!V73","v":0},{"$f":"Данные!W51*Данные!W73","v":0},{"$f":"Данные!X51*Данные!X73","v":0},{"$f":"Данные!Y51*Данные!Y73","v":0},{"$f":"Данные!Z51*Данные!Z73","v":0}]
[{"$f":"\"    \" & Данные!A24","v":"    Продукт 12"},{"$f":"Данные!C52*Данные!C74","v":0},{"$f":"Данные!D52*Данные!D74","v":0},{"$f":"Данные!E52*Данные!E74","v":0},{"$f":"Данные!F52*Данные!F74","v":0},{"$f":"Данные!G52*Данные!G74","v":0},{"$f":"Данные!H52*Данные!H74","v":0},{"$f":"Данные!I52*Данные!I74","v":0},{"$f":"Данные!J52*Данные!J74","v":0},{"$f":"Данные!K52*Данные!K74","v":0},{"$f":"Данные!L52*Данные!L74","v":0},{"$f":"Данные!M52*Данные!M74","v":0},{"$f":"Данные!N52*Данные!N74","v":0},{"$f":"Данные!O52*Данные!O74","v":0},{"$f":"Данные!P52*Данные!P74","v":0},{"$f":"Данные!Q52*Данные!Q74","v":0},{"$f":"Данные!R52*Данные!R74","v":0},{"$f":"Данные!S52*Данные!S74","v":0},{"$f":"Данные!T52*Данные!T74","v":0},{"$f":"Данные!U52*Данные!U74","v":0},{"$f":"Данные!V52*Данные!V74","v":0},{"$f":"Данные!W52*Данные!W74","v":0},{"$f":"Данные!X52*Данные!X74","v":0},{"$f":"Данные!Y52*Данные!Y74","v":0},{"$f":"Данные!Z52*Данные!Z74","v":0}]
[{"$f":"\"    \" & Данные!A25","v":"    Продукт 13"},{"$f":"Данные!C53*Данные!C75","v":0},{"$f":"Данные!D53*Данные!D75","v":0},{"$f":"Данные!E53*Данные!E75","v":0},{"$f":"Данные!F53*Данные!F75","v":0},{"$f":"Данные!G53*Данные!G75","v":0},{"$f":"Данные!H53*Данные!H75","v":0},{"$f":"Данные!I53*Данные!I75","v":0},{"$f":"Данные!J53*Данные!J75","v":0},{"$f":"Данные!K53*Данные!K75","v":0},{"$f":"Данные!L53*Данные!L75","v":0},{"$f":"Данные!M53*Данные!M75","v":0},{"$f":"Данные!N53*Данные!N75","v":0},{"$f":"Данные!O53*Данные!O75","v":0},{"$f":"Данные!P53*Данные!P75","v":0},{"$f":"Данные!Q53*Данные!Q75","v":0},{"$f":"Данные!R53*Данные!R75","v":0},{"$f":"Данные!S53*Данные!S75","v":0},{"$f":"Данные!T53*Данные!T75","v":0},{"$f":"Данные!U53*Данные!U75","v":0},{"$f":"Данные!V53*Данные!V75","v":0},{"$f":"Данные!W53*Данные!W75","v":0},{"$f":"Данные!X53*Данные!X75","v":0},{"$f":"Данные!Y53*Данные!Y75","v":0},{"$f":"Данные!Z53*Данные!Z75","v":0}]
[{"$f":"\"    \" & Данные!A26","v":"    Продукт 14"},{"$f":"Данные!C54*Данные!C76","v":0},{"$f":"Данные!D54*Данные!D76","v":0},{"$f":"Данные!E54*Данные!E76","v":0},{"$f":"Данные!F54*Данные!F76","v":0},{"$f":"Данные!G54*Данные!G76","v":0},{"$f":"Данные!H54*Данные!H76","v":0},{"$f":"Данные!I54*Данные!I76","v":0},{"$f":"Данные!J54*Данные!J76","v":0},{"$f":"Данные!K54*Данные!K76","v":0},{"$f":"Данные!L54*Данные!L76","v":0},{"$f":"Данные!M54*Данные!M76","v":0},{"$f":"Данные!N54*Данные!N76","v":0},{"$f":"Данные!O54*Данные!O76","v":0},{"$f":"Данные!P54*Данные!P76","v":0},{"$f":"Данные!Q54*Данные!Q76","v":0},{"$f":"Данные!R54*Данные!R76","v":0},{"$f":"Данные!S54*Данные!S76","v":0},{"$f":"Данные!T54*Данные!T76","v":0},{"$f":"Данные!U54*Данные!U76","v":0},{"$f":"Данные!V54*Данные!V76","v":0},{"$f":"Данные!W54*Данные!W76","v":0},{"$f":"Данные!X54*Данные!X76","v":0},{"$f":"Данные!Y54*Данные!Y76","v":0},{"$f":"Данные!Z54*Данные!Z76","v":0}]
[{"$f":"\"    \" & Данные!A27","v":"    Продукт 15"},{"$f":"Данные!C55*Данные!C77","v":0},{"$f":"Данные!D55*Данные!D77","v":0},{"$f":"Данные!E55*Данные!E77","v":0},{"$f":"Данные!F55*Данные!F77","v":0},{"$f":"Данные!G55*Данные!G77","v":0},{"$f":"Данные!H55*Данные!H77","v":0},{"$f":"Данные!I55*Данные!I77","v":0},{"$f":"Данные!J55*Данные!J77","v":0},{"$f":"Данные!K55*Данные!K77","v":0},{"$f":"Данные!L55*Данные!L77","v":0},{"$f":"Данные!M55*Данные!M77","v":0},{"$f":"Данные!N55*Данные!N77","v":0},{"$f":"Данные!O55*Данные!O77","v":0},{"$f":"Данные!P55*Данные!P77","v":0},{"$f":"Данные!Q55*Данные!Q77","v":0},{"$f":"Данные!R55*Данные!R77","v":0},{"$f":"Данные!S55*Данные!S77","v":0},{"$f":"Данные!T55*Данные!T77","v":0},{"$f":"Данные!U55*Данные!U77","v":0},{"$f":"Данные!V55*Данные!V77","v":0},{"$f":"Данные!W55*Данные!W77","v":0},{"$f":"Данные!X55*Данные!X77","v":0},{"$f":"Данные!Y55*Данные!Y77","v":0},{"$f":"Данные!Z55*Данные!Z77","v":0}]
[{"$f":"\"    \" & Данные!A28","v":"    Продукт 16"},{"$f":"Данные!C56*Данные!C78","v":0},{"$f":"Данные!D56*Данные!D78","v":0},{"$f":"Данные!E56*Данные!E78","v":0},{"$f":"Данные!F56*Данные!F78","v":0},{"$f":"Данные!G56*Данные!G78","v":0},{"$f":"Данные!H56*Данные!H78","v":0},{"$f":"Данные!I56*Данные!I78","v":0},{"$f":"Данные!J56*Данные!J78","v":0},{"$f":"Данные!K56*Данные!K78","v":0},{"$f":"Данные!L56*Данные!L78","v":0},{"$f":"Данные!M56*Данные!M78","v":0},{"$f":"Данные!N56*Данные!N78","v":0},{"$f":"Данные!O56*Данные!O78","v":0},{"$f":"Данные!P56*Данные!P78","v":0},{"$f":"Данные!Q56*Данные!Q78","v":0},{"$f":"Данные!R56*Данные!R78","v":0},{"$f":"Данные!S56*Данные!S78","v":0},{"$f":"Данные!T56*Данные!T78","v":0},{"$f":"Данные!U56*Данные!U78","v":0},{"$f":"Данные!V56*Данные!V78","v":0},{"$f":"Данные!W56*Данные!W78","v":0},{"$f":"Данные!X56*Данные!X78","v":0},{"$f":"Данные!Y56*Данные!Y78","v":0},{"$f":"Данные!Z56*Данные!Z78","v":0}]
[{"$f":"\"    \" & Данные!A29","v":"    Продукт 17"},{"$f":"Данные!C57*Данные!C79","v":0},{"$f":"Данные!D57*Данные!D79","v":0},{"$f":"Данные!E57*Данные!E79","v":0},{"$f":"Данные!F57*Данные!F79","v":0},{"$f":"Данные!G57*Данные!G79","v":0},{"$f":"Данные!H57*Данные!H79","v":0},{"$f":"Данные!I57*Данные!I79","v":0},{"$f":"Данные!J57*Данные!J79","v":0},{"$f":"Данные!K57*Данные!K79","v":0},{"$f":"Данные!L57*Данные!L79","v":0},{"$f":"Данные!M57*Данные!M79","v":0},{"$f":"Данные!N57*Данные!N79","v":0},{"$f":"Данные!O57*Данные!O79","v":0},{"$f":"Данные!P57*Данные!P79","v":0},{"$f":"Данные!Q57*Данные!Q79","v":0},{"$f":"Данные!R57*Данные!R79","v":0},{"$f":"Данные!S57*Данные!S79","v":0},{"$f":"Данные!T57*Данные!T79","v":0},{"$f":"Данные!U57*Данные!U79","v":0},{"$f":"Данные!V57*Данные!V79","v":0},{"$f":"Данные!W57*Данные!W79","v":0},{"$f":"Данные!X57*Данные!X79","v":0},{"$f":"Данные!Y57*Данные!Y79","v":0},{"$f":"Данные!Z57*Данные!Z79","v":0}]
[{"$f":"\"    \" & Данные!A30","v":"    Продукт 18"},{"$f":"Данные!C58*Данные!C80","v":0},{"$f":"Данные!D58*Данные!D80","v":0},{"$f":"Данные!E58*Данные!E80","v":0},{"$f":"Данные!F58*Данные!F80","v":0},{"$f":"Данные!G58*Данные!G80","v":0},{"$f":"Данные!H58*Данные!H80","v":0},{"$f":"Данные!I58*Данные!I80","v":0},{"$f":"Данные!J58*Данные!J80","v":0},{"$f":"Данные!K58*Данные!K80","v":0},{"$f":"Данные!L58*Данные!L80","v":0},{"$f":"Данные!M58*Данные!M80","v":0},{"$f":"Данные!N58*Данные!N80","v":0},{"$f":"Данные!O58*Данные!O80","v":0},{"$f":"Данные!P58*Данные!P80","v":0},{"$f":"Данные!Q58*Данные!Q80","v":0},{"$f":"Данные!R58*Данные!R80","v":0},{"$f":"Данные!S58*Данные!S80","v":0},{"$f":"Данные!T58*Данные!T80","v":0},{"$f":"Данные!U58*Данные!U80","v":0},{"$f":"Данные!V58*Данные!V80","v":0},{"$f":"Данные!W58*Данные!W80","v":0},{"$f":"Данные!X58*Данные!X80","v":0},{"$f":"Данные!Y58*Данные!Y80","v":0},{"$f":"Данные!Z58*Данные!Z80","v":0}]
[{"$f":"\"    \" & Данные!A31","v":"    Продукт 19"},{"$f":"Данные!C59*Данные!C81","v":0},{"$f":"Данные!D59*Данные!D81","v":0},{"$f":"Данные!E59*Данные!E81","v":0},{"$f":"Данные!F59*Данные!F81","v":0},{"$f":"Данные!G59*Данные!G81","v":0},{"$f":"Данные!H59*Данные!H81","v":0},{"$f":"Данные!I59*Данные!I81","v":0},{"$f":"Данные!J59*Данные!J81","v":0},{"$f":"Данные!K59*Данные!K81","v":0},{"$f":"Данные!L59*Данные!L81","v":0},{"$f":"Данные!M59*Данные!M81","v":0},{"$f":"Данные!N59*Данные!N81","v":0},{"$f":"Данные!O59*Данные!O81","v":0},{"$f":"Данные!P59*Данные!P81","v":0},{"$f":"Данные!Q59*Данные!Q81","v":0},{"$f":"Данные!R59*Данные!R81","v":0},{"$f":"Данные!S59*Данные!S81","v":0},{"$f":"Данные!T59*Данные!T81","v":0},{"$f":"Данные!U59*Данные!U81","v":0},{"$f":"Данные!V59*Данные!V81","v":0},{"$f":"Данные!W59*Данные!W81","v":0},{"$f":"Данные!X59*Данные!X81","v":0},{"$f":"Данные!Y59*Данные!Y81","v":0},{"$f":"Данные!Z59*Данные!Z81","v":0}]
[{"$f":"\"    \" & Данные!A32","v":"    Продукт 20"},{"$f":"Данные!C60*Данные!C82","v":0},{"$f":"Данные!D60*Данные!D82","v":0},{"$f":"Данные!E60*Данные!E82","v":0},{"$f":"Данные!F60*Данные!F82","v":0},{"$f":"Данные!G60*Данные!G82","v":0},{"$f":"Данные!H60*Данные!H82","v":0},{"$f":"Данные!I60*Данные!I82","v":0},{"$f":"Данные!J60*Данные!J82","v":0},{"$f":"Данные!K60*Данные!K82","v":0},{"$f":"Данные!L60*Данные!L82","v":0},{"$f":"Данные!M60*Данные!M82","v":0},{"$f":"Данные!N60*Данные!N82","v":0},{"$f":"Данные!O60*Данные!O82","v":0},{"$f":"Данные!P60*Данные!P82","v":0},{"$f":"Данные!Q60*Данные!Q82","v":0},{"$f":"Данные!R60*Данные!R82","v":0},{"$f":"Данные!S60*Данные!S82","v":0},{"$f":"Данные!T60*Данные!T82","v":0},{"$f":"Данные!U60*Данные!U82","v":0},{"$f":"Данные!V60*Данные!V82","v":0},{"$f":"Данные!W60*Данные!W82","v":0},{"$f":"Данные!X60*Данные!X82","v":0},{"$f":"Данные!Y60*Данные!Y82","v":0},{"$f":"Данные!Z60*Данные!Z82","v":0}]
["Материалы и комплектующие (с учетом НДС)",{"$f":"SUM(B66:B85)","v":0},{"$f":"SUM(C66:C85)","v":0},0,0,0,0,0,0,0,0,0,0]
[{"$f":"\"    \" & Данные!A13","v":"    Продукт 1"},{"$f":"Данные!C85*Данные!C41","v":0},{"$f":"Данные!D85*Данные!D41","v":0},{"$f":"Данные!E85*Данные!E41","v":0},{"$f":"Данные!F85*Данные!F41","v":0},{"$f":"Данные!G85*Данные!G41","v":0},{"$f":"Данные!H85*Данные!H41","v":0},{"$f":"Данные!I85*Данные!I41","v":0},{"$f":"Данные!J85*Данные!J41","v":0},{"$f":"Данные!K85*Данные!K41","v":0},{"$f":"Данные!L85*Данные!L41","v":0},{"$f":"Данные!M85*Данные!M41","v":0},{"$f":"Данные!N85*Данные!N41","v":0},{"$f":"Данные!O85*Данные!O41","v":0},{"$f":"Данные!P85*Данные!P41","v":0},{"$f":"Данные!Q85*Данные!Q41","v":0},{"$f":"Данные!R85*Данные!R41","v":0},{"$f":"Данные!S85*Данные!S41","v":0},{"$f":"Данные!T85*Данные!T41","v":0},{"$f":"Данные!U85*Данные!U41","v":0},{"$f":"Данные!V85*Данные!V41","v":0},{"$f":"Данные!W85*Данные!W41","v":0},{"$f":"Данные!X85*Данные!X41","v":0},{"$f":"Данные!Y85*Данные!Y41","v":0},{"$f":"Данные!Z85*Данные!Z41","v":0}]
[{"$f":"\"    \" & Данные!A14","v":"    Продукт 2"},{"$f":"Данные!C86*Данные!C42","v":0},{"$f":"Данные!D86*Данные!D42","v":0},{"$f":"Данные!E86*Данные!E42","v":0},{"$f":"Данные!F86*Данные!F42","v":0},{"$f":"Данные!G86*Данные!G42","v":0},{"$f":"Данные!H86*Данные!H42","v":0},{"$f":"Данные!I86*Данные!I42","v":0},{"$f":"Данные!J86*Данные!J42","v":0},{"$f":"Данные!K86*Данные!K42","v":0},{"$f":"Данные!L86*Данные!L42","v":0},{"$f":"Данные!M86*Данные!M42","v":0},{"$f":"Данные!N86*Данные!N42","v":0},{"$f":"Данные!O86*Данные!O42","v":0},{"$f":"Данные!P86*Данные!P42","v":0},{"$f":"Данные!Q86*Данные!Q42","v":0},{"$f":"Данные!R86*Данные!R42","v":0},{"$f":"Данные!S86*Данные!S42","v":0},{"$f":"Данные!T86*Данные!T42","v":0},{"$f":"Данные!U86*Данные!U42","v":0},{"$f":"Данные!V86*Данные!V42","v":0},{"$f":"Данные!W86*Данные!W42","v":0},{"$f":"Данные!X86*Данные!X42","v":0},{"$f":"Данные!Y86*Данные!Y42","v":0},{"$f":"Данные!Z86*Данные!Z42","v":0}]
[{"$f":"\"    \" & Данные!A15","v":"    Продукт 3"},{"$f":"Данные!C87*Данные!C43","v":0},{"$f":"Данные!D87*Данные!D43","v":0},{"$f":"Данные!E87*Данные!E43","v":0},{"$f":"Данные!F87*Данные!F43","v":0},{"$f":"Данные!G87*Данные!G43","v":0},{"$f":"Данные!H87*Данные!H43","v":0},{"$f":"Данные!I87*Данные!I43","v":0},{"$f":"Данные!J87*Данные!J43","v":0},{"$f":"Данные!K87*Данные!K43","v":0},{"$f":"Данные!L87*Данные!L43","v":0},{"$f":"Данные!M87*Данные!M43","v":0},{"$f":"Данные!N87*Данные!N43","v":0},{"$f":"Данные!O87*Данные!O43","v":0},{"$f":"Данные!P87*Данные!P43","v":0},{"$f":"Данные!Q87*Данные!Q43","v":0},{"$f":"Данные!R87*Данные!R43","v":0},{"$f":"Данные!S87*Данные!S43","v":0},{"$f":"Данные!T87*Данные!T43","v":0},{"$f":"Данные!U87*Данные!U43","v":0},{"$f":"Данные!V87*Данные!V43","v":0},{"$f":"Данные!W87*Данные!W43","v":0},{"$f":"Данные!X87*Данные!X43","v":0},{"$f":"Данные!Y87*Данные!Y43","v":0},{"$f":"Данные!Z87*Данные!Z43","v":0}]
[{"$f":"\"    \" & Данные!A16","v":"    Продукт 4"},{"$f":"Данные!C88*Данные!C44","v":0},{"$f":"Данные!D88*Данные!D44","v":0},{"$f":"Данные!E88*Данные!E44","v":0},{"$f":"Данные!F88*Данные!F44","v":0},{"$f":"Данные!G88*Данные!G44","v":0},{"$f":"Данные!H88*Данные!H44","v":0},{"$f":"Данные!I88*Данные!I44","v":0},{"$f":"Данные!J88*Данные!J44","v":0},{"$f":"Данные!K88*Данные!K44","v":0},{"$f":"Данные!L88*Данные!L44","v":0},{"$f":"Данные!M88*Данные!M44","v":0},{"$f":"Данные!N88*Данные!N44","v":0},{"$f":"Данные!O88*Данные!O44","v":0},{"$f":"Данные!P88*Данные!P44","v":0},{"$f":"Данные!Q88*Данные!Q44","v":0},{"$f":"Данные!R88*Данные!R44","v":0},{"$f":"Данные!S88*Данные!S44","v":0},{"$f":"Данные!T88*Данные!T44","v":0},{"$f":"Данные!U88*Данные!U44","v":0},{"$f":"Данные!V88*Данные!V44","v":0},{"$f":"Данные!W88*Данные!W44","v":0},{"$f":"Данные!X88*Данные!X44","v":0},{"$f":"Данные!Y88*Данные!Y44","v":0},{"$f":"Данные!Z88*Данные!Z44","v":0}]
[{"$f":"\"    \" & Данные!A17","v":"    Продукт 5"},{"$f":"Данные!C89*Данные!C45","v":0},{"$f":"Данные!D89*Данные!D45","v":0},{"$f":"Данные!E89*Данные!E45","v":0},{"$f":"Данные!F89*Данные!F45","v":0},{"$f":"Данные!G89*Данные!G45","v":0},{"$f":"Данные!H89*Данные!H45","v":0},{"$f":"Данные!I89*Данные!I45","v":0},{"$f":"Данные!J89*Данные!J45","v":0},{"$f":"Данные!K89*Данные!K45","v":0},{"$f":"Данные!L89*Данные!L45","v":0},{"$f":"Данные!M89*Данные!M45","v":0},{"$f":"Данные!N89*Данные!N45","v":0},{"$f":"Данные!O89*Данные!O45","v":0},{"$f":"Данные!P89*Данные!P45","v":0},{"$f":"Данные!Q89*Данные!Q45","v":0},{"$f":"Данные!R89*Данные!R45","v":0},{"$f":"Данные!S89*Данные!S45","v":0},{"$f":"Данные!T89*Данные!T45","v":0},{"$f":"Данные!U89*Данные!U45","v":0},{"$f":"Данные!V89*Данные!V45","v":0},{"$f":"Данные!W89*Данные!W45","v":0},{"$f":"Данные!X89*Данные!X45","v":0},{"$f":"Данные!Y89*Данные!Y45","v":0},{"$f":"Данные!Z89*Данные!Z45","v":0}]
[{"$f":"\"    \" & Данные!A18","v":"    Продукт 6"},{"$f":"Данные!C90*Данные!C46","v":0},{"$f":"Данные!D90*Данные!D46","v":0},{"$f":"Данные!E90*Данные!E46","v":0},{"$f":"Данные!F90*Данные!F46","v":0},{"$f":"Данные!G90*Данные!G46","v":0},{"$f":"Данные!H90*Данные!H46","v":0},{"$f":"Данные!I90*Данные!I46","v":0},{"$f":"Данные!J90*Данные!J46","v":0},{"$f":"Данные!K90*Данные!K46","v":0},{"$f":"Данные!L90*Данные!L46","v":0},{"$f":"Данные!M90*Данные!M46","v":0},{"$f":"Данные!N90*Данные!N46","v":0},{"$f":"Данные!O90*Данные!O46","v":0},{"$f":"Данные!P90*Данные!P46","v":0},{"$f":"Данные!Q90*Данные!Q46","v":0},{"$f":"Данные!R90*Данные!R46","v":0},{"$f":"Данные!S90*Данные!S46","v":0},{"$f":"Данные!T90*Данные!T46","v":0},{"$f":"Данные!U90*Данные!U46","v":0},{"$f":"Данные!V90*Данные!V46","v":0},{"$f":"Данные!W90*Данные!W46","v":0},{"$f":"Данные!X90*Данные!X46","v":0},{"$f":"Данные!Y90*Данные!Y46","v":0},{"$f":"Данные!Z90*Данные!Z46","v":0}]
[{"$f":"\"    \" & Данные!A19","v":"    Продукт 7"},{"$f":"Данные!C91*Данные!C47","v":0},{"$f":"Данные!D91*Данные!D47","v":0},{"$f":"Данные!E91*Данные!E47","v":0},{"$f":"Данные!F91*Данные!F47","v":0},{"$f":"Данные!G91*Данные!G47","v":0},{"$f":"Данные!H91*Данные!H47","v":0},{"$f":"Данные!I91*Данные!I47","v":0},{"$f":"Данные!J91*Данные!J47","v":0},{"$f":"Данные!K91*Данные!K47","v":0},{"$f":"Данные!L91*Данные!L47","v":0},{"$f":"Данные!M91*Данные!M47","v":0},{"$f":"Данные!N91*Данные!N47","v":0},{"$f":"Данные!O91*Данные!O47","v":0},{"$f":"Данные!P91*Данные!P47","v":0},{"$f":"Данные!Q91*Данные!Q47","v":0},{"$f":"Данные!R91*Данные!R47","v":0},{"$f":"Данные!S91*Данные!S47","v":0},{"$f":"Данные!T91*Данные!T47","v":0},{"$f":"Данные!U91*Данные!U47","v":0},{"$f":"Данные!V91*Данные!V47","v":0},{"$f":"Данные!W91*Данные!W47","v":0},{"$f":"Данные!X91*Данные!X47","v":0},{"$f":"Данные!Y91*Данные!Y47","v":0},{"$f":"Данные!Z91*Данные!Z47","v":0}]
[{"$f":"\"    \" & Данные!A20","v":"    Продукт 8"},{"$f":"Данные!C92*Данные!C48","v":0},{"$f":"Данные!D92*Данные!D48","v":0},{"$f":"Данные!E92*Данные!E48","v":0},{"$f":"Данные!F92*Данные!F48","v":0},{"$f":"Данные!G92*Данные!G48","v":0},{"$f":"Данные!H92*Данные!H48","v":0},{"$f":"Данные!I92*Данные!I48","v":0},{"$f":"Данные!J92*Данные!J48","v":0},{"$f":"Данные!K92*Данные!K48","v":0},{"$f":"Данные!L92*Данные!L48","v":0},{"$f":"Данные!M92*Данные!M48","v":0},{"$f":"Данные!N92*Данные!N48","v":0},{"$f":"Данные!O92*Данные!O48","v":0},{"$f":"Данные!P92*Данные!P48","v":0},{"$f":"Данные!Q92*Данные!Q48","v":0},{"$f":"Данные!R92*Данные!R48","v":0},{"$f":"Данные!S92*Данные!S48","v":0},{"$f":"Данные!T92*Данные!T48","v":0},{"$f":"Данные!U92*Данные!U48","v":0},{"$f":"Данные!V92*Данные!V48","v":0},{"$f":"Данные!W92*Данные!W48","v":0},{"$f":"Данные!X92*Данные!X48","v":0},{"$f":"Данные!Y92*Данные!Y48","v":0},{"$f":"Данные!Z92*Данные!Z48","v":0}]
[{"$f":"\"    \" & Данные!A21","v":"    Продукт 9"},{"$f":"Данные!C93*Данные!C49","v":0},{"$f":"Данные!D93*Данные!D49","v":0},{"$f":"Данные!E93*Данные!E49","v":0},{"$f":"Данные!F93*Данные!F49","v":0},{"$f":"Данные!G93*Данные!G49","v":0},{"$f":"Данные!H93*Данные!H49","v":0},{"$f":"Данные!I93*Данные!I49","v":0},{"$f":"Данные!J93*Данные!J49","v":0},{"$f":"Данные!K93*Данные!K49","v":0},{"$f":"Данные!L93*Данные!L49","v":0},{"$f":"Данные!M93*Данные!M49","v":0},{"$f":"Данные!N93*Данные!N49","v":0},{"$f":"Данные!O93*Данные!O49","v":0},{"$f":"Данные!P93*Данные!P49","v":0},{"$f":"Данные!Q93*Данные!Q49","v":0},{"$f":"Данные!R93*Данные!R49","v":0},{"$f":"Данные!S93*Данные!S49","v":0},{"$f":"Данные!T93*Данные!T49","v":0},{"$f":"Данные!U93*Данные!U49","v":0},{"$f":"Данные!V93*Данные!V49","v":0},{"$f":"Данные!W93*Данные!W49","v":0},{"$f":"Данные!X93*Данные!X49","v":0},{"$f":"Данные!Y93*Данные!Y49","v":0},{"$f":"Данные!Z93*Данные!Z49","v":0}]
[{"$f":"\"    \" & Данные!A22","v":"    Продукт 10"},{"$f":"Данные!C94*Данные!C50","v":0},{"$f":"Данные!D94*Данные!D50","v":0},{"$f":"Данные!E94*Данные!E50","v":0},{"$f":"Данные!F94*Данные!F50","v":0},{"$f":"Данные!G94*Данные!G50","v":0},{"$f":"Данные!H94*Данные!H50","v":0},{"$f":"Данные!I94*Данные!I50","v":0},{"$f":"Данные!J94*Данные!J50","v":0},{"$f":"Данные!K94*Данные!K50","v":0},{"$f":"Данные!L94*Данные!L50","v":0},{"$f":"Данные!M94*Данные!M50","v":0},{"$f":"Данные!N94*Данные!N50","v":0},{"$f":"Данные!O94*Данные!O50","v":0},{"$f":"Данные!P94*Данные!P50","v":0},{"$f":"Данные!Q94*Данные!Q50","v":0},{"$f":"Данные!R94*Данные!R50","v":0},{"$f":"Данные!S94*Данные!S50","v":0},{"$f":"Данные!T94*Данные!T50","v":0},{"$f":"Данные!U94*Данные!U50","v":0},{"$f":"Данные!V94*Данные!V50","v":0},{"$f":"Данные!W94*Данные!W50","v":0},{"$f":"Данные!X94*Данные!X50","v":0},{"$f":"Данные!Y94*Данные!Y50","v":0},{"$f":"Данные!Z94*Данные!Z50","v":0}]
[{"$f":"\"    \" & Данные!A23","v":"    Продукт 11"},{"$f":"Данные!C95*Данные!C51","v":0},{"$f":"Данные!D95*Данные!D51","v":0},{"$f":"Данные!E95*Данные!E51","v":0},{"$f":"Данные!F95*Данные!F51","v":0},{"$f":"Данные!G95*Данные!G51","v":0},{"$f":"Данные!H95*Данные!H51","v":0},{"$f":"Данные!I95*Данные!I51","v":0},{"$f":"Данные!J95*Данные!J51","v":0},{"$f":"Данные!K95*Данные!K51","v":0},{"$f":"Данные!L95*Данные!L51","v":0},{"$f":"Данные!M95*Данные!M51","v":0},{"$f":"Данные!N95*Данные!N51","v":0},{"$f":"Данные!O95*Данные!O51","v":0},{"$f":"Данные!P95*Данные!P51","v":0},{"$f":"Данные!Q95*Данные!Q51","v":0},{"$f":"Данные!R95*Данные!R51","v":0},{"$f":"Данные!S95*Данные!S51","v":0},{"$f":"Данные!T95*Данные!T51","v":0},{"$f":"Данные!U95*Данные!U51","v":0},{"$f":"Данные!V95*Данные!V51","v":0},{"$f":"Данные!W95*Данные!W51","v":0},{"$f":"Данные!X95*Данные!X51","v":0},{"$f":"Данные!Y95*Данные!Y51","v":0},{"$f":"Данные!Z95*Данные!Z51","v":0}]
[{"$f":"\"    \" & Данные!A24","v":"    Продукт 12"},{"$f":"Данные!C96*Данные!C52","v":0},{"$f":"Данные!D96*Данные!D52","v":0},{"$f":"Данные!E96*Данные!E52","v":0},{"$f":"Данные!F96*Данные!F52","v":0},{"$f":"Данные!G96*Данные!G52","v":0},{"$f":"Данные!H96*Данные!H52","v":0},{"$f":"Данные!I96*Данные!I52","v":0},{"$f":"Данные!J96*Данные!J52","v":0},{"$f":"Данные!K96*Данные!K52","v":0},{"$f":"Данные!L96*Данные!L52","v":0},{"$f":"Данные!M96*Данные!M52","v":0},{"$f":"Данные!N96*Данные!N52","v":0},{"$f":"Данные!O96*Данные!O52","v":0},{"$f":"Данные!P96*Данные!P52","v":0},{"$f":"Данные!Q96*Данные!Q52","v":0},{"$f":"Данные!R96*Данные!R52","v":0},{"$f":"Данные!S96*Данные!S52","v":0},{"$f":"Данные!T96*Данные!T52","v":0},{"$f":"Данные!U96*Данные!U52","v":0},{"$f":"Данные!V96*Данные!V52","v":0},{"$f":"Данные!W96*Данные!W52","v":0},{"$f":"Данные!X96*Данные!X52","v":0},{"$f":"Данные!Y96*Данные!Y52","v":0},{"$f":"Данные!Z96*Данные!Z52","v":0}]
[{"$f":"\"    \" & Данные!A25","v":"    Продукт 13"},{"$f":"Данные!C97*Данные!C53","v":0},{"$f":"Данные!D97*Данные!D53","v":0},{"$f":"Данные!E97*Данные!E53","v":0},{"$f":"Данные!F97*Данные!F53","v":0},{"$f":"Данные!G97*Данные!G53","v":0},{"$f":"Данные!H97*Данные!H53","v":0},{"$f":"Данные!I97*Данные!I53","v":0},{"$f":"Данные!J97*Данные!J53","v":0},{"$f":"Данные!K97*Данные!K53","v":0},{"$f":"Данные!L97*Данные!L53","v":0},{"$f":"Данные!M97*Данные!M53","v":0},{"$f":"Данные!N97*Данные!N53","v":0},{"$f":"Данные!O97*Данные!O53","v":0},{"$f":"Данные!P97*Данные!P53","v":0},{"$f":"Данные!Q97*Данные!Q53","v":0},{"$f":"Данные!R97*Данные!R53","v":0},{"$f":"Данные!S97*Данные!S53","v":0},{"$f":"Данные!T97*Данные!T53","v":0},{"$f":"Данные!U97*Данные!U53","v":0},{"$f":"Данные!V97*Данные!V53","v":0},{"$f":"Данные!W97*Данные!W53","v":0},{"$f":"Данные!X97*Данные!X53","v":0},{"$f":"Данные!Y97*Данные!Y53","v":0},{"$f":"Данные!Z97*Данные!Z53","v":0}]
[{"$f":"\"    \" & Данные!A26","v":"    Продукт 14"},{"$f":"Данные!C98*Данные!C54","v":0},{"$f":"Данные!D98*Данные!D54","v":0},{"$f":"Данные!E98*Данные!E54","v":0},{"$f":"Данные!F98*Данные!F54","v":0},{"$f":"Данные!G98*Данные!G54","v":0},{"$f":"Данные!H98*Данные!H54","v":0},{"$f":"Данные!I98*Данные!I54","v":0},{"$f":"Данные!J98*Данные!J54","v":0},{"$f":"Данные!K98*Данные!K54","v":0},{"$f":"Данные!L98*Данные!L54","v":0},{"$f":"Данные!M98*Данные!M54","v":0},{"$f":"Данные!N98*Данные!N54","v":0},{"$f":"Данные!O98*Данные!O54","v":0},{"$f":"Данные!P98*Данные!P54","v":0},{"$f":"Данные!Q98*Данные!Q54","v":0},{"$f":"Данные!R98*Данные!R54","v":0},{"$f":"Данные!S98*Данные!S54","v":0},{"$f":"Данные!T98*Данные!T54","v":0},{"$f":"Данные!U98*Данные!U54","v":0},{"$f":"Данные!V98*Данные!V54","v":0},{"$f":"Данные!W98*Данные!W54","v":0},{"$f":"Данные!X98*Данные!X54","v":0},{"$f":"Данные!Y98*Данные!Y54","v":0},{"$f":"Данные!Z98*Данные!Z54","v":0}]
[{"$f":"\"    \" & Данные!A27","v":"    Продукт 15"},{"$f":"Данные!C99*Данные!C55","v":0},{"$f":"Данные!D99*Данные!D55","v":0},{"$f":"Данные!E99*Данные!E55","v":0},{"$f":"Данные!F99*Данные!F55","v":0},{"$f":"Данные!G99*Данные!G55","v":0},{"$f":"Данные!H99*Данные!H55","v":0},{"$f":"Данные!I99*Данные!I55","v":0},{"$f":"Данные!J99*Данные!J55","v":0},{"$f":"Данные!K99*Данные!K55","v":0},{"$f":"Данные!L99*Данные!L55","v":0},{"$f":"Данные!M99*Данные!M55","v":0},{"$f":"Данные!N99*Данные!N55","v":0},{"$f":"Данные!O99*Данные!O55","v":0},{"$f":"Данные!P99*Данные!P55","v":0},{"$f":"Данные!Q99*Данные!Q55","v":0},{"$f":"Данные!R99*Данные!R55","v":0},{"$f":"Данные!S99*Данные!S55","v":0},{"$f":"Данные!T99*Данные!T55","v":0},{"$f":"Данные!U99*Данные!U55","v":0},{"$f":"Данные!V99*Данные!V55","v":0},{"$f":"Данные!W99*Данные!W55","v":0},{"$f":"Данные!X99*Данные!X55","v":0},{"$f":"Данные!Y99*Данные!Y55","v":0},{"$f":"Данные!Z99*Данные!Z55","v":0}]
[{"$f":"\"    \" & Данные!A28","v":"    Продукт 16"},{"$f":"Данные!C100*Данные!C56","v":0},{"$f":"Данные!D100*Данные!D56","v":0},{"$f":"Данные!E100*Данные!E56","v":0},{"$f":"Данные!F100*Данные!F56","v":0},{"$f":"Данные!G100*Данные!G56","v":0},{"$f":"Данные!H100*Данные!H56","v":0},{"$f":"Данные!I100*Данные!I56","v":0},{"$f":"Данные!J100*Данные!J56","v":0},{"$f":"Данные!K100*Данные!K56","v":0},{"$f":"Данные!L100*Данные!L56","v":0},{"$f":"Данные!M100*Данные!M56","v":0},{"$f":"Данные!N100*Данные!N56","v":0},{"$f":"Данные!O100*Данные!O56","v":0},{"$f":"Данные!P100*Данные!P56","v":0},{"$f":"Данные!Q100*Данные!Q56","v":0},{"$f":"Данные!R100*Данные!R56","v":0},{"$f":"Данные!S100*Данные!S56","v":0},{"$f":"Данные!T100*Данные!T56","v":0},{"$f":"Данные!U100*Данные!U56","v":0},{"$f":"Данные!V100*Данные!V56","v":0},{"$f":"Данные!W100*Данные!W56","v":0},{"$f":"Данные!X100*Данные!X56","v":0},{"$f":"Данные!Y100*Данные!Y56","v":0},{"$f":"Данные!Z100*Данные!Z56","v":0}]
[{"$f":"\"    \" & Данные!A29","v":"    Продукт 17"},{"$f":"Данные!C101*Данные!C57","v":0},{"$f":"Данные!D101*Данные!D57","v":0},{"$f":"Данные!E101*Данные!E57","v":0},{"$f":"Данные!F101*Данные!F57","v":0},{"$f":"Данные!G101*Данные!G57","v":0},{"$f":"Данные!H101*Данные!H57","v":0},{"$f":"Данные!I101*Данные!I57","v":0},{"$f":"Данные!J101*Данные!J57","v":0},{"$f":"Данные!K101*Данные!K57","v":0},{"$f":"Данные!L101*Данные!L57","v":0},{"$f":"Данные!M101*Данные!M57","v":0},{"$f":"Данные!N101*Данные!N57","v":0},{"$f":"Данные!O101*Данные!O57","v":0},{"$f":"Данные!P101*Данные!P57","v":0},{"$f":"Данные!Q101*Данные!Q57","v":0},{"$f":"Данные!R101*Данные!R57","v":0},{"$f":"Данные!S101*Данные!S57","v":0},{"$f":"Данные!T101*Данные!T57","v":0},{"$f":"Данные!U101*Данные!U57","v":0},{"$f":"Данные!V101*Данные!V57","v":0},{"$f":"Данные!W101*Данные!W57","v":0},{"$f":"Данные!X101*Данные!X57","v":0},{"$f":"Данные!Y101*Данные!Y57","v":0},{"$f":"Данные!Z101*Данные!Z57","v":0}]
[{"$f":"\"    \" & Данные!A30","v":"    Продукт 18"},{"$f":"Данные!C102*Данные!C58","v":0},{"$f":"Данные!D102*Данные!D58","v":0},{"$f":"Данные!E102*Данные!E58","v":0},{"$f":"Данные!F102*Данные!F58","v":0},{"$f":"Данные!G102*Данные!G58","v":0},{"$f":"Данные!H102*Данные!H58","v":0},{"$f":"Данные!I102*Данные!I58","v":0},{"$f":"Данные!J102*Данные!J58","v":0},{"$f":"Данные!K102*Данные!K58","v":0},{"$f":"Данные!L102*Данные!L58","v":0},{"$f":"Данные!M102*Данные!M58","v":0},{"$f":"Данные!N102*Данные!N58","v":0},{"$f":"Данные!O102*Данные!O58","v":0},{"$f":"Данные!P102*Данные!P58","v":0},{"$f":"Данные!Q102*Данные!Q58","v":0},{"$f":"Данные!R102*Данные!R58","v":0},{"$f":"Данные!S102*Данные!S58","v":0},{"$f":"Данные!T102*Данные!T58","v":0},{"$f":"Данные!U102*Данные!U58","v":0},{"$f":"Данные!V102*Данные!V58","v":0},{"$f":"Данные!W102*Данные!W58","v":0},{"$f":"Данные!X102*Данные!X58","v":0},{"$f":"Данные!Y102*Данные!Y58","v":0},{"$f":"Данные!Z102*Данные!Z58","v":0}]
[{"$f":"\"    \" & Данные!A31","v":"    Продукт 19"},{"$f":"Данные!C103*Данные!C59","v":0},{"$f":"Данные!D103*Данные!D59","v":0},{"$f":"Данные!E103*Данные!E59","v":0},{"$f":"Данные!F103*Данные!F59","v":0},{"$f":"Данные!G103*Данные!G59","v":0},{"$f":"Данные!H103*Данные!H59","v":0},{"$f":"Данные!I103*Данные!I59","v":0},{"$f":"Данные!J103*Данные!J59","v":0},{"$f":"Данные!K103*Данные!K59","v":0},{"$f":"Данные!L103*Данные!L59","v":0},{"$f":"Данные!M103*Данные!M59","v":0},{"$f":"Данные!N103*Данные!N59","v":0},{"$f":"Данные!O103*Данные!O59","v":0},{"$f":"Данные!P103*Данные!P59","v":0},{"$f":"Данные!Q103*Данные!Q59","v":0},{"$f":"Данные!R103*Данные!R59","v":0},{"$f":"Данные!S103*Данные!S59","v":0},{"$f":"Данные!T103*Данные!T59","v":0},{"$f":"Данные!U103*Данные!U59","v":0},{"$f":"Данные!V103*Данные!V59","v":0},{"$f":"Данные!W103*Данные!W59","v":0},{"$f":"Данные!X103*Данные!X59","v":0},{"$f":"Данные!Y103*Данные!Y59","v":0},{"$f":"Данные!Z103*Данные!Z59","v":0}]
[{"$f":"\"    \" & Данные!A32","v":"    Продукт 20"},{"$f":"Данные!C104*Данные!C60","v":0},{"$f":"Данные!D104*Данные!D60","v":0},{"$f":"Данные!E104*Данные!E60","v":0},{"$f":"Данные!F104*Данные!F60","v":0},{"$f":"Данные!G104*Данные!G60","v":0},{"$f":"Данные!H104*Данные!H60","v":0},{"$f":"Данные!I104*Данные!I60","v":0},{"$f":"Данные!J104*Данные!J60","v":0},{"$f":"Данные!K104*Данные!K60","v":0},{"$f":"Данные!L104*Данные!L60","v":0},{"$f":"Данные!M104*Данные!M60","v":0},{"$f":"Данные!N104*Данные!N60","v":0},{"$f":"Данные!O104*Данные!O60","v":0},{"$f":"Данные!P104*Данные!P60","v":0},{"$f":"Данные!Q104*Данные!Q60","v":0},{"$f":"Данные!R104*Данные!R60","v":0},{"$f":"Данные!S104*Данные!S60","v":0},{"$f":"Данные!T104*Данные!T60","v":0},{"$f":"Данные!U104*Данные!U60","v":0},{"$f":"Данные!V104*Данные!V60","v":0},{"$f":"Данные!W104*Данные!W60","v":0},{"$f":"Данные!X104*Данные!X60","v":0},{"$f":"Данные!Y104*Данные!Y60","v":0},{"$f":"Данные!Z104*Данные!Z60","v":0}]
["Сдельная зарплата",{"$f":"SUM(B87:B106)","v":0},{"$f":"SUM(C87:C106)","v":0},0,0,0,0,0,0,0,0,0,0]
[{"$f":"\"    \" & Данные!A13","v":"    Продукт 1"},{"$f":"Данные!C107*Данные!C41","v":0},{"$f":"Данные!D107*Данные!D41","v":0},{"$f":"Данные!E107*Данные!E41","v":0},{"$f":"Данные!F107*Данные!F41","v":0},{"$f":"Данные!G107*Данные!G41","v":0},{"$f":"Данные!H107*Данные!H41","v":0},{"$f":"Данные!I107*Данные!I41","v":0},{"$f":"Данные!J107*Данные!J41","v":0},{"$f":"Данные!K107*Данные!K41","v":0},{"$f":"Данные!L107*Данные!L41","v":0},{"$f":"Данные!M107*Данные!M41","v":0},{"$f":"Данные!N107*Данные!N41","v":0},{"$f":"Данные!O107*Данные!O41","v":0},{"$f":"Данные!P107*Данные!P41","v":0},{"$f":"Данные!Q107*Данные!Q41","v":0},{"$f":"Данные!R107*Данные!R41","v":0},{"$f":"Данные!S107*Данные!S41","v":0},{"$f":"Данные!T107*Данные!T41","v":0},{"$f":"Данные!U107*Данные!U41","v":0},{"$f":"Данные!V107*Данные!V41","v":0},{"$f":"Данные!W107*Данные!W41","v":0},{"$f":"Данные!X107*Данные!X41","v":0},{"$f":"Данные!Y107*Данные!Y41","v":0},{"$f":"Данные!Z107*Данные!Z41","v":0}]
[{"$f":"\"    \" & Данные!A14","v":"    Продукт 2"},{"$f":"Данные!C108*Данные!C42","v":0},{"$f":"Данные!D108*Данные!D42","v":0},{"$f":"Данные!E108*Данные!E42","v":0},{"$f":"Данные!F108*Данные!F42","v":0},{"$f":"Данные!G108*Данные!G42","v":0},{"$f":"Данные!H108*Данные!H42","v":0},{"$f":"Данные!I108*Данные!I42","v":0},{"$f":"Данные!J108*Данные!J42","v":0},{"$f":"Данные!K108*Данные!K42","v":0},{"$f":"Данные!L108*Данные!L42","v":0},{"$f":"Данные!M108*Данные!M42","v":0},{"$f":"Данные!N108*Данные!N42","v":0},{"$f":"Данные!O108*Данные!O42","v":0},{"$f":"Данные!P108*Данные!P42","v":0},{"$f":"Данные!Q108*Данные!Q42","v":0},{"$f":"Данные!R108*Данные!R42","v":0},{"$f":"Данные!S108*Данные!S42","v":0},{"$f":"Данные!T108*Данные!T42","v":0},{"$f":"Данные!U108*Данные!U42","v":0},{"$f":"Данные!V108*Данные!V42","v":0},{"$f":"Данные!W108*Данные!W42","v":0},{"$f":"Данные!X108*Данные!X42","v":0},{"$f":"Данные!Y108*Данные!Y42","v":0},{"$f":"Данные!Z108*Данные!Z42","v":0}]
[{"$f":"\"    \" & Данные!A15","v":"    Продукт 3"},{"$f":"Данные!C109*Данные!C43","v":0},{"$f":"Данные!D109*Данные!D43","v":0},{"$f":"Данные!E109*Данные!E43","v":0},{"$f":"Данные!F109*Данные!F43","v":0},{"$f":"Данные!G109*Данные!G43","v":0},{"$f":"Данные!H109*Данные!H43","v":0},{"$f":"Данные!I109*Данные!I43","v":0},{"$f":"Данные!J109*Данные!J43","v":0},{"$f":"Данные!K109*Данные!K43","v":0},{"$f":"Данные!L109*Данные!L43","v":0},{"$f":"Данные!M109*Данные!M43","v":0},{"$f":"Данные!N109*Данные!N43","v":0},{"$f":"Данные!O109*Данные!O43","v":0},{"$f":"Данные!P109*Данные!P43","v":0},{"$f":"Данные!Q109*Данные!Q43","v":0},{"$f":"Данные!R109*Данные!R43","v":0},{"$f":"Данные!S109*Данные!S43","v":0},{"$f":"Данные!T109*Данные!T43","v":0},{"$f":"Данные!U109*Данные!U43","v":0},{"$f":"Данные!V109*Данные!V43","v":0},{"$f":"Данные!W109*Данные!W43","v":0},{"$f":"Данные!X109*Данные!X43","v":0},{"$f":"Данные!Y109*Данные!Y43","v":0},{"$f":"Данные!Z109*Данные!Z43","v":0}]
[{"$f":"\"    \" & Данные!A16","v":"    Продукт 4"},{"$f":"Данные!C110*Данные!C44","v":0},{"$f":"Данные!D110*Данные!D44","v":0},{"$f":"Данные!E110*Данные!E44","v":0},{"$f":"Данные!F110*Данные!F44","v":0},{"$f":"Данные!G110*Данные!G44","v":0},{"$f":"Данные!H110*Данные!H44","v":0},{"$f":"Данные!I110*Данные!I44","v":0},{"$f":"Данные!J110*Данные!J44","v":0},{"$f":"Данные!K110*Данные!K44","v":0},{"$f":"Данные!L110*Данные!L44","v":0},{"$f":"Данные!M110*Данные!M44","v":0},{"$f":"Данные!N110*Данные!N44","v":0},{"$f":"Данные!O110*Данные!O44","v":0},{"$f":"Данные!P110*Данные!P44","v":0},{"$f":"Данные!Q110*Данные!Q44","v":0},{"$f":"Данные!R110*Данные!R44","v":0},{"$f":"Данные!S110*Данные!S44","v":0},{"$f":"Данные!T110*Данные!T44","v":0},{"$f":"Данные!U110*Данные!U44","v":0},{"$f":"Данные!V110*Данные!V44","v":0},{"$f":"Данные!W110*Данные!W44","v":0},{"$f":"Данные!X110*Данные!X44","v":0},{"$f":"Данные!Y110*Данные!Y44","v":0},{"$f":"Данные!Z110*Данные!Z44","v":0}]
[{"$f":"\"    \" & Данные!A17","v":"    Продукт 5"},{"$f":"Данные!C111*Данные!C45","v":0},{"$f":"Данные!D111*Данные!D45","v":0},{"$f":"Данные!E111*Данные!E45","v":0},{"$f":"Данные!F111*Данные!F45","v":0},{"$f":"Данные!G111*Данные!G45","v":0},{"$f":"Данные!H111*Данные!H45","v":0},{"$f":"Данные!I111*Данные!I45","v":0},{"$f":"Данные!J111*Данные!J45","v":0},{"$f":"Данные!K111*Данные!K45","v":0},{"$f":"Данные!L111*Данные!L45","v":0},{"$f":"Данные!M111*Данные!M45","v":0},{"$f":"Данные!N111*Данные!N45","v":0},{"$f":"Данные!O111*Данные!O45","v":0},{"$f":"Данные!P111*Данные!P45","v":0},{"$f":"Данные!Q111*Данные!Q45","v":0},{"$f":"Данные!R111*Данные!R45","v":0},{"$f":"Данные!S111*Данные!S45","v":0},{"$f":"Данные!T111*Данные!T45","v":0},{"$f":"Данные!U111*Данные!U45","v":0},{"$f":"Данные!V111*Данные!V45","v":0},{"$f":"Данные!W111*Данные!W45","v":0},{"$f":"Данные!X111*Данные!X45","v":0},{"$f":"Данные!Y111*Данные!Y45","v":0},{"$f":"Данные!Z111*Данные!Z45","v":0}]
[{"$f":"\"    \" & Данные!A18","v":"    Продукт 6"},{"$f":"Данные!C112*Данные!C46","v":0},{"$f":"Данные!D112*Данные!D46","v":0},{"$f":"Данные!E112*Данные!E46","v":0},{"$f":"Данные!F112*Данные!F46","v":0},{"$f":"Данные!G112*Данные!G46","v":0},{"$f":"Данные!H112*Данные!H46","v":0},{"$f":"Данные!I112*Данные!I46","v":0},{"$f":"Данные!J112*Данные!J46","v":0},{"$f":"Данные!K112*Данные!K46","v":0},{"$f":"Данные!L112*Данные!L46","v":0},{"$f":"Данные!M112*Данные!M46","v":0},{"$f":"Данные!N112*Данные!N46","v":0},{"$f":"Данные!O112*Данные!O46","v":0},{"$f":"Данные!P112*Данные!P46","v":0},{"$f":"Данные!Q112*Данные!Q46","v":0},{"$f":"Данные!R112*Данные!R46","v":0},{"$f":"Данные!S112*Данные!S46","v":0},{"$f":"Данные!T112*Данные!T46","v":0},{"$f":"Данные!U112*Данные!U46","v":0},{"$f":"Данные!V112*Данные!V46","v":0},{"$f":"Данные!W112*Данные!W46","v":0},{"$f":"Данные!X112*Данные!X46","v":0},{"$f":"Данные!Y112*Данные!Y46","v":0},{"$f":"Данные!Z112*Данные!Z46","v":0}]
[{"$f":"\"    \" & Данные!A19","v":"    Продукт 7"},{"$f":"Данные!C113*Данные!C47","v":0},{"$f":"Данные!D113*Данные!D47","v":0},{"$f":"Данные!E113*Данные!E47","v":0},{"$f":"Данные!F113*Данные!F47","v":0},{"$f":"Данные!G113*Данные!G47","v":0},{"$f":"Данные!H113*Данные!H47","v":0},{"$f":"Данные!I113*Данные!I47","v":0},{"$f":"Данные!J113*Данные!J47","v":0},{"$f":"Данные!K113*Данные!K47","v":0},{"$f":"Данные!L113*Данные!L47","v":0},{"$f":"Данные!M113*Данные!M47","v":0},{"$f":"Данные!N113*Данные!N47","v":0},{"$f":"Данные!O113*Данные!O47","v":0},{"$f":"Данные!P113*Данные!P47","v":0},{"$f":"Данные!Q113*Данные!Q47","v":0},{"$f":"Данные!R113*Данные!R47","v":0},{"$f":"Данные!S113*Данные!S47","v":0},{"$f":"Данные!T113*Данные!T47","v":0},{"$f":"Данные!U113*Данные!U47","v":0},{"$f":"Данные!V113*Данные!V47","v":0},{"$f":"Данные!W113*Данные!W47","v":0},{"$f":"Данные!X113*Данные!X47","v":0},{"$f":"Данные!Y113*Данные!Y47","v":0},{"$f":"Данные!Z113*Данные!Z47","v":0}]
[{"$f":"\"    \" & Данные!A20","v":"    Продукт 8"},{"$f":"Данные!C114*Данные!C48","v":0},{"$f":"Данные!D114*Данные!D48","v":0},{"$f":"Данные!E114*Данные!E48","v":0},{"$f":"Данные!F114*Данные!F48","v":0},{"$f":"Данные!G114*Данные!G48","v":0},{"$f":"Данные!H114*Данные!H48","v":0},{"$f":"Данные!I114*Данные!I48","v":0},{"$f":"Данные!J114*Данные!J48","v":0},{"$f":"Данные!K114*Данные!K48","v":0},{"$f":"Данные!L114*Данные!L48","v":0},{"$f":"Данные!M114*Данные!M48","v":0},{"$f":"Данные!N114*Данные!N48","v":0},{"$f":"Данные!O114*Данные!O48","v":0},{"$f":"Данные!P114*Данные!P48","v":0},{"$f":"Данные!Q114*Данные!Q48","v":0},{"$f":"Данные!R114*Данные!R48","v":0},{"$f":"Данные!S114*Данные!S48","v":0},{"$f":"Данные!T114*Данные!T48","v":0},{"$f":"Данные!U114*Данные!U48","v":0},{"$f":"Данные!V114*Данные!V48","v":0},{"$f":"Данные!W114*Данные!W48","v":0},{"$f":"Данные!X114*Данные!X48","v":0},{"$f":"Данные!Y114*Данные!Y48","v":0},{"$f":"Данные!Z114*Данные!Z48","v":0}]
[{"$f":"\"    \" & Данные!A21","v":"    Продукт 9"},{"$f":"Данные!C115*Данные!C49","v":0},{"$f":"Данные!D115*Данные!D49","v":0},{"$f":"Данные!E115*Данные!E49","v":0},{"$f":"Данные!F115*Данные!F49","v":0},{"$f":"Данные!G115*Данные!G49","v":0},{"$f":"Данные!H115*Данные!H49","v":0},{"$f":"Данные!I115*Данные!I49","v":0},{"$f":"Данные!J115*Данные!J49","v":0},{"$f":"Данные!K115*Данные!K49","v":0},{"$f":"Данные!L115*Данные!L49","v":0},{"$f":"Данные!M115*Данные!M49","v":0},{"$f":"Данные!N115*Данные!N49","v":0},{"$f":"Данные!O115*Данные!O49","v":0},{"$f":"Данные!P115*Данные!P49","v":0},{"$f":"Данные!Q115*Данные!Q49","v":0},{"$f":"Данные!R115*Данные!R49","v":0},{"$f":"Данные!S115*Данные!S49","v":0},{"$f":"Данные!T115*Данные!T49","v":0},{"$f":"Данные!U115*Данные!U49","v":0},{"$f":"Данные!V115*Данные!V49","v":0},{"$f":"Данные!W115*Данные!W49","v":0},{"$f":"Данные!X115*Данные!X49","v":0},{"$f":"Данные!Y115*Данные!Y49","v":0},{"$f":"Данные!Z115*Данные!Z49","v":0}]
[{"$f":"\"    \" & Данные!A22","v":"    Продукт 10"},{"$f":"Данные!C116*Данные!C50","v":0},{"$f":"Данные!D116*Данные!D50","v":0},{"$f":"Данные!E116*Данные!E50","v":0},{"$f":"Данные!F116*Данные!F50","v":0},{"$f":"Данные!G116*Данные!G50","v":0},{"$f":"Данные!H116*Данные!H50","v":0},{"$f":"Данные!I116*Данные!I50","v":0},{"$f":"Данные!J116*Данные!J50","v":0},{"$f":"Данные!K116*Данные!K50","v":0},{"$f":"Данные!L116*Данные!L50","v":0},{"$f":"Данные!M116*Данные!M50","v":0},{"$f":"Данные!N116*Данные!N50","v":0},{"$f":"Данные!O116*Данные!O50","v":0},{"$f":"Данные!P116*Данные!P50","v":0},{"$f":"Данные!Q116*Данные!Q50","v":0},{"$f":"Данные!R116*Данные!R50","v":0},{"$f":"Данные!S116*Данные!S50","v":0},{"$f":"Данные!T116*Данные!T50","v":0},{"$f":"Данные!U116*Данные!U50","v":0},{"$f":"Данные!V116*Данные!V50","v":0},{"$f":"Данные!W116*Данные!W50","v":0},{"$f":"Данные!X116*Данные!X50","v":0},{"$f":"Данные!Y116*Данные!Y50","v":0},{"$f":"Данные!Z116*Данные!Z50","v":0}]
[{"$f":"\"    \" & Данные!A23","v":"    Продукт 11"},{"$f":"Данные!C117*Данные!C51","v":0},{"$f":"Данные!D117*Данные!D51","v":0},{"$f":"Данные!E117*Данные!E51","v":0},{"$f":"Данные!F117*Данные!F51","v":0},{"$f":"Данные!G117*Данные!G51","v":0},{"$f":"Данные!H117*Данные!H51","v":0},{"$f":"Данные!I117*Данные!I51","v":0},{"$f":"Данные!J117*Данные!J51","v":0},{"$f":"Данные!K117*Данные!K51","v":0},{"$f":"Данные!L117*Данные!L51","v":0},{"$f":"Данные!M117*Данные!M51","v":0},{"$f":"Данные!N117*Данные!N51","v":0},{"$f":"Данные!O117*Данные!O51","v":0},{"$f":"Данные!P117*Данные!P51","v":0},{"$f":"Данные!Q117*Данные!Q51","v":0},{"$f":"Данные!R117*Данные!R51","v":0},{"$f":"Данные!S117*Данные!S51","v":0},{"$f":"Данные!T117*Данные!T51","v":0},{"$f":"Данные!U117*Данные!U51","v":0},{"$f":"Данные!V117*Данные!V51","v":0},{"$f":"Данные!W117*Данные!W51","v":0},{"$f":"Данные!X117*Данные!X51","v":0},{"$f":"Данные!Y117*Данные!Y51","v":0},{"$f":"Данные!Z117*Данные!Z51","v":0}]
[{"$f":"\"    \" & Данные!A24","v":"    Продукт 12"},{"$f":"Данные!C118*Данные!C52","v":0},{"$f":"Данные!D118*Данные!D52","v":0},{"$f":"Данные!E118*Данные!E52","v":0},{"$f":"Данные!F118*Данные!F52","v":0},{"$f":"Данные!G118*Данные!G52","v":0},{"$f":"Данные!H118*Данные!H52","v":0},{"$f":"Данные!I118*Данные!I52","v":0},{"$f":"Данные!J118*Данные!J52","v":0},{"$f":"Данные!K118*Данные!K52","v":0},{"$f":"Данные!L118*Данные!L52","v":0},{"$f":"Данные!M118*Данные!M52","v":0},{"$f":"Данные!N118*Данные!N52","v":0},{"$f":"Данные!O118*Данные!O52","v":0},{"$f":"Данные!P118*Данные!P52","v":0},{"$f":"Данные!Q118*Данные!Q52","v":0},{"$f":"Данные!R118*Данные!R52","v":0},{"$f":"Данные!S118*Данные!S52","v":0},{"$f":"Данные!T118*Данные!T52","v":0},{"$f":"Данные!U118*Данные!U52","v":0},{"$f":"Данные!V118*Данные!V52","v":0},{"$f":"Данные!W118*Данные!W52","v":0},{"$f":"Данные!X118*Данные!X52","v":0},{"$f":"Данные!Y118*Данные!Y52","v":0},{"$f":"Данные!Z118*Данные!Z52","v":0}]
[{"$f":"\"    \" & Данные!A25","v":"    Продукт 13"},{"$f":"Данные!C119*Данные!C53","v":0},{"$f":"Данные!D119*Данные!D53","v":0},{"$f":"Данные!E119*Данные!E53","v":0},{"$f":"Данные!F119*Данные!F53","v":0},{"$f":"Данные!G119*Данные!G53","v":0},{"$f":"Данные!H119*Данные!H53","v":0},{"$f":"Данные!I119*Данные!I53","v":0},{"$f":"Данные!J119*Данные!J53","v":0},{"$f":"Данные!K119*Данные!K53","v":0},{"$f":"Данные!L119*Данные!L53","v":0},{"$f":"Данные!M119*Данные!M53","v":0},{"$f":"Данные!N119*Данные!N53","v":0},{"$f":"Данные!O119*Данные!O53","v":0},{"$f":"Данные!P119*Данные!P53","v":0},{"$f":"Данные!Q119*Данные!Q53","v":0},{"$f":"Данные!R119*Данные!R53","v":0},{"$f":"Данные!S119*Данные!S53","v":0},{"$f":"Данные!T119*Данные!T53","v":0},{"$f":"Данные!U119*Данные!U53","v":0},{"$f":"Данные!V119*Данные!V53","v":0},{"$f":"Данные!W119*Данные!W53","v":0},{"$f":"Данные!X119*Данные!X53","v":0},{"$f":"Данные!Y119*Данные!Y53","v":0},{"$f":"Данные!Z119*Данные!Z53","v":0}]
[{"$f":"\"    \" & Данные!A26","v":"    Продукт 14"},{"$f":"Данные!C120*Данные!C54","v":0},{"$f":"Данные!D120*Данные!D54","v":0},{"$f":"Данные!E120*Данные!E54","v":0},{"$f":"Данные!F120*Данные!F54","v":0},{"$f":"Данные!G120*Данные!G54","v":0},{"$f":"Данные!H120*Данные!H54","v":0},{"$f":"Данные!I120*Данные!I54","v":0},{"$f":"Данные!J120*Данные!J54","v":0},{"$f":"Данные!K120*Данные!K54","v":0},{"$f":"Данные!L120*Данные!L54","v":0},{"$f":"Данные!M120*Данные!M54","v":0},{"$f":"Данные!N120*Данные!N54","v":0},{"$f":"Данные!O120*Данные!O54","v":0},{"$f":"Данные!P120*Данные!P54","v":0},{"$f":"Данные!Q120*Данные!Q54","v":0},{"$f":"Данные!R120*Данные!R54","v":0},{"$f":"Данные!S120*Данные!S54","v":0},{"$f":"Данные!T120*Данные!T54","v":0},{"$f":"Данные!U120*Данные!U54","v":0},{"$f":"Данные!V120*Данные!V54","v":0},{"$f":"Данные!W120*Данные!W54","v":0},{"$f":"Данные!X120*Данные!X54","v":0},{"$f":"Данные!Y120*Данные!Y54","v":0},{"$f":"Данные!Z120*Данные!Z54","v":0}]
[{"$f":"\"    \" & Данные!A27","v":"    Продукт 15"},{"$f":"Данные!C121*Данные!C55","v":0},{"$f":"Данные!D121*Данные!D55","v":0},{"$f":"Данные!E121*Данные!E55","v":0},{"$f":"Данные!F121*Данные!F55","v":0},{"$f":"Данные!G121*Данные!G55","v":0},{"$f":"Данные!H121*Данные!H55","v":0},{"$f":"Данные!I121*Данные!I55","v":0},{"$f":"Данные!J121*Данные!J55","v":0},{"$f":"Данные!K121*Данные!K55","v":0},{"$f":"Данные!L121*Данные!L55","v":0},{"$f":"Данные!M121*Данные!M55","v":0},{"$f":"Данные!N121*Данные!N55","v":0},{"$f":"Данные!O121*Данные!O55","v":0},{"$f":"Данные!P121*Данные!P55","v":0},{"$f":"Данные!Q121*Данные!Q55","v":0},{"$f":"Данные!R121*Данные!R55","v":0},{"$f":"Данные!S121*Данные!S55","v":0},{"$f":"Данные!T121*Данные!T55","v":0},{"$f":"Данные!U121*Данные!U55","v":0},{"$f":"Данные!V121*Данные!V55","v":0},{"$f":"Данные!W121*Данные!W55","v":0},{"$f":"Данные!X121*Данные!X55","v":0},{"$f":"Данные!Y121*Данные!Y55","v":0},{"$f":"Данные!Z121*Данные!Z55","v":0}]
[{"$f":"\"    \" & Данные!A28","v":"    Продукт 16"},{"$f":"Данные!C122*Данные!C56","v":0},{"$f":"Данные!D122*Данные!D56","v":0},{"$f":"Данные!E122*Данные!E56","v":0},{"$f":"Данные!F122*Данные!F56","v":0},{"$f":"Данные!G122*Данные!G56","v":0},{"$f":"Данные!H122*Данные!H56","v":0},{"$f":"Данные!I122*Данные!I56","v":0},{"$f":"Данные!J122*Данные!J56","v":0},{"$f":"Данные!K122*Данные!K56","v":0},{"$f":"Данные!L122*Данные!L56","v":0},{"$f":"Данные!M122*Данные!M56","v":0},{"$f":"Данные!N122*Данные!N56","v":0},{"$f":"Данные!O122*Данные!O56","v":0},{"$f":"Данные!P122*Данные!P56","v":0},{"$f":"Данные!Q122*Данные!Q56","v":0},{"$f":"Данные!R122*Данные!R56","v":0},{"$f":"Данные!S122*Данные!S56","v":0},{"$f":"Данные!T122*Данные!T56","v":0},{"$f":"Данные!U122*Данные!U56","v":0},{"$f":"Данные!V122*Данные!V56","v":0},{"$f":"Данные!W122*Данные!W56","v":0},{"$f":"Данные!X122*Данные!X56","v":0},{"$f":"Данные!Y122*Данные!Y56","v":0},{"$f":"Данные!Z122*Данные!Z56","v":0}]
[{"$f":"\"    \" & Данные!A29","v":"    Продукт 17"},{"$f":"Данные!C123*Данные!C57","v":0},{"$f":"Данные!D123*Данные!D57","v":0},{"$f":"Данные!E123*Данные!E57","v":0},{"$f":"Данные!F123*Данные!F57","v":0},{"$f":"Данные!G123*Данные!G57","v":0},{"$f":"Данные!H123*Данные!H57","v":0},{"$f":"Данные!I123*Данные!I57","v":0},{"$f":"Данные!J123*Данные!J57","v":0},{"$f":"Данные!K123*Данные!K57","v":0},{"$f":"Данные!L123*Данные!L57","v":0},{"$f":"Данные!M123*Данные!M57","v":0},{"$f":"Данные!N123*Данные!N57","v":0},{"$f":"Данные!O123*Данные!O57","v":0},{"$f":"Данные!P123*Данные!P57","v":0},{"$f":"Данные!Q123*Данные!Q57","v":0},{"$f":"Данные!R123*Данные!R57","v":0},{"$f":"Данные!S123*Данные!S57","v":0},{"$f":"Данные!T123*Данные!T57","v":0},{"$f":"Данные!U123*Данные!U57","v":0},{"$f":"Данные!V123*Данные!V57","v":0},{"$f":"Данные!W123*Данные!W57","v":0},{"$f":"Данные!X123*Данные!X57","v":0},{"$f":"Данные!Y123*Данные!Y57","v":0},{"$f":"Данные!Z123*Данные!Z57","v":0}]
[{"$f":"\"    \" & Данные!A30","v":"    Продукт 18"},{"$f":"Данные!C124*Данные!C58","v":0},{"$f":"Данные!D124*Данные!D58","v":0},{"$f":"Данные!E124*Данные!E58","v":0},{"$f":"Данные!F124*Данные!F58","v":0},{"$f":"Данные!G124*Данные!G58","v":0},{"$f":"Данные!H124*Данные!H58","v":0},{"$f":"Данные!I124*Данные!I58","v":0},{"$f":"Данные!J124*Данные!J58","v":0},{"$f":"Данные!K124*Данные!K58","v":0},{"$f":"Данные!L124*Данные!L58","v":0},{"$f":"Данные!M124*Данные!M58","v":0},{"$f":"Данные!N124*Данные!N58","v":0},{"$f":"Данные!O124*Данные!O58","v":0},{"$f":"Данные!P124*Данные!P58","v":0},{"$f":"Данные!Q124*Данные!Q58","v":0},{"$f":"Данные!R124*Данные!R58","v":0},{"$f":"Данные!S124*Данные!S58","v":0},{"$f":"Данные!T124*Данные!T58","v":0},{"$f":"Данные!U124*Данные!U58","v":0},{"$f":"Данные!V124*Данные!V58","v":0},{"$f":"Данные!W124*Данные!W58","v":0},{"$f":"Данные!X124*Данные!X58","v":0},{"$f":"Данные!Y124*Данные!Y58","v":0},{"$f":"Данные!Z124*Данные!Z58","v":0}]
[{"$f":"\"    \" & Данные!A31","v":"    Продукт 19"},{"$f":"Данные!C125*Данные!C59","v":0},{"$f":"Данные!D125*Данные!D59","v":0},{"$f":"Данные!E125*Данные!E59","v":0},{"$f":"Данные!F125*Данные!F59","v":0},{"$f":"Данные!G125*Данные!G59","v":0},{"$f":"Данные!H125*Данные!H59","v":0},{"$f":"Данные!I125*Данные!I59","v":0},{"$f":"Данные!J125*Данные!J59","v":0},{"$f":"Данные!K125*Данные!K59","v":0},{"$f":"Данные!L125*Данные!L59","v":0},{"$f":"Данные!M125*Данные!M59","v":0},{"$f":"Данные!N125*Данные!N59","v":0},{"$f":"Данные!O125*Данные!O59","v":0},{"$f":"Данные!P125*Данные!P59","v":0},{"$f":"Данные!Q125*Данные!Q59","v":0},{"$f":"Данные!R125*Данные!R59","v":0},{"$f":"Данные!S125*Данные!S59","v":0},{"$f":"Данные!T125*Данные!T59","v":0},{"$f":"Данные!U125*Данные!U59","v":0},{"$f":"Данные!V125*Данные!V59","v":0},{"$f":"Данные!W125*Данные!W59","v":0},{"$f":"Данные!X125*Данные!X59","v":0},{"$f":"Данные!Y125*Данные!Y59","v":0},{"$f":"Данные!Z125*Данные!Z59","v":0}]
[{"$f":"\"    \" & Данные!A32","v":"    Продукт 20"},{"$f":"Данные!C126*Данные!C60","v":0},{"$f":"Данные!D126*Данные!D60","v":0},{"$f":"Данные!E126*Данные!E60","v":0},{"$f":"Данные!F126*Данные!F60","v":0},{"$f":"Данные!G126*Данные!G60","v":0},{"$f":"Данные!H126*Данные!H60","v":0},{"$f":"Данные!I126*Данные!I60","v":0},{"$f":"Данные!J126*Данные!J60","v":0},{"$f":"Данные!K126*Данные!K60","v":0},{"$f":"Данные!L126*Данные!L60","v":0},{"$f":"Данные!M126*Данные!M60","v":0},{"$f":"Данные!N126*Данные!N60","v":0},{"$f":"Данные!O126*Данные!O60","v":0},{"$f":"Данные!P126*Данные!P60","v":0},{"$f":"Данные!Q126*Данные!Q60","v":0},{"$f":"Данные!R126*Данные!R60","v":0},{"$f":"Данные!S126*Данные!S60","v":0},{"$f":"Данные!T126*Данные!T60","v":0},{"$f":"Данные!U126*Данные!U60","v":0},{"$f":"Данные!V126*Данные!V60","v":0},{"$f":"Данные!W126*Данные!W60","v":0},{"$f":"Данные!X126*Данные!X60","v":0},{"$f":"Данные!Y126*Данные!Y60","v":0},{"$f":"Данные!Z126*Данные!Z60","v":0}]
[]
["БЮДЖЕТНАЯ ЭФФЕКТИВНОСТЬ ПРОЕКТА"]
[]
["Ставка дисконтирования доходов бюджета",0]
[]
["Доходы бюджета",{"$f":"Данные!C40","v":"1 кв./2019"},{"$f":"Данные!D40","v":"2 кв./2019"},{"$f":"Данные!E40","v":"3 кв./2019"},{"$f":"Данные!F40","v":"4 кв./2019"},{"$f":"Данные!G40","v":"1 кв./2020"},{"$f":"Данные!H40","v":"2 кв./2020"},{"$f":"Данные!I40","v":"3 кв./2020"},{"$f":"Данные!J40","v":"4 кв./2020"},{"$f":"Данные!K40","v":"1 кв./2021"},{"$f":"Данные!L40","v":"2 кв./2021"},{"$f":"Данные!M40","v":"3 кв./2021"},{"$f":"Данные!N40","v":"4 кв./2021"},{"$f":"Данные!O40","v":"1 кв./2022"},{"$f":"Данные!P40","v":"2 кв./2022"},{"$f":"Данные!Q40","v":"3 кв./2022"},{"$f":"Данные!R40","v":"4 кв./2022"},{"$f":"Данные!S40","v":"1 кв./2023"},{"$f":"Данные!T40","v":"2 кв./2023"},{"$f":"Данные!U40","v":"3 кв./2023"},{"$f":"Данные!V40","v":"4 кв./2023"},{"$f":"Данные!W40","v":"1 кв./2024"},{"$f":"Данные!X40","v":"2 кв./2024"},{"$f":"Данные!Y40","v":"3 кв./2024"},{"$f":"Данные!Z40","v":"4 кв./2024"}]
["Налог на прибыль",{"$f":"Прибыль!C27","v":0},{"$f":"Прибыль!D27","v":0},{"$f":"Прибыль!E27","v":0},{"$f":"Прибыль!F27","v":0},{"$f":"Прибыль!G27","v":0},{"$f":"Прибыль!H27","v":0},{"$f":"Прибыль!I27","v":0},{"$f":"Прибыль!J27","v":0},{"$f":"Прибыль!K27","v":0},{"$f":"Прибыль!L27","v":0},{"$f":"Прибыль!M27","v":0},{"$f":"Прибыль!N27","v":0},{"$f":"Прибыль!O27","v":0},{"$f":"Прибыль!P27","v":0},{"$f":"Прибыль!Q27","v":0},{"$f":"Прибыль!R27","v":0},{"$f":"Прибыль!S27","v":0},{"$f":"Прибыль!T27","v":0},{"$f":"Прибыль!U27","v":0},{"$f":"Прибыль!V27","v":0},{"$f":"Прибыль!W27","v":0},{"$f":"Прибыль!X27","v":0},{"$f":"Прибыль!Y27","v":0},{"$f":"Прибыль!Z27","v":0}]
["Налог на добавленную стоимость",{"$f":"Расчеты!B50","v":0},{"$f":"Расчеты!C50","v":0},{"$f":"Расчеты!D50","v":0},{"$f":"Расчеты!E50","v":0},{"$f":"Расчеты!F50","v":0},{"$f":"Расчеты!G50","v":0},{"$f":"Расчеты!H50","v":0},{"$f":"Расчеты!I50","v":0},{"$f":"Расчеты!J50","v":0},{"$f":"Расчеты!K50","v":0},{"$f":"Расчеты!L50","v":0},{"$f":"Расчеты!M50","v":0},{"$f":"Расчеты!N50","v":0},{"$f":"Расчеты!O50","v":0},{"$f":"Расчеты!P50","v":0},{"$f":"Расчеты!Q50","v":0},{"$f":"Расчеты!R50","v":0},{"$f":"Расчеты!S50","v":0},{"$f":"Расчеты!T50","v":0},{"$f":"Расчеты!U50","v":0},{"$f":"Расчеты!V50","v":0},{"$f":"Расчеты!W50","v":0},{"$f":"Расчеты!X50","v":0},{"$f":"Расчеты!Y50","v":0}]
["Налог на имущество",{"$f":"Прибыль!C8","v":0},{"$f":"Прибыль!D8","v":0},{"$f":"Прибыль!E8","v":0},{"$f":"Прибыль!F8","v":0},{"$f":"Прибыль!G8","v":0},{"$f":"Прибыль!H8","v":0},{"$f":"Прибыль!I8","v":0},{"$f":"Прибыль!J8","v":0},{"$f":"Прибыль!K8","v":0},{"$f":"Прибыль!L8","v":0},{"$f":"Прибыль!M8","v":0},{"$f":"Прибыль!N8","v":0},{"$f":"Прибыль!O8","v":0},{"$f":"Прибыль!P8","v":0},{"$f":"Прибыль!Q8","v":0},{"$f":"Прибыль!R8","v":0},{"$f":"Прибыль!S8","v":0},{"$f":"Прибыль!T8","v":0},{"$f":"Прибыль!U8","v":0},{"$f":"Прибыль!V8","v":0},{"$f":"Прибыль!W8","v":0},{"$f":"Прибыль!X8","v":0},{"$f":"Прибыль!Y8","v":0},{"$f":"Прибыль!Z8","v":0}]
["Налоги с оборота",{"$f":"Прибыль!C6","v":0},{"$f":"Прибыль!D6","v":0},{"$f":"Прибыль!E6","v":0},{"$f":"Прибыль!F6","v":0},{"$f":"Прибыль!G6","v":0},{"$f":"Прибыль!H6","v":0},{"$f":"Прибыль!I6","v":0},{"$f":"Прибыль!J6","v":0},{"$f":"Прибыль!K6","v":0},{"$f":"Прибыль!L6","v":0},{"$f":"Прибыль!M6","v":0},{"$f":"Прибыль!N6","v":0},{"$f":"Прибыль!O6","v":0},{"$f":"Прибыль!P6","v":0},{"$f":"Прибыль!Q6","v":0},{"$f":"Прибыль!R6","v":0},{"$f":"Прибыль!S6","v":0},{"$f":"Прибыль!T6","v":0},{"$f":"Прибыль!U6","v":0},{"$f":"Прибыль!V6","v":0},{"$f":"Прибыль!W6","v":0},{"$f":"Прибыль!X6","v":0},{"$f":"Прибыль!Y6","v":0},{"$f":"Прибыль!Z6","v":0}]
["Социальные отчисления с зарплаты",{"$f":"'Кэш-фло'!C6/(1+Данные!$B$150)*Данные!$B$150","v":0},{"$f":"'Кэш-фло'!D6/(1+Данные!$B$150)*Данные!$B$150","v":0},{"$f":"'Кэш-фло'!E6/(1+Данные!$B$150)*Данные!$B$150","v":0},{"$f":"'Кэш-фло'!F6/(1+Данные!$B$150)*Данные!$B$150","v":0},{"$f":"'Кэш-фло'!G6/(1+Данные!$B$150)*Данные!$B$150","v":0},{"$f":"'Кэш-фло'!H6/(1+Данные!$B$150)*Данные!$B$150","v":0},{"$f":"'Кэш-фло'!I6/(1+Данные!$B$150)*Данные!$B$150","v":0},{"$f":"'Кэш-фло'!J6/(1+Данные!$B$150)*Данные!$B$150","v":0},{"$f":"'Кэш-фло'!K6/(1+Данные!$B$150)*Данные!$B$150","v":0},{"$f":"'Кэш-фло'!L6/(1+Данные!$B$150)*Данные!$B$150","v":0},{"$f":"'Кэш-фло'!M6/(1+Данные!$B$150)*Данные!$B$150","v":0},{"$f":"'Кэш-фло'!N6/(1+Данные!$B$150)*Данные!$B$150","v":0},{"$f":"'Кэш-фло'!O6/(1+Данные!$B$150)*Данные!$B$150","v":0},{"$f":"'Кэш-фло'!P6/(1+Данные!$B$150)*Данные!$B$150","v":0},{"$f":"'Кэш-фло'!Q6/(1+Данные!$B$150)*Данные!$B$150","v":0},{"$f":"'Кэш-фло'!R6/(1+Данные!$B$150)*Данные!$B$150","v":0},{"$f":"'Кэш-фло'!S6/(1+Данные!$B$150)*Данные!$B$150","v":0},{"$f":"'Кэш-фло'!T6/(1+Данные!$B$150)*Данные!$B$150","v":0},{"$f":"'Кэш-фло'!U6/(1+Данные!$B$150)*Данные!$B$150","v":0},{"$f":"'Кэш-фло'!V6/(1+Данные!$B$150)*Данные!$B$150","v":0},{"$f":"'Кэш-фло'!W6/(1+Данные!$B$150)*Данные!$B$150","v":0},{"$f":"'Кэш-фло'!X6/(1+Данные!$B$150)*Данные!$B$150","v":0},{"$f":"'Кэш-фло'!Y6/(1+Данные!$B$150)*Данные!$B$150","v":0},{"$f":"'Кэш-фло'!Z6/(1+Данные!$B$150)*Данные!$B$150","v":0}]
["Суммарные налоговые поступления",{"$f":"SUM(B113:B117)","v":0},0,0,0,0,0,0,0,0,0,0,0,0,0,0,0,0,0,0,0,0,0,0,0]
["Дисконтированные налоговые поступления",{"$f":"B118/POWER(1+$B$110,0.0833333*Расчеты!$B$9*Расчеты!B1)","v":0},{"$f":"C118/POWER(1+$B$110,0.0833333*Расчеты!$B$9*Расчеты!C1)","v":0},{"$f":"D118/POWER(1+$B$110,0.0833333*Расчеты!$B$9*Расчеты!D1)","v":0},{"$f":"E118/POWER(1+$B$110,0.0833333*Расчеты!$B$9*Расчеты!E1)","v":0},{"$f":"F118/POWER(1+$B$110,0.0833333*Расчеты!$B$9*Расчеты!F1)","v":0},{"$f":"G118/POWER(1+$B$110,0.0833333*Расчеты!$B$9*Расчеты!G1)","v":0},{"$f":"H118/POWER(1+$B$110,0.0833333*Расчеты!$B$9*Расчеты!H1)","v":0},{"$f":"I118/POWER(1+$B$110,0.0833333*Расчеты!$B$9*Расчеты!I1)","v":0},{"$f":"J118/POWER(1+$B$110,0.0833333*Расчеты!$B$9*Расчеты!J1)","v":0},{"$f":"K118/POWER(1+$B$110,0.0833333*Расчеты!$B$9*Расчеты!K1)","v":0},{"$f":"L118/POWER(1+$B$110,0.0833333*Расчеты!$B$9*Расчеты!L1)","v":0},{"$f":"M118/POWER(1+$B$110,0.0833333*Расчеты!$B$9*Расчеты!M1)","v":0},{"$f":"N118/POWER(1+$B$110,0.0833333*Расчеты!$B$9*Расчеты!N1)","v":0},{"$f":"O118/POWER(1+$B$110,0.0833333*Расчеты!$B$9*Расчеты!O1)","v":0},{"$f":"P118/POWER(1+$B$110,0.0833333*Расчеты!$B$9*Расчеты!P1)","v":0},{"$f":"Q118/POWER(1+$B$110,0.0833333*Расчеты!$B$9*Расчеты!Q1)","v":0},{"$f":"R118/POWER(1+$B$110,0.0833333*Расчеты!$B$9*Расчеты!R1)","v":0},{"$f":"S118/POWER(1+$B$110,0.0833333*Расчеты!$B$9*Расчеты!S1)","v":0},{"$f":"T118/POWER(1+$B$110,0.0833333*Расчеты!$B$9*Расчеты!T1)","v":0},{"$f":"U118/POWER(1+$B$110,0.0833333*Расчеты!$B$9*Расчеты!U1)","v":0},{"$f":"V118/POWER(1+$B$110,0.0833333*Расчеты!$B$9*Расчеты!V1)","v":0},{"$f":"W118/POWER(1+$B$110,0.0833333*Расчеты!$B$9*Расчеты!W1)","v":0},{"$f":"X118/POWER(1+$B$110,0.0833333*Расчеты!$B$9*Расчеты!X1)","v":0},{"$f":"Y118/POWER(1+$B$110,0.0833333*Расчеты!$B$9*Расчеты!Y1)","v":0}]
[]
["Дисконтированные доходы бюджета",{"$f":"SUM($B$119:INDIRECT(ADDRESS(ROW(B119),1+PRJ_DURATION,,1)))","v":0}," USD"]

{"sheet":"Графики","index":5,"n_rows":48,"n_cols":1,"rows_kept":48,"cut":false,"hidden":false,"merged":[]}
[]
["Операционная деятельность"]
[]
[]
[]
[]
[]
[]
[]
[]
[]
[]
[]
[]
[]
[]
[]
[]
[]
[]
[]
[]
[]
[]
[]
["Чистый денежный поток"]
[]
[]
[]
[]
[]
[]
[]
[]
[]
[]
[]
[]
[]
[]
[]
[]
[]
[]
[]
[]
[]
["График окупаемости проекта"]

{"sheet":"SENS","index":6,"n_rows":24,"n_cols":11,"rows_kept":24,"cut":false,"hidden":false,"merged":[]}
[]
[]
[]
["Максимальные отклонения параметров"]
[]
["Зависимость NPV от отклонения параметров",0.05,0.1,0.15,0.2,0.25,0.3,0.35,0.4,0.45,0.5]
["Снижение объема продаж",0,0,0,0,0,0,0,0,0,0]
["Снижение цены продуктов/услуг",0,0,0,0,0,0,0,0,0,0]
["Увеличение прямых издержек",0,0,0,0,0,0,0,0,0,0]
["Увеличение постоянных издержек",0,0,0,0,0,0,0,0,0,0]
["Увеличение капитальных затрат",0,0,0,0,0,0,0,0,0,0]
["Увеличение процентной ставки",0,0,0,0,0,0,0,0,0,0]
[]
["Минимальные остатки на счете",0.05,0.1,0.15,0.2,0.25,0.3,0.35,0.4,0.45,0.5]
["Снижение объема продаж",0,0,0,0,0,0,0,0,0,0]
["Снижение цены продуктов/услуг",0,0,0,0,0,0,0,0,0,0]
["Увеличение прямых издержек",0,0,0,0,0,0,0,0,0,0]
["Увеличение постоянных издержек",0,0,0,0,0,0,0,0,0,0]
["Увеличение капитальных затрат",0,0,0,0,0,0,0,0,0,0]
["Увеличение процентной ставки",0,0,0,0,0,0,0,0,0,0]
[]
["Минимальные остатки на счете показывают запас финансовых ресурсов, которым вы располагаете."]
["Отрицательный остаток означает недостаточность финансирования, в некоторые моменты"]
["проекта вы не сможете осуществлять необходимые платежи."]

{"sheet":"Расчеты","index":7,"n_rows":64,"n_cols":25,"rows_kept":64,"cut":false,"hidden":true,"merged":[[31,0,31,12],[37,0,37,12]]}
["Номер периода",1,2,3,4,5,6,7,8,9,10,11,12,13,14,15,16,17,18,19,20,21,22,23,24]
[]
[null,null,"Периоды","Продукты","Месяцы","Годы","Начало периодов","Названия периодов"]
["Длительности периодов:","месяц",1,1,"янв",2018,{"$f":"DATE(B13,B11,1)","v":"2019-01-01"},{"$f":"CHOOSE($B$8,MONTH(G4) & \"/\",ROUNDUP(MONTH(G4)/3,0) & IF(CURLANGUAGE=1,\" кв./\",\" q./\"),ROUNDUP(MONTH(G4)/6,0) & \"/\",\"\") & YEAR(G4)","v":"1 кв./2019"}]
[null,"квартал",2,2,"фев",2019,{"$f":"DATE(YEAR(G4),MONTH(G4)+$B$9,1)","v":"2019-04-01"},{"$f":"CHOOSE($B$8,MONTH(G5) & \"/\",ROUNDUP(MONTH(G5)/3,0) & IF(CURLANGUAGE=1,\" кв./\",\" q./\"),ROUNDUP(MONTH(G5)/6,0) & \"/\",\"\") & YEAR(G5)","v":"2 кв./2019"}]
[null,"6 мес.",3,3,"мар",2020,"2019-07-01","3 кв./2019"]
[null,"год",4,4,"апр",2021,"2019-10-01","4 кв./2019"]
["Текущая длительность периода:",2,5,5,"май",2022,"2020-01-01","1 кв./2020"]
["Длительность периода (в месяцах):",{"$f":"CHOOSE(B8,1,3,6,12)","v":3},6,6,"июн",2023,"2020-04-01","2 кв./2020"]
["Число периодов",8,7,7,"июл",2024,"2020-07-01","3 кв./2020"]
["Первый месяц",1,8,8,"авг",2025,"2020-10-01","4 кв./2020"]
["Первый год - позиция в списке",1,9,9,"сен",2026,"2021-01-01","1 кв./2021"]
["Первый год",{"$f":"F4+B12","v":2019},10,10,"окт",2027,"2021-04-01","2 кв./2021"]
[null,null,11,11,"ноя",2028,"2021-07-01","3 кв./2021"]
["Число продуктов в проекте",3,12,12,"дек",null,{"$f":"DATE(YEAR(G14),MONTH(G14)+$B$9,1)","v":"2021-10-01"},"4 кв./2021"]
[null,null,13,13,null,null,{"$f":"DATE(YEAR(G15),MONTH(G15)+$B$9,1)","v":"2022-01-01"},"1 кв./2022"]
["Позиции начала списков продуктов",{"$f":"ROW(Данные!A12)","v":12},14,14,null,null,"2022-04-01","2 кв./2022"]
["Объем продаж",{"$f":"ROW(Данные!A40)","v":40},15,15,null,null,"2022-07-01","3 кв./2022"]
["Цена продажи",{"$f":"ROW(Данные!A62)","v":62},16,16,null,null,"2022-10-01","4 кв./2022"]
["Материалы и комплектующие",{"$f":"ROW(Данные!A84)","v":84},17,17,null,null,"2023-01-01","1 кв./2023"]
["Сдельная зарплата",{"$f":"ROW(Данные!A106)","v":106},18,18,null,null,"2023-04-01","2 кв./2023"]
["Анализ продаж по продуктам",{"$f":"ROW(Анализ!A44)","v":44},19,19,null,null,"2023-07-01","3 кв./2023"]
["Анализ издержек по продуктам",{"$f":"ROW(Анализ!A65)","v":65},20,20,null,null,"2023-10-01","4 кв./2023"]
["Анализ сдельной по продуктам",{"$f":"ROW(Анализ!A86)","v":86},21,null,null,null,"2024-01-01","1 кв./2024"]
[null,null,22,null,null,null,"2024-04-01","2 кв./2024"]
[null,null,23,null,null,null,"2024-07-01","3 кв./2024"]
[null,null,24,null,null,null,"2024-10-01","4 кв./2024"]
["Сходимость баланса",{"$f":"IF(ABS(SUM(Баланс!C16:N16)-SUM(Баланс!C25:N25))<1,\"OK\",\"Ошибка!\")","v":"OK"}]
["Расчет срока окупаемости",{"$f":"SIGN(Анализ!B37)","v":0},{"$f":"SIGN(Анализ!C37)","v":0},{"$f":"SIGN(Анализ!D37)","v":0},{"$f":"SIGN(Анализ!E37)","v":0},{"$f":"SIGN(Анализ!F37)","v":0},{"$f":"SIGN(Анализ!G37)","v":0},{"$f":"SIGN(Анализ!H37)","v":0},{"$f":"SIGN(Анализ!I37)","v":0},{"$f":"SIGN(Анализ!J37)","v":0},{"$f":"SIGN(Анализ!K37)","v":0},{"$f":"SIGN(Анализ!L37)","v":0},{"$f":"SIGN(Анализ!M37)","v":0},{"$f":"SIGN(Анализ!N37)","v":0},{"$f":"SIGN(Анализ!O37)","v":0},{"$f":"SIGN(Анализ!P37)","v":0},{"$f":"SIGN(Анализ!Q37)","v":0},{"$f":"SIGN(Анализ!R37)","v":0},{"$f":"SIGN(Анализ!S37)","v":0},{"$f":"SIGN(Анализ!T37)","v":0},{"$f":"SIGN(Анализ!U37)","v":0},{"$f":"SIGN(Анализ!V37)","v":0},{"$f":"SIGN(Анализ!W37)","v":0},{"$f":"SIGN(Анализ!X37)","v":0},{"$f":"SIGN(Анализ!Y37)","v":0}]
["Срок окупаемости",{"$f":"(MATCH(1,B29:INDIRECT(ADDRESS(ROW(B29),1+PRJ_DURATION,,1)),0)-1)*B9","v":{"$error":"#N/A"}}]
[]
["Стоимость активов"]
["   здания и сооружения ",{"$f":"Данные!C165+Данные!C203+Данные!C213","v":0},{"$f":"B33+Данные!D203+Данные!D213","v":0},{"$f":"C33+Данные!E203+Данные!E213","v":0},{"$f":"D33+Данные!F203+Данные!F213","v":0},{"$f":"E33+Данные!G203+Данные!G213","v":0},{"$f":"F33+Данные!H203+Данные!H213","v":0},{"$f":"G33+Данные!I203+Данные!I213","v":0},{"$f":"H33+Данные!J203+Данные!J213","v":0},{"$f":"I33+Данные!K203+Данные!K213","v":0},{"$f":"J33+Данные!L203+Данные!L213","v":0},{"$f":"K33+Данные!M203+Данные!M213","v":0},{"$f":"L33+Данные!N203+Данные!N213","v":0},{"$f":"M33+Данные!O203+Данные!O213","v":0},{"$f":"N33+Данные!P203+Данные!P213","v":0},{"$f":"O33+Данные!Q203+Данные!Q213","v":0},{"$f":"P33+Данные!R203+Данные!R213","v":0},{"$f":"Q33+Данные!S203+Данные!S213","v":0},{"$f":"R33+Данные!T203+Данные!T213","v":0},{"$f":"S33+Данные!U203+Данные!U213","v":0},{"$f":"T33+Данные!V203+Данные!V213","v":0},{"$f":"U33+Данные!W203+Данные!W213","v":0},{"$f":"V33+Данные!X203+Данные!X213","v":0},{"$f":"W33+Данные!Y203+Данные!Y213","v":0},{"$f":"X33+Данные!Z203+Данные!Z213","v":0}]
["   оборудование",{"$f":"Данные!C166+Данные!C204","v":0},{"$f":"B34+Данные!D204","v":0},{"$f":"C34+Данные!E204","v":0},{"$f":"D34+Данные!F204","v":0},{"$f":"E34+Данные!G204","v":0},{"$f":"F34+Данные!H204","v":0},{"$f":"G34+Данные!I204","v":0},{"$f":"H34+Данные!J204","v":0},{"$f":"I34+Данные!K204","v":0},{"$f":"J34+Данные!L204","v":0},{"$f":"K34+Данные!M204","v":0},{"$f":"L34+Данные!N204","v":0},{"$f":"M34+Данные!O204","v":0},{"$f":"N34+Данные!P204","v":0},{"$f":"O34+Данные!Q204","v":0},{"$f":"P34+Данные!R204","v":0},{"$f":"Q34+Данные!S204","v":0},{"$f":"R34+Данные!T204","v":0},{"$f":"S34+Данные!U204","v":0},{"$f":"T34+Данные!V204","v":0},{"$f":"U34+Данные!W204","v":0},{"$f":"V34+Данные!X204","v":0},{"$f":"W34+Данные!Y204","v":0},{"$f":"X34+Данные!Z204","v":0}]
["   транспортные средства",{"$f":"Данные!C167+Данные!C205","v":0},{"$f":"B35+Данные!D205","v":0},{"$f":"C35+Данные!E205","v":0},{"$f":"D35+Данные!F205","v":0},{"$f":"E35+Данные!G205","v":0},{"$f":"F35+Данные!H205","v":0},{"$f":"G35+Данные!I205","v":0},{"$f":"H35+Данные!J205","v":0},{"$f":"I35+Данные!K205","v":0},{"$f":"J35+Данные!L205","v":0},{"$f":"K35+Данные!M205","v":0},{"$f":"L35+Данные!N205","v":0},{"$f":"M35+Данные!O205","v":0},{"$f":"N35+Данные!P205","v":0},{"$f":"O35+Данные!Q205","v":0},{"$f":"P35+Данные!R205","v":0},{"$f":"Q35+Данные!S205","v":0},{"$f":"R35+Данные!T205","v":0},{"$f":"S35+Данные!U205","v":0},{"$f":"T35+Данные!V205","v":0},{"$f":"U35+Данные!W205","v":0},{"$f":"V35+Данные!X205","v":0},{"$f":"W35+Данные!Y205","v":0},{"$f":"X35+Данные!Z205","v":0}]
["   оргтехника",{"$f":"Данные!C168+Данные!C206","v":0},{"$f":"B36+Данные!D206","v":0},{"$f":"C36+Данные!E206","v":0},{"$f":"D36+Данные!F206","v":0},{"$f":"E36+Данные!G206","v":0},{"$f":"F36+Данные!H206","v":0},{"$f":"G36+Данные!I206","v":0},{"$f":"H36+Данные!J206","v":0},{"$f":"I36+Данные!K206","v":0},{"$f":"J36+Данные!L206","v":0},{"$f":"K36+Данные!M206","v":0},{"$f":"L36+Данные!N206","v":0},{"$f":"M36+Данные!O206","v":0},{"$f":"N36+Данные!P206","v":0},{"$f":"O36+Данные!Q206","v":0},{"$f":"P36+Данные!R206","v":0},{"$f":"Q36+Данные!S206","v":0},{"$f":"R36+Данные!T206","v":0},{"$f":"S36+Данные!U206","v":0},{"$f":"T36+Данные!V206","v":0},{"$f":"U36+Данные!W206","v":0},{"$f":"V36+Данные!X206","v":0},{"$f":"W36+Данные!Y206","v":0},{"$f":"X36+Данные!Z206","v":0}]
["   прочие ОС",{"$f":"Данные!C169+Данные!C207","v":0},{"$f":"B37+Данные!D207","v":0},{"$f":"C37+Данные!E207","v":0},{"$f":"D37+Данные!F207","v":0},{"$f":"E37+Данные!G207","v":0},{"$f":"F37+Данные!H207","v":0},{"$f":"G37+Данные!I207","v":0},{"$f":"H37+Данные!J207","v":0},{"$f":"I37+Данные!K207","v":0},{"$f":"J37+Данные!L207","v":0},{"$f":"K37+Данные!M207","v":0},{"$f":"L37+Данные!N207","v":0},{"$f":"M37+Данные!O207","v":0},{"$f":"N37+Данные!P207","v":0},{"$f":"O37+Данные!Q207","v":0},{"$f":"P37+Данные!R207","v":0},{"$f":"Q37+Данные!S207","v":0},{"$f":"R37+Данные!T207","v":0},{"$f":"S37+Данные!U207","v":0},{"$f":"T37+Данные!V207","v":0},{"$f":"U37+Данные!W207","v":0},{"$f":"V37+Данные!X207","v":0},{"$f":"W37+Данные!Y207","v":0},{"$f":"X37+Данные!Z207","v":0}]
["Накопленная амортизация"]
["   здания и сооружения ",{"$f":"Прибыль!C20","v":0},{"$f":"B39+Прибыль!D20","v":0},{"$f":"C39+Прибыль!E20","v":0},{"$f":"D39+Прибыль!F20","v":0},{"$f":"E39+Прибыль!G20","v":0},{"$f":"F39+Прибыль!H20","v":0},{"$f":"G39+Прибыль!I20","v":0},{"$f":"H39+Прибыль!J20","v":0},{"$f":"I39+Прибыль!K20","v":0},{"$f":"J39+Прибыль!L20","v":0},{"$f":"K39+Прибыль!M20","v":0},{"$f":"L39+Прибыль!N20","v":0},{"$f":"M39+Прибыль!O20","v":0},{"$f":"N39+Прибыль!P20","v":0},{"$f":"O39+Прибыль!Q20","v":0},{"$f":"P39+Прибыль!R20","v":0},{"$f":"Q39+Прибыль!S20","v":0},{"$f":"R39+Прибыль!T20","v":0},{"$f":"S39+Прибыль!U20","v":0},{"$f":"T39+Прибыль!V20","v":0},{"$f":"U39+Прибыль!W20","v":0},{"$f":"V39+Прибыль!X20","v":0},{"$f":"W39+Прибыль!Y20","v":0},{"$f":"X39+Прибыль!Z20","v":0}]
["   оборудование",{"$f":"Прибыль!C21","v":0},{"$f":"B40+Прибыль!D21","v":0},{"$f":"C40+Прибыль!E21","v":0},{"$f":"D40+Прибыль!F21","v":0},{"$f":"E40+Прибыль!G21","v":0},{"$f":"F40+Прибыль!H21","v":0},{"$f":"G40+Прибыль!I21","v":0},{"$f":"H40+Прибыль!J21","v":0},{"$f":"I40+Прибыль!K21","v":0},{"$f":"J40+Прибыль!L21","v":0},{"$f":"K40+Прибыль!M21","v":0},{"$f":"L40+Прибыль!N21","v":0},{"$f":"M40+Прибыль!O21","v":0},{"$f":"N40+Прибыль!P21","v":0},{"$f":"O40+Прибыль!Q21","v":0},{"$f":"P40+Прибыль!R21","v":0},{"$f":"Q40+Прибыль!S21","v":0},{"$f":"R40+Прибыль!T21","v":0},{"$f":"S40+Прибыль!U21","v":0},{"$f":"T40+Прибыль!V21","v":0},{"$f":"U40+Прибыль!W21","v":0},{"$f":"V40+Прибыль!X21","v":0},{"$f":"W40+Прибыль!Y21","v":0},{"$f":"X40+Прибыль!Z21","v":0}]
["   транспортные средства",{"$f":"Прибыль!C22","v":0},{"$f":"B41+Прибыль!D22","v":0},{"$f":"C41+Прибыль!E22","v":0},{"$f":"D41+Прибыль!F22","v":0},{"$f":"E41+Прибыль!G22","v":0},{"$f":"F41+Прибыль!H22","v":0},{"$f":"G41+Прибыль!I22","v":0},{"$f":"H41+Прибыль!J22","v":0},{"$f":"I41+Прибыль!K22","v":0},{"$f":"J41+Прибыль!L22","v":0},{"$f":"K41+Прибыль!M22","v":0},{"$f":"L41+Прибыль!N22","v":0},{"$f":"M41+Прибыль!O22","v":0},{"$f":"N41+Прибыль!P22","v":0},{"$f":"O41+Прибыль!Q22","v":0},{"$f":"P41+Прибыль!R22","v":0},{"$f":"Q41+Прибыль!S22","v":0},{"$f":"R41+Прибыль!T22","v":0},{"$f":"S41+Прибыль!U22","v":0},{"$f":"T41+Прибыль!V22","v":0},{"$f":"U41+Прибыль!W22","v":0},{"$f":"V41+Прибыль!X22","v":0},{"$f":"W41+Прибыль!Y22","v":0},{"$f":"X41+Прибыль!Z22","v":0}]
[]
[]
[]
["Разбор значений сдвигов:","целая","дробная"]
["Период сбора дебиторской задолженности",{"$f":"INT(DEBIT_PERIOD/30/PERIOD_LEN)","v":0},{"$f":"DEBIT_PERIOD/30/PERIOD_LEN-DEBIT_INT","v":0}]
["Период сбора кредиторской задолженности",{"$f":"INT(CREDIT_PERIOD/30/PERIOD_LEN)","v":0},{"$f":"CREDIT_PERIOD/30/PERIOD_LEN-CREDIT_INT","v":0}]
["Оборачиваемость запасов",{"$f":"INT(INVENT_PERIOD/30/PERIOD_LEN)","v":0},{"$f":"INVENT_PERIOD/30/PERIOD_LEN-INVENT_INT","v":0}]
[]
["Баланс НДС",{"$f":"B51-B52-B53","v":0},{"$f":"C51-C52-C53","v":0},0,0,0,0,0,0,0,0,0,0,{"$f":"N51-N52-N53","v":0},0,0,0,0,0,0,0,0,0,0,0]
["Выплата НДС за проданные товары",{"$f":"'Кэш-фло'!C3/(1+VAT)*VAT","v":0},{"$f":"'Кэш-фло'!D3/(1+VAT)*VAT","v":0},{"$f":"'Кэш-фло'!E3/(1+VAT)*VAT","v":0},{"$f":"'Кэш-фло'!F3/(1+VAT)*VAT","v":0},{"$f":"'Кэш-фло'!G3/(1+VAT)*VAT","v":0},{"$f":"'Кэш-фло'!H3/(1+VAT)*VAT","v":0},{"$f":"'Кэш-фло'!I3/(1+VAT)*VAT","v":0},{"$f":"'Кэш-фло'!J3/(1+VAT)*VAT","v":0},{"$f":"'Кэш-фло'!K3/(1+VAT)*VAT","v":0},{"$f":"'Кэш-фло'!L3/(1+VAT)*VAT","v":0},{"$f":"'Кэш-фло'!M3/(1+VAT)*VAT","v":0},{"$f":"'Кэш-фло'!N3/(1+VAT)*VAT","v":0},{"$f":"'Кэш-фло'!O3/(1+VAT)*VAT","v":0},{"$f":"'Кэш-фло'!P3/(1+VAT)*VAT","v":0},{"$f":"'Кэш-фло'!Q3/(1+VAT)*VAT","v":0},{"$f":"'Кэш-фло'!R3/(1+VAT)*VAT","v":0},{"$f":"'Кэш-фло'!S3/(1+VAT)*VAT","v":0},{"$f":"'Кэш-фло'!T3/(1+VAT)*VAT","v":0},{"$f":"'Кэш-фло'!U3/(1+VAT)*VAT","v":0},{"$f":"'Кэш-фло'!V3/(1+VAT)*VAT","v":0},{"$f":"'Кэш-фло'!W3/(1+VAT)*VAT","v":0},{"$f":"'Кэш-фло'!X3/(1+VAT)*VAT","v":0},{"$f":"'Кэш-фло'!Y3/(1+VAT)*VAT","v":0},{"$f":"'Кэш-фло'!Z3/(1+VAT)*VAT","v":0}]
["Возврат НДС за материалы и комплектующие",{"$f":"'Кэш-фло'!C4/(1+VAT)*VAT","v":0},{"$f":"'Кэш-фло'!D4/(1+VAT)*VAT","v":0},{"$f":"'Кэш-фло'!E4/(1+VAT)*VAT","v":0},{"$f":"'Кэш-фло'!F4/(1+VAT)*VAT","v":0},{"$f":"'Кэш-фло'!G4/(1+VAT)*VAT","v":0},{"$f":"'Кэш-фло'!H4/(1+VAT)*VAT","v":0},{"$f":"'Кэш-фло'!I4/(1+VAT)*VAT","v":0},{"$f":"'Кэш-фло'!J4/(1+VAT)*VAT","v":0},{"$f":"'Кэш-фло'!K4/(1+VAT)*VAT","v":0},{"$f":"'Кэш-фло'!L4/(1+VAT)*VAT","v":0},{"$f":"'Кэш-фло'!M4/(1+VAT)*VAT","v":0},{"$f":"'Кэш-фло'!N4/(1+VAT)*VAT","v":0},{"$f":"'Кэш-фло'!O4/(1+VAT)*VAT","v":0},{"$f":"'Кэш-фло'!P4/(1+VAT)*VAT","v":0},{"$f":"'Кэш-фло'!Q4/(1+VAT)*VAT","v":0},{"$f":"'Кэш-фло'!R4/(1+VAT)*VAT","v":0},{"$f":"'Кэш-фло'!S4/(1+VAT)*VAT","v":0},{"$f":"'Кэш-фло'!T4/(1+VAT)*VAT","v":0},{"$f":"'Кэш-фло'!U4/(1+VAT)*VAT","v":0},{"$f":"'Кэш-фло'!V4/(1+VAT)*VAT","v":0},{"$f":"'Кэш-фло'!W4/(1+VAT)*VAT","v":0},{"$f":"'Кэш-фло'!X4/(1+VAT)*VAT","v":0},{"$f":"'Кэш-фло'!Y4/(1+VAT)*VAT","v":0},{"$f":"'Кэш-фло'!Z4/(1+VAT)*VAT","v":0}]
["Возврат НДС за постоянные издержки",{"$f":"Прибыль!C13*VAT","v":0},{"$f":"Прибыль!D13*VAT","v":0},{"$f":"Прибыль!E13*VAT","v":0},{"$f":"Прибыль!F13*VAT","v":0},{"$f":"Прибыль!G13*VAT","v":0},{"$f":"Прибыль!H13*VAT","v":0},{"$f":"Прибыль!I13*VAT","v":0},{"$f":"Прибыль!J13*VAT","v":0},{"$f":"Прибыль!K13*VAT","v":0},{"$f":"Прибыль!L13*VAT","v":0},{"$f":"Прибыль!M13*VAT","v":0},{"$f":"Прибыль!N13*VAT","v":0},{"$f":"Прибыль!O13*VAT","v":0},{"$f":"Прибыль!P13*VAT","v":0},{"$f":"Прибыль!Q13*VAT","v":0},{"$f":"Прибыль!R13*VAT","v":0},{"$f":"Прибыль!S13*VAT","v":0},{"$f":"Прибыль!T13*VAT","v":0},{"$f":"Прибыль!U13*VAT","v":0},{"$f":"Прибыль!V13*VAT","v":0},{"$f":"Прибыль!W13*VAT","v":0},{"$f":"Прибыль!X13*VAT","v":0},{"$f":"Прибыль!Y13*VAT","v":0},{"$f":"Прибыль!Z13*VAT","v":0}]
[]
["График закупок материалов",{"$f":"IF(INVENT_FRA<0.01,IF(B1+INVENT_INT<PRJ_DURATION,INDEX(Анализ!$B$65:$Y$65,B1+INVENT_INT),0),IF(B1+INVENT_INT<PRJ_DURATION-1,INDEX(Анализ!$B$65:$Y$65,B1+INVENT_INT+1)*INVENT_FRA,0)+IF(B1+INVENT_INT<PRJ_DURATION,INDEX(Анализ!$B$65:$Y$65,B1+INVENT_INT)*(1-INVENT_FRA),0))","v":0},{"$f":"IF(INVENT_FRA<0.01,IF(C1+INVENT_INT<PRJ_DURATION,INDEX(Анализ!$B$65:$Y$65,C1+INVENT_INT),0),IF(C1+INVENT_INT<PRJ_DURATION-1,INDEX(Анализ!$B$65:$Y$65,C1+INVENT_INT+1)*INVENT_FRA,0)+IF(C1+INVENT_INT<PRJ_DURATION,INDEX(Анализ!$B$65:$Y$65,C1+INVENT_INT)*(1-INVENT_FRA),0))","v":0},{"$f":"IF(INVENT_FRA<0.01,IF(D1+INVENT_INT<PRJ_DURATION,INDEX(Анализ!$B$65:$Y$65,D1+INVENT_INT),0),IF(D1+INVENT_INT<PRJ_DURATION-1,INDEX(Анализ!$B$65:$Y$65,D1+INVENT_INT+1)*INVENT_FRA,0)+IF(D1+INVENT_INT<PRJ_DURATION,INDEX(Анализ!$B$65:$Y$65,D1+INVENT_INT)*(1-INVENT_FRA),0))","v":0},{"$f":"IF(INVENT_FRA<0.01,IF(E1+INVENT_INT<PRJ_DURATION,INDEX(Анализ!$B$65:$Y$65,E1+INVENT_INT),0),IF(E1+INVENT_INT<PRJ_DURATION-1,INDEX(Анализ!$B$65:$Y$65,E1+INVENT_INT+1)*INVENT_FRA,0)+IF(E1+INVENT_INT<PRJ_DURATION,INDEX(Анализ!$B$65:$Y$65,E1+INVENT_INT)*(1-INVENT_FRA),0))","v":0},{"$f":"IF(INVENT_FRA<0.01,IF(F1+INVENT_INT<PRJ_DURATION,INDEX(Анализ!$B$65:$Y$65,F1+INVENT_INT),0),IF(F1+INVENT_INT<PRJ_DURATION-1,INDEX(Анализ!$B$65:$Y$65,F1+INVENT_INT+1)*INVENT_FRA,0)+IF(F1+INVENT_INT<PRJ_DURATION,INDEX(Анализ!$B$65:$Y$65,F1+INVENT_INT)*(1-INVENT_FRA),0))","v":0},{"$f":"IF(INVENT_FRA<0.01,IF(G1+INVENT_INT<PRJ_DURATION,INDEX(Анализ!$B$65:$Y$65,G1+INVENT_INT),0),IF(G1+INVENT_INT<PRJ_DURATION-1,INDEX(Анализ!$B$65:$Y$65,G1+INVENT_INT+1)*INVENT_FRA,0)+IF(G1+INVENT_INT<PRJ_DURATION,INDEX(Анализ!$B$65:$Y$65,G1+INVENT_INT)*(1-INVENT_FRA),0))","v":0},{"$f":"IF(INVENT_FRA<0.01,IF(H1+INVENT_INT<PRJ_DURATION,INDEX(Анализ!$B$65:$Y$65,H1+INVENT_INT),0),IF(H1+INVENT_INT<PRJ_DURATION-1,INDEX(Анализ!$B$65:$Y$65,H1+INVENT_INT+1)*INVENT_FRA,0)+IF(H1+INVENT_INT<PRJ_DURATION,INDEX(Анализ!$B$65:$Y$65,H1+INVENT_INT)*(1-INVENT_FRA),0))","v":0},{"$f":"IF(INVENT_FRA<0.01,IF(I1+INVENT_INT<PRJ_DURATION,INDEX(Анализ!$B$65:$Y$65,I1+INVENT_INT),0),IF(I1+INVENT_INT<PRJ_DURATION-1,INDEX(Анализ!$B$65:$Y$65,I1+INVENT_INT+1)*INVENT_FRA,0)+IF(I1+INVENT_INT<PRJ_DURATION,INDEX(Анализ!$B$65:$Y$65,I1+INVENT_INT)*(1-INVENT_FRA),0))","v":0},{"$f":"IF(INVENT_FRA<0.01,IF(J1+INVENT_INT<PRJ_DURATION,INDEX(Анализ!$B$65:$Y$65,J1+INVENT_INT),0),IF(J1+INVENT_INT<PRJ_DURATION-1,INDEX(Анализ!$B$65:$Y$65,J1+INVENT_INT+1)*INVENT_FRA,0)+IF(J1+INVENT_INT<PRJ_DURATION,INDEX(Анализ!$B$65:$Y$65,J1+INVENT_INT)*(1-INVENT_FRA),0))","v":0},{"$f":"IF(INVENT_FRA<0.01,IF(K1+INVENT_INT<PRJ_DURATION,INDEX(Анализ!$B$65:$Y$65,K1+INVENT_INT),0),IF(K1+INVENT_INT<PRJ_DURATION-1,INDEX(Анализ!$B$65:$Y$65,K1+INVENT_INT+1)*INVENT_FRA,0)+IF(K1+INVENT_INT<PRJ_DURATION,INDEX(Анализ!$B$65:$Y$65,K1+INVENT_INT)*(1-INVENT_FRA),0))","v":0},{"$f":"IF(INVENT_FRA<0.01,IF(L1+INVENT_INT<PRJ_DURATION,INDEX(Анализ!$B$65:$Y$65,L1+INVENT_INT),0),IF(L1+INVENT_INT<PRJ_DURATION-1,INDEX(Анализ!$B$65:$Y$65,L1+INVENT_INT+1)*INVENT_FRA,0)+IF(L1+INVENT_INT<PRJ_DURATION,INDEX(Анализ!$B$65:$Y$65,L1+INVENT_INT)*(1-INVENT_FRA),0))","v":0},{"$f":"IF(INVENT_FRA<0.01,IF(M1+INVENT_INT<PRJ_DURATION,INDEX(Анализ!$B$65:$Y$65,M1+INVENT_INT),0),IF(M1+INVENT_INT<PRJ_DURATION-1,INDEX(Анализ!$B$65:$Y$65,M1+INVENT_INT+1)*INVENT_FRA,0)+IF(M1+INVENT_INT<PRJ_DURATION,INDEX(Анализ!$B$65:$Y$65,M1+INVENT_INT)*(1-INVENT_FRA),0))","v":0},{"$f":"IF(INVENT_FRA<0.01,IF(N1+INVENT_INT<PRJ_DURATION,INDEX(Анализ!$B$65:$Y$65,N1+INVENT_INT),0),IF(N1+INVENT_INT<PRJ_DURATION-1,INDEX(Анализ!$B$65:$Y$65,N1+INVENT_INT+1)*INVENT_FRA,0)+IF(N1+INVENT_INT<PRJ_DURATION,INDEX(Анализ!$B$65:$Y$65,N1+INVENT_INT)*(1-INVENT_FRA),0))","v":0},{"$f":"IF(INVENT_FRA<0.01,IF(O1+INVENT_INT<PRJ_DURATION,INDEX(Анализ!$B$65:$Y$65,O1+INVENT_INT),0),IF(O1+INVENT_INT<PRJ_DURATION-1,INDEX(Анализ!$B$65:$Y$65,O1+INVENT_INT+1)*INVENT_FRA,0)+IF(O1+INVENT_INT<PRJ_DURATION,INDEX(Анализ!$B$65:$Y$65,O1+INVENT_INT)*(1-INVENT_FRA),0))","v":0},{"$f":"IF(INVENT_FRA<0.01,IF(P1+INVENT_INT<PRJ_DURATION,INDEX(Анализ!$B$65:$Y$65,P1+INVENT_INT),0),IF(P1+INVENT_INT<PRJ_DURATION-1,INDEX(Анализ!$B$65:$Y$65,P1+INVENT_INT+1)*INVENT_FRA,0)+IF(P1+INVENT_INT<PRJ_DURATION,INDEX(Анализ!$B$65:$Y$65,P1+INVENT_INT)*(1-INVENT_FRA),0))","v":0},{"$f":"IF(INVENT_FRA<0.01,IF(Q1+INVENT_INT<PRJ_DURATION,INDEX(Анализ!$B$65:$Y$65,Q1+INVENT_INT),0),IF(Q1+INVENT_INT<PRJ_DURATION-1,INDEX(Анализ!$B$65:$Y$65,Q1+INVENT_INT+1)*INVENT_FRA,0)+IF(Q1+INVENT_INT<PRJ_DURATION,INDEX(Анализ!$B$65:$Y$65,Q1+INVENT_INT)*(1-INVENT_FRA),0))","v":0},{"$f":"IF(INVENT_FRA<0.01,IF(R1+INVENT_INT<PRJ_DURATION,INDEX(Анализ!$B$65:$Y$65,R1+INVENT_INT),0),IF(R1+INVENT_INT<PRJ_DURATION-1,INDEX(Анализ!$B$65:$Y$65,R1+INVENT_INT+1)*INVENT_FRA,0)+IF(R1+INVENT_INT<PRJ_DURATION,INDEX(Анализ!$B$65:$Y$65,R1+INVENT_INT)*(1-INVENT_FRA),0))","v":0},{"$f":"IF(INVENT_FRA<0.01,IF(S1+INVENT_INT<PRJ_DURATION,INDEX(Анализ!$B$65:$Y$65,S1+INVENT_INT),0),IF(S1+INVENT_INT<PRJ_DURATION-1,INDEX(Анализ!$B$65:$Y$65,S1+INVENT_INT+1)*INVENT_FRA,0)+IF(S1+INVENT_INT<PRJ_DURATION,INDEX(Анализ!$B$65:$Y$65,S1+INVENT_INT)*(1-INVENT_FRA),0))","v":0},{"$f":"IF(INVENT_FRA<0.01,IF(T1+INVENT_INT<PRJ_DURATION,INDEX(Анализ!$B$65:$Y$65,T1+INVENT_INT),0),IF(T1+INVENT_INT<PRJ_DURATION-1,INDEX(Анализ!$B$65:$Y$65,T1+INVENT_INT+1)*INVENT_FRA,0)+IF(T1+INVENT_INT<PRJ_DURATION,INDEX(Анализ!$B$65:$Y$65,T1+INVENT_INT)*(1-INVENT_FRA),0))","v":0},{"$f":"IF(INVENT_FRA<0.01,IF(U1+INVENT_INT<PRJ_DURATION,INDEX(Анализ!$B$65:$Y$65,U1+INVENT_INT),0),IF(U1+INVENT_INT<PRJ_DURATION-1,INDEX(Анализ!$B$65:$Y$65,U1+INVENT_INT+1)*INVENT_FRA,0)+IF(U1+INVENT_INT<PRJ_DURATION,INDEX(Анализ!$B$65:$Y$65,U1+INVENT_INT)*(1-INVENT_FRA),0))","v":0},{"$f":"IF(INVENT_FRA<0.01,IF(V1+INVENT_INT<PRJ_DURATION,INDEX(Анализ!$B$65:$Y$65,V1+INVENT_INT),0),IF(V1+INVENT_INT<PRJ_DURATION-1,INDEX(Анализ!$B$65:$Y$65,V1+INVENT_INT+1)*INVENT_FRA,0)+IF(V1+INVENT_INT<PRJ_DURATION,INDEX(Анализ!$B$65:$Y$65,V1+INVENT_INT)*(1-INVENT_FRA),0))","v":0},{"$f":"IF(INVENT_FRA<0.01,IF(W1+INVENT_INT<PRJ_DURATION,INDEX(Анализ!$B$65:$Y$65,W1+INVENT_INT),0),IF(W1+INVENT_INT<PRJ_DURATION-1,INDEX(Анализ!$B$65:$Y$65,W1+INVENT_INT+1)*INVENT_FRA,0)+IF(W1+INVENT_INT<PRJ_DURATION,INDEX(Анализ!$B$65:$Y$65,W1+INVENT_INT)*(1-INVENT_FRA),0))","v":0},{"$f":"IF(INVENT_FRA<0.01,IF(X1+INVENT_INT<PRJ_DURATION,INDEX(Анализ!$B$65:$Y$65,X1+INVENT_INT),0),IF(X1+INVENT_INT<PRJ_DURATION-1,INDEX(Анализ!$B$65:$Y$65,X1+INVENT_INT+1)*INVENT_FRA,0)+IF(X1+INVENT_INT<PRJ_DURATION,INDEX(Анализ!$B$65:$Y$65,X1+INVENT_INT)*(1-INVENT_FRA),0))","v":0},{"$f":"IF(INVENT_FRA<0.01,IF(Y1+INVENT_INT<PRJ_DURATION,INDEX(Анализ!$B$65:$Y$65,Y1+INVENT_INT),0),IF(Y1+INVENT_INT<PRJ_DURATION-1,INDEX(Анализ!$B$65:$Y$65,Y1+INVENT_INT+1)*INVENT_FRA,0)+IF(Y1+INVENT_INT<PRJ_DURATION,INDEX(Анализ!$B$65:$Y$65,Y1+INVENT_INT)*(1-INVENT_FRA),0))","v":0}]
[]
["Максимальное число периодов:",24,null,0.2]
["Данные для меню выбора языка:","Русский",null,0.25]
[null,"Английский",null,0.3]
["Текущее значение выбранного языка:",1,null,0.35]
["Максимальная длительность проекта:",24,null,0.4]
[null,null,null,0.45]
["Минимальные остатки на счете",{"$f":"MIN('Кэш-фло'!$C$23:INDIRECT(ADDRESS(ROW('Кэш-фло'!C23),1+PRJ_DURATION,,1,\"Кэш-фло\")))","v":0},null,0.5]
["Текущее максимальное отклонение:",7]